BEGIN:VCALENDAR
VERSION:2.0
PRODID:-//Events - ECPv6.15.20//NONSGML v1.0//EN
CALSCALE:GREGORIAN
METHOD:PUBLISH
X-WR-CALNAME:Events
X-ORIGINAL-URL:https://www.monmouth.edu/events
X-WR-CALDESC:Events for Events
REFRESH-INTERVAL;VALUE=DURATION:PT1H
X-Robots-Tag:noindex
X-PUBLISHED-TTL:PT1H
BEGIN:VTIMEZONE
TZID:America/New_York
BEGIN:DAYLIGHT
TZOFFSETFROM:-0500
TZOFFSETTO:-0400
TZNAME:EDT
DTSTART:20100314T070000
END:DAYLIGHT
BEGIN:STANDARD
TZOFFSETFROM:-0400
TZOFFSETTO:-0500
TZNAME:EST
DTSTART:20101107T060000
END:STANDARD
BEGIN:DAYLIGHT
TZOFFSETFROM:-0500
TZOFFSETTO:-0400
TZNAME:EDT
DTSTART:20110313T070000
END:DAYLIGHT
BEGIN:STANDARD
TZOFFSETFROM:-0400
TZOFFSETTO:-0500
TZNAME:EST
DTSTART:20111106T060000
END:STANDARD
BEGIN:DAYLIGHT
TZOFFSETFROM:-0500
TZOFFSETTO:-0400
TZNAME:EDT
DTSTART:20120311T070000
END:DAYLIGHT
BEGIN:STANDARD
TZOFFSETFROM:-0400
TZOFFSETTO:-0500
TZNAME:EST
DTSTART:20121104T060000
END:STANDARD
END:VTIMEZONE
BEGIN:VEVENT
DTSTART;TZID=America/New_York:20110906T190000
DTEND;TZID=America/New_York:20111014T190000
DTSTAMP:20260424T101409
CREATED:20180725T204855Z
LAST-MODIFIED:20190228T150946Z
UID:40810103822-1315335600-1318618800@www.monmouth.edu
SUMMARY:Languor Temperance Repose
DESCRIPTION:An invitational photography exhibition featuring the work of eleven artists from across the United States. \nThe artists in this exhibition cover a great deal of photographic ground including the traditions of the still life\, landscape\, abstraction and the constructed or fabricated image using analog and digital practices in color and black and white. Curated by Specialist Professor\, Anne Leighton Massoni. \n  \nLecture at Wilson Hall Auditorium: \nThursday\, September 22\, 4:30 p.m. – 5:30 p.m. \nOpening Reception at Gallery: \nThursday\, September 22\, 5:30 p.m. – 7:00 p.m. \n 
URL:https://www.monmouth.edu/events/event/languor-temperance-repose/
LOCATION:Rotary Ice House Gallery
ATTACH;FMTTYPE=image/jpeg:https://www.monmouth.edu/events/wp-content/uploads/sites/19/2018/07/languor_thumb.jpg
END:VEVENT
BEGIN:VEVENT
DTSTART;TZID=America/New_York:20111006T163000
DTEND;TZID=America/New_York:20111006T163000
DTSTAMP:20260424T101409
CREATED:20180725T204821Z
LAST-MODIFIED:20190102T151525Z
UID:40810103729-1317918600-1317918600@www.monmouth.edu
SUMMARY:Nick Flynn
DESCRIPTION:Nick Flynn is the author of two memoirs\, The Ticking is the Bomb: A Memoir of Bewilderment (Norton\, 2010) and Another Bullshit Night in Suck City (Norton\, 2004)\, which won the PEN/Martha Albrand Award for the Art of the Memoir and has been translated into 13 languages. Another Bullshit Night in Suck City is currently being made into a film\, entitled Welcome to Suck City\, starring Robert DeNiro as Flynn’s father\, due for release in 2011. Flynn is also the author of three books of poetry\, The Captain Asks For a Show of Hands(Graywolf\, 2011)\, Some Ether(Graywolf\, 2000)\, which won the PEN/Joyce Osterweil Award\, and Blind Huber (Graywolf\, 2002). He has been awarded fellowships from The Guggenheim Foundation and The Library of Congress. His poems\, essays\, and non-fiction have appeared in The New Yorker\, the Paris Review\, National Public Radio’s “This American Life\,” and The New York Times Book Review.
URL:https://www.monmouth.edu/events/event/nick-flynn/
ATTACH;FMTTYPE=image/jpeg:https://www.monmouth.edu/events/wp-content/uploads/sites/19/2018/07/nick_flynn_thumb.jpg
END:VEVENT
END:VCALENDAR