BEGIN:VCALENDAR
VERSION:2.0
PRODID:-//Events - ECPv6.15.20//NONSGML v1.0//EN
CALSCALE:GREGORIAN
METHOD:PUBLISH
X-ORIGINAL-URL:https://www.monmouth.edu/events
X-WR-CALDESC:Events for Events
REFRESH-INTERVAL;VALUE=DURATION:PT1H
X-Robots-Tag:noindex
X-PUBLISHED-TTL:PT1H
BEGIN:VTIMEZONE
TZID:America/New_York
BEGIN:DAYLIGHT
TZOFFSETFROM:-0500
TZOFFSETTO:-0400
TZNAME:EDT
DTSTART:20100314T070000
END:DAYLIGHT
BEGIN:STANDARD
TZOFFSETFROM:-0400
TZOFFSETTO:-0500
TZNAME:EST
DTSTART:20101107T060000
END:STANDARD
BEGIN:DAYLIGHT
TZOFFSETFROM:-0500
TZOFFSETTO:-0400
TZNAME:EDT
DTSTART:20110313T070000
END:DAYLIGHT
BEGIN:STANDARD
TZOFFSETFROM:-0400
TZOFFSETTO:-0500
TZNAME:EST
DTSTART:20111106T060000
END:STANDARD
BEGIN:DAYLIGHT
TZOFFSETFROM:-0500
TZOFFSETTO:-0400
TZNAME:EDT
DTSTART:20120311T070000
END:DAYLIGHT
BEGIN:STANDARD
TZOFFSETFROM:-0400
TZOFFSETTO:-0500
TZNAME:EST
DTSTART:20121104T060000
END:STANDARD
END:VTIMEZONE
BEGIN:VEVENT
DTSTART;TZID=America/New_York:20110426T163000
DTEND;TZID=America/New_York:20110426T163000
DTSTAMP:20260424T101441
CREATED:20180725T204823Z
LAST-MODIFIED:20190102T154208Z
UID:40810103735-1303835400-1303835400@www.monmouth.edu
SUMMARY:Jennifer Grotz
DESCRIPTION:Jennifer Grotz’s second book of poems\, The Needle\, is forthcoming in Spring 2011. Her first book of poems\, Cusp\, was chosen by Yusef Komunyakaa for the Bakeless Prize and also received the Natalie Ornish Best First Book Award from the Texas Institute of Letters. Her poems\, essays and translations from both the French and Polish appear widely in journals such as New England Review\, Kenyon Review\, Ploughshares\, and American Poetry Review\, and in anthologies such as Best American Poetry and Legitimate Dangers. She teaches poetry and translation at the University of Rochester and also serves as the assistant director of the Bread Loaf Writers’ Conference.
URL:https://www.monmouth.edu/events/event/jennifer-grotz/
ATTACH;FMTTYPE=image/jpeg:https://www.monmouth.edu/events/wp-content/uploads/sites/19/2018/07/grotz_thumbnail.jpg
END:VEVENT
END:VCALENDAR