BEGIN:VCALENDAR
VERSION:2.0
PRODID:-//Events - ECPv6.15.20//NONSGML v1.0//EN
CALSCALE:GREGORIAN
METHOD:PUBLISH
X-ORIGINAL-URL:https://www.monmouth.edu/events
X-WR-CALDESC:Events for Events
REFRESH-INTERVAL;VALUE=DURATION:PT1H
X-Robots-Tag:noindex
X-PUBLISHED-TTL:PT1H
BEGIN:VTIMEZONE
TZID:America/New_York
BEGIN:DAYLIGHT
TZOFFSETFROM:-0500
TZOFFSETTO:-0400
TZNAME:EDT
DTSTART:20090308T070000
END:DAYLIGHT
BEGIN:STANDARD
TZOFFSETFROM:-0400
TZOFFSETTO:-0500
TZNAME:EST
DTSTART:20091101T060000
END:STANDARD
BEGIN:DAYLIGHT
TZOFFSETFROM:-0500
TZOFFSETTO:-0400
TZNAME:EDT
DTSTART:20100314T070000
END:DAYLIGHT
BEGIN:STANDARD
TZOFFSETFROM:-0400
TZOFFSETTO:-0500
TZNAME:EST
DTSTART:20101107T060000
END:STANDARD
BEGIN:DAYLIGHT
TZOFFSETFROM:-0500
TZOFFSETTO:-0400
TZNAME:EDT
DTSTART:20110313T070000
END:DAYLIGHT
BEGIN:STANDARD
TZOFFSETFROM:-0400
TZOFFSETTO:-0500
TZNAME:EST
DTSTART:20111106T060000
END:STANDARD
END:VTIMEZONE
BEGIN:VEVENT
DTSTART;TZID=America/New_York:20100921T163000
DTEND;TZID=America/New_York:20100921T163000
DTSTAMP:20260423T064535
CREATED:20180725T204834Z
LAST-MODIFIED:20190102T160253Z
UID:40810103744-1285086600-1285086600@www.monmouth.edu
SUMMARY:Mihaela Mosculiuc
DESCRIPTION:Mihaela Mosculiuc \nPart of the South-Central-Eastern Europe: Legacies and Identities Project \nBorn and raised in Romania\, Mihaela Moscaliuc came to the United States in 1996 to complete graduate work in American literature. She received an M.A. from Salisbury University\, an M.F.A. in poetry from New England College\, and a Ph.D. in American Literature from the University of Maryland. Her poetry collection\, Father Dirt (winner of the Kinereth Gensler Award) appeared from Alice James Books in 2010\, and her co-translation of Carmelia Leonte’s Death Searches for You a Second Time was published by Red Dragonfly Press in 2003. She has lectured on Eastern European American immigration literature\, Roma/Gypsy culture\, and translation theory at universities in the US and in Europe. Her translations of Romanian poetry appear in Arts & Letters\, Mississippi Review\, Connecticut Review\, America\, Absinthe\,and Mid-American Review. She has published poems\, reviews\, and articles in The Georgia Review\, Prairie Schooner\, TriQuarterly\, New Letters\, Poetry International\,Pleiades\, Interculturality and Translation\, Soundings\, and Orient and Orientalisms in American Poetry and Poetics (Frankfurt: Lang\, 2009).
URL:https://www.monmouth.edu/events/event/mihaela-mosculiuc/
ATTACH;FMTTYPE=image/jpeg:https://www.monmouth.edu/events/wp-content/uploads/sites/19/2018/07/mihaela_thumbnail.jpg
END:VEVENT
END:VCALENDAR