BEGIN:VCALENDAR
VERSION:2.0
PRODID:-//Events - ECPv6.15.20//NONSGML v1.0//EN
CALSCALE:GREGORIAN
METHOD:PUBLISH
X-ORIGINAL-URL:https://www.monmouth.edu/events
X-WR-CALDESC:Events for Events
REFRESH-INTERVAL;VALUE=DURATION:PT1H
X-Robots-Tag:noindex
X-PUBLISHED-TTL:PT1H
BEGIN:VTIMEZONE
TZID:America/New_York
BEGIN:DAYLIGHT
TZOFFSETFROM:-0500
TZOFFSETTO:-0400
TZNAME:EDT
DTSTART:20240310T070000
END:DAYLIGHT
BEGIN:STANDARD
TZOFFSETFROM:-0400
TZOFFSETTO:-0500
TZNAME:EST
DTSTART:20241103T060000
END:STANDARD
BEGIN:DAYLIGHT
TZOFFSETFROM:-0500
TZOFFSETTO:-0400
TZNAME:EDT
DTSTART:20250309T070000
END:DAYLIGHT
BEGIN:STANDARD
TZOFFSETFROM:-0400
TZOFFSETTO:-0500
TZNAME:EST
DTSTART:20251102T060000
END:STANDARD
BEGIN:DAYLIGHT
TZOFFSETFROM:-0500
TZOFFSETTO:-0400
TZNAME:EDT
DTSTART:20260308T070000
END:DAYLIGHT
BEGIN:STANDARD
TZOFFSETFROM:-0400
TZOFFSETTO:-0500
TZNAME:EST
DTSTART:20261101T060000
END:STANDARD
END:VTIMEZONE
BEGIN:VEVENT
DTSTART;TZID=America/New_York:20250102T000000
DTEND;TZID=America/New_York:20250102T235959
DTSTAMP:20260425T080317
CREATED:20240903T134648Z
LAST-MODIFIED:20240904T165458Z
UID:40810113272-1735776000-1735862399@www.monmouth.edu
SUMMARY:Classes Begin
DESCRIPTION:
URL:https://www.monmouth.edu/events/event/classes-begin-2/
CATEGORIES:Academic Calendar
END:VEVENT
BEGIN:VEVENT
DTSTART;TZID=America/New_York:20250102T000000
DTEND;TZID=America/New_York:20250103T235959
DTSTAMP:20260425T080317
CREATED:20240903T134724Z
LAST-MODIFIED:20240904T165449Z
UID:40810113275-1735776000-1735948799@www.monmouth.edu
SUMMARY:Late Registration / Drop – Add
DESCRIPTION:
URL:https://www.monmouth.edu/events/event/late-registration-drop-add-3/
CATEGORIES:Academic Calendar
END:VEVENT
BEGIN:VEVENT
DTSTART;TZID=America/New_York:20250110T000000
DTEND;TZID=America/New_York:20250110T235959
DTSTAMP:20260425T080317
CREATED:20240903T134747Z
LAST-MODIFIED:20240904T165437Z
UID:40810113278-1736467200-1736553599@www.monmouth.edu
SUMMARY:“W” Deadline
DESCRIPTION:
URL:https://www.monmouth.edu/events/event/w-deadline/
CATEGORIES:Academic Calendar
END:VEVENT
BEGIN:VEVENT
DTSTART;TZID=America/New_York:20250117T000000
DTEND;TZID=America/New_York:20250117T235959
DTSTAMP:20260425T080317
CREATED:20240903T134816Z
LAST-MODIFIED:20240904T165351Z
UID:40810113281-1737072000-1737158399@www.monmouth.edu
SUMMARY:Classes End
DESCRIPTION:
URL:https://www.monmouth.edu/events/event/classes-end/
CATEGORIES:Academic Calendar
END:VEVENT
BEGIN:VEVENT
DTSTART;TZID=America/New_York:20250122T000000
DTEND;TZID=America/New_York:20250122T235959
DTSTAMP:20260425T080317
CREATED:20240903T134840Z
LAST-MODIFIED:20240904T165319Z
UID:40810113284-1737504000-1737590399@www.monmouth.edu
SUMMARY:End of Final Grading Period
DESCRIPTION:
URL:https://www.monmouth.edu/events/event/end-of-final-grading-period-2/
CATEGORIES:Academic Calendar
END:VEVENT
BEGIN:VEVENT
DTSTART;TZID=America/New_York:20250123T190000
DTEND;TZID=America/New_York:20250123T220000
DTSTAMP:20260425T080317
CREATED:20250121T134523Z
LAST-MODIFIED:20250121T165300Z
UID:40810118002-1737658800-1737669600@www.monmouth.edu
SUMMARY:Carry the Love Tour 2025 at Monmouth
DESCRIPTION:Carry The Love is a Circuit Rider movement empowering university students to spark a Jesus movement right here at Monmouth University. This isn’t just an event—it’s a time for believers to unite\, be trained\, and get activated to reach your campus with the love and message of Jesus. \n​Together we can change the culture of your campus. This gathering is for those who are ready to move from dreaming to doing—so if you’re ready to take action\, this event is for you. \nWe hope to see you on Thursday night! \n– Monmouth University Cru Club \nRegistration link: https://lu.ma/3b433jio?tk=c4GoqH
URL:https://www.monmouth.edu/events/event/carry-the-love-tour-2025-at-monmouth/
LOCATION:Great Hall Auditorium
CATEGORIES:Featured Student Activites,Free,Special Events,Student Activities
ATTACH;FMTTYPE=image/jpeg:https://www.monmouth.edu/events/wp-content/uploads/sites/19/2025/01/Carry_The_Love_MU_Cru.jpg
END:VEVENT
BEGIN:VEVENT
DTSTART;TZID=America/New_York:20250127T183000
DTEND;TZID=America/New_York:20250127T200000
DTSTAMP:20260425T080317
CREATED:20250116T164058Z
LAST-MODIFIED:20250116T164058Z
UID:40810117897-1738002600-1738008000@www.monmouth.edu
SUMMARY:Exploring the “How” of Sustainability Transformations
DESCRIPTION: This talk by Dr. Robin Leichenko\,  of Rutgers University is part of the Climate Crisis Teach-in. \nAddressing the climate crisis and related challenges provides many opportunities for \npromoting sustainability transformations. Yet significant questions remain about what such \ntransformations might entail\, how to support them\, and how to sustain and scale these \nefforts. This talk explores the practical\, political\, and personal dimensions of \ntransformation\, drawing upon the model of the “Three Spheres of Transformation”.   The \ntalk also considers recent efforts to promote sustainability transformations\, based upon \nthe speaker’s work with university students and her on-going research on bicycling and \nnon-motorized transportation infrastructure. The talk discusses implications and lessons \nlearned from these case examples for fostering and supporting transformative change.
URL:https://www.monmouth.edu/events/event/exploring-the-how-of-sustainability-transformations/
LOCATION:Pollak Auditorium
CATEGORIES:Free,Lectures
ATTACH;FMTTYPE=image/jpeg:https://www.monmouth.edu/events/wp-content/uploads/sites/19/2025/01/Jan.-27-Leichenko-Event_slide2.jpg
ORGANIZER;CN="Climate Crisis Teach-in":MAILTO:cduckett@monmouth.edu
END:VEVENT
END:VCALENDAR