BEGIN:VCALENDAR
VERSION:2.0
PRODID:-//Events - ECPv6.15.20//NONSGML v1.0//EN
CALSCALE:GREGORIAN
METHOD:PUBLISH
X-ORIGINAL-URL:https://www.monmouth.edu/events
X-WR-CALDESC:Events for Events
REFRESH-INTERVAL;VALUE=DURATION:PT1H
X-Robots-Tag:noindex
X-PUBLISHED-TTL:PT1H
BEGIN:VTIMEZONE
TZID:America/New_York
BEGIN:DAYLIGHT
TZOFFSETFROM:-0500
TZOFFSETTO:-0400
TZNAME:EDT
DTSTART:20230312T070000
END:DAYLIGHT
BEGIN:STANDARD
TZOFFSETFROM:-0400
TZOFFSETTO:-0500
TZNAME:EST
DTSTART:20231105T060000
END:STANDARD
BEGIN:DAYLIGHT
TZOFFSETFROM:-0500
TZOFFSETTO:-0400
TZNAME:EDT
DTSTART:20240310T070000
END:DAYLIGHT
BEGIN:STANDARD
TZOFFSETFROM:-0400
TZOFFSETTO:-0500
TZNAME:EST
DTSTART:20241103T060000
END:STANDARD
BEGIN:DAYLIGHT
TZOFFSETFROM:-0500
TZOFFSETTO:-0400
TZNAME:EDT
DTSTART:20250309T070000
END:DAYLIGHT
BEGIN:STANDARD
TZOFFSETFROM:-0400
TZOFFSETTO:-0500
TZNAME:EST
DTSTART:20251102T060000
END:STANDARD
END:VTIMEZONE
BEGIN:VEVENT
DTSTART;TZID=America/New_York:20241113T140000
DTEND;TZID=America/New_York:20241113T153000
DTSTAMP:20260425T211753
CREATED:20241111T221838Z
LAST-MODIFIED:20241111T221838Z
UID:40810115762-1731506400-1731511800@www.monmouth.edu
SUMMARY:Neurodiversity Brain Collective - Interest Group Meeting
DESCRIPTION:An interest group aiming to become a club\, revolving around the interests and issues of neurodivergent students on campus\, with the goal of increasing overall campus awareness of neurodivergent needs\, and fostering genuine connection for neurodivergent students to the overall campus community. Please join to show your support and have your voice heard – neurotypical perspectives welcomed!
URL:https://www.monmouth.edu/events/event/neurodiversity-brain-collective-interest-group-meeting/
LOCATION:Intercultural Center Lounge
CATEGORIES:Intercultural Center Events
ATTACH;FMTTYPE=image/png:https://www.monmouth.edu/events/wp-content/uploads/sites/19/2024/11/NBCFlyer.png
END:VEVENT
END:VCALENDAR