BEGIN:VCALENDAR
VERSION:2.0
PRODID:-//Events - ECPv6.15.20//NONSGML v1.0//EN
CALSCALE:GREGORIAN
METHOD:PUBLISH
X-WR-CALNAME:Events
X-ORIGINAL-URL:https://www.monmouth.edu/events
X-WR-CALDESC:Events for Events
REFRESH-INTERVAL;VALUE=DURATION:PT1H
X-Robots-Tag:noindex
X-PUBLISHED-TTL:PT1H
BEGIN:VTIMEZONE
TZID:America/New_York
BEGIN:DAYLIGHT
TZOFFSETFROM:-0500
TZOFFSETTO:-0400
TZNAME:EDT
DTSTART:20180311T070000
END:DAYLIGHT
BEGIN:STANDARD
TZOFFSETFROM:-0400
TZOFFSETTO:-0500
TZNAME:EST
DTSTART:20181104T060000
END:STANDARD
BEGIN:DAYLIGHT
TZOFFSETFROM:-0500
TZOFFSETTO:-0400
TZNAME:EDT
DTSTART:20190310T070000
END:DAYLIGHT
BEGIN:STANDARD
TZOFFSETFROM:-0400
TZOFFSETTO:-0500
TZNAME:EST
DTSTART:20191103T060000
END:STANDARD
BEGIN:DAYLIGHT
TZOFFSETFROM:-0500
TZOFFSETTO:-0400
TZNAME:EDT
DTSTART:20200308T070000
END:DAYLIGHT
BEGIN:STANDARD
TZOFFSETFROM:-0400
TZOFFSETTO:-0500
TZNAME:EST
DTSTART:20201101T060000
END:STANDARD
END:VTIMEZONE
BEGIN:VEVENT
DTSTART;TZID=America/New_York:20190423T100500
DTEND;TZID=America/New_York:20190423T112500
DTSTAMP:20260419T103507
CREATED:20190320T141031Z
LAST-MODIFIED:20190320T185117Z
UID:40810104557-1556013900-1556018700@www.monmouth.edu
SUMMARY:Open Classroom: FITNESSGRAM Testing
DESCRIPTION:Students will teach their peers and the audience about specific FITNESSGRAM tests and each participant will be asked to be dressed for activity and to join.
URL:https://www.monmouth.edu/events/event/open-classroom-fitnessgram-testing/
LOCATION:Boylan Gym South
CATEGORIES:Student Scholarship Week
END:VEVENT
BEGIN:VEVENT
DTSTART;TZID=America/New_York:20190423T100500
DTEND;TZID=America/New_York:20190423T112500
DTSTAMP:20260419T103507
CREATED:20190320T141215Z
LAST-MODIFIED:20190405T134844Z
UID:40810104560-1556013900-1556018700@www.monmouth.edu
SUMMARY:Open Classroom: Evolution of a Language and Critical Thinking through the Study of the Latin Language
DESCRIPTION:Each student will make a presentation on the impact that the Latin language\, history and mythology had on them.
URL:https://www.monmouth.edu/events/event/open-classroom-evolution-of-a-language-and-critical-thinking-through-the-study-of-the-latin-language/
LOCATION:Plangere 115
CATEGORIES:Student Scholarship Week
END:VEVENT
BEGIN:VEVENT
DTSTART;TZID=America/New_York:20190423T131500
DTEND;TZID=America/New_York:20190423T143500
DTSTAMP:20260419T103507
CREATED:20190320T141554Z
LAST-MODIFIED:20190320T184632Z
UID:40810104563-1556025300-1556030100@www.monmouth.edu
SUMMARY:Hope is a Thing with Feathers: A Celebration of Emily Dickinson
DESCRIPTION:This poetry reading including students\, faculty and staff\, celebrating the work and life of Emily Dickinson. Readers will read from Dickenson’s work or their own.
URL:https://www.monmouth.edu/events/event/hope-is-a-thing-with-feathers-a-celebration-of-emily-dickinson/
LOCATION:Monmouth University Library Room 101
CATEGORIES:Student Scholarship Week
END:VEVENT
BEGIN:VEVENT
DTSTART;TZID=America/New_York:20190423T150000
DTEND;TZID=America/New_York:20190423T160000
DTSTAMP:20260419T103507
CREATED:20190320T142843Z
LAST-MODIFIED:20190320T184624Z
UID:40810104566-1556031600-1556035200@www.monmouth.edu
SUMMARY:First Generation Student Leadership: Student Summit Reflections
DESCRIPTION:This panel discussion features student participants in the 7th annual First Generation College Student Summit held on March at The College of The Holy Cross.  Students will share their experiences\, insights and leadership lessons learned by attending this student run conference.  Students will also discuss programs and initiatives that may be of value in support of first generation students at Monmouth.
URL:https://www.monmouth.edu/events/event/first-generation-student-leadership-student-summit-reflections/
LOCATION:Club Dining\, Magill Commons
CATEGORIES:Student Scholarship Week
END:VEVENT
BEGIN:VEVENT
DTSTART;TZID=America/New_York:20190423T173000
DTEND;TZID=America/New_York:20190423T210000
DTSTAMP:20260419T103507
CREATED:20190320T143032Z
LAST-MODIFIED:20190405T134917Z
UID:40810104569-1556040600-1556053200@www.monmouth.edu
SUMMARY:Campus Solutions to Plastic Pollution
DESCRIPTION:This is the New Jersey Higher Education Partnership for Sustainability Student Summit. There will be speakers from Clean Ocean Action\, Clean Water Action\, and The Surf Rider Foundation. Following the discussion\, students will break out into sessions to discuss ideas for plastic waster. At the end\, students from each school will discuss one action that they are going to tackle upon their return to their own university.
URL:https://www.monmouth.edu/events/event/campus-solutions-to-plastic-pollution/
LOCATION:Anacon Hall\, 2nd Floor\, Student Center
CATEGORIES:Student Scholarship Week
END:VEVENT
END:VCALENDAR