BEGIN:VCALENDAR
VERSION:2.0
PRODID:-//Events - ECPv6.15.20//NONSGML v1.0//EN
CALSCALE:GREGORIAN
METHOD:PUBLISH
X-ORIGINAL-URL:https://www.monmouth.edu/events
X-WR-CALDESC:Events for Events
REFRESH-INTERVAL;VALUE=DURATION:PT1H
X-Robots-Tag:noindex
X-PUBLISHED-TTL:PT1H
BEGIN:VTIMEZONE
TZID:America/New_York
BEGIN:DAYLIGHT
TZOFFSETFROM:-0500
TZOFFSETTO:-0400
TZNAME:EDT
DTSTART:20240310T070000
END:DAYLIGHT
BEGIN:STANDARD
TZOFFSETFROM:-0400
TZOFFSETTO:-0500
TZNAME:EST
DTSTART:20241103T060000
END:STANDARD
BEGIN:DAYLIGHT
TZOFFSETFROM:-0500
TZOFFSETTO:-0400
TZNAME:EDT
DTSTART:20250309T070000
END:DAYLIGHT
BEGIN:STANDARD
TZOFFSETFROM:-0400
TZOFFSETTO:-0500
TZNAME:EST
DTSTART:20251102T060000
END:STANDARD
BEGIN:DAYLIGHT
TZOFFSETFROM:-0500
TZOFFSETTO:-0400
TZNAME:EDT
DTSTART:20260308T070000
END:DAYLIGHT
BEGIN:STANDARD
TZOFFSETFROM:-0400
TZOFFSETTO:-0500
TZNAME:EST
DTSTART:20261101T060000
END:STANDARD
END:VTIMEZONE
BEGIN:VEVENT
DTSTART;TZID=America/New_York:20250203T180000
DTEND;TZID=America/New_York:20250203T190000
DTSTAMP:20260423T212755
CREATED:20241122T164217Z
LAST-MODIFIED:20250131T172441Z
UID:40810115854-1738605600-1738609200@www.monmouth.edu
SUMMARY:Akhil Sharma - Visiting Writer
DESCRIPTION:Sharma is a highly decorated short-story writer and novelist; he’s been awarded many of the most prestigious prizes and recognitions that a fiction writer can receive. His first novel\, An Obedient Father (Farrar\, Straus & Giroux\, 2000)\, hailed in New York Magazine by Jonathan Franzen as “A great novel” and described by Hilary Mantel in the New York Review of Books as “uncompromising\,” with a “first chapter . . . [that] blasts off the locks and splinters the wood\,” received the PEN/Hemingway Award for Debut Novel and was chosen as a New York Times Notable Book of the Year. \nSharma’s second novel\, the spectacular Family Life (Norton\, 2014)\, received both the International Dublin Literary Award and the Folio Prize. Scholar and writer Edmund White called it “a terse\, devastating account of growing up as a brilliant outsider in American culture” and described it as “a near perfect novel.” \nSharma’s third and most recent book\, the story collection A Life of Adventure and Delight (Norton\, 2017)\, prompted writer Yiyun Li to describe Sharma as “truly the Chekhov of our time.” His stories have been widely published and anthologized\, appearing in The New Yorker\, The Atlantic\, Best American Short Stories\, and O. Henry Award Stories.  \nIndeed\, Sharma is such an exacting and rigorous writer that\, quite unusually\, he recently published a revised and rewritten edition of An Obedient Father (McNally Editions\, 2022) more than twenty years after it first appeared in print. The critic Wyatt Mason\, reviewing the revised version in The New York Times Magazine\, described this as “Something white-rhino rare in the history of literature”\, adding\, approvingly\, “there is scarcely a paragraph that hasn’t been improved . . . ” \nBorn in Delhi\, India\, Sharma grew up in Edison\, NJ. Before becoming a professor at Duke\, where he now teaches\, he was on the faculty at Rutgers. He is an engaging and surprising speaker and an excellent reader of his work \nThis event is sponsored by The Visiting Writers Series\, with the Center for the Arts and the Intercultural Center.
URL:https://www.monmouth.edu/events/event/akhil-sharma-visiting-writer/
LOCATION:The Great Hall -104
CATEGORIES:Arts at Monmouth,English,Free,Intercultural Center Events
ATTACH;FMTTYPE=image/jpeg:https://www.monmouth.edu/events/wp-content/uploads/sites/19/2024/11/sharma_header.jpg
END:VEVENT
BEGIN:VEVENT
DTSTART;TZID=America/New_York:20250206T000000
DTEND;TZID=America/New_York:20250427T235959
DTSTAMP:20260423T212755
CREATED:20250306T225532Z
LAST-MODIFIED:20250306T225625Z
UID:40810115923-1738800000-1745798399@www.monmouth.edu
SUMMARY:Ocean Bodies\, A Solo Exhibit by Kimberly Callas
DESCRIPTION:Monmouth University’s Ice House Gallery presents Ocean Bodies\, a powerful solo exhibition by multimedia artist Kimberly Callas. The exhibition will open on February 6\, 2025\, with an evening reception from 5:30 to 7:30 PM\, and will run through April 27\, 2025. Ocean Bodies offers an immersive exploration of humanity’s interconnectedness with the ocean\, drawing on symbols\, archetypes\, and ecological narratives to invite contemplation and action. \nThrough sculptures\, large-scale drawings\, and mixed-media works\, Callas examines the “crisis of meaning” at the heart of the climate crisis and advocates for a shift in consciousness toward an “ecological self.” This concept\, central to her work\, reflects humanity’s integral role within nature rather than apart from it. In Ocean Bodies\, she uses water-based materials\, such as dyed fabrics\, India ink\, and water-soluble graphite\, to invoke the sea’s physical presence while exploring the symbolic depth of whales\, the horizon\, and the ocean itself as metaphors for the psyche and cosmos. \nAmong the featured works is a series of 10-foot mixed-media drawings inspired by historical nautical charts\, which pair psychological journeys with the migration of critically endangered North Atlantic right whales. Complementing these works are colorful life-size figurative sculptures and reliefs\, 3D-printed using bio-filament\, that further explore themes of renewal and interconnection. Through these works\, Callas poses urgent questions about the loss of meaning\, wisdom\, and biodiversity in the Anthropocene. \n“The ocean has a unique way to connect with people in an immediate and emotional way. Science and data can only tell us so much; art can speak to each of us in a way that is both uniquely personal and universal. Having Kimberly as the Urban Coast Institute artist-in-residence provided inspiration for some of the artwork in the Ocean Bodies exhibit\, which will in turn inspire others. She was also able to share her creative process with her students\, conducting lectures and using her art and sculpture as a pathway to ‘discovering the ecological self.’ This work reminds us that the worlds of art and science are two sides of the same coin\,” said Tony MacDonald\, J.D.\, Director\, Urban Coast Institute. \nCallas created much of the work in Ocean Bodies during an artist residency with Monmouth University’s Urban Coast Institute\, with additional research conducted at the Archive for Research in Archetypal Symbolism (ARAS) and an artist residency at the Arts Quarter Budapest. This body of work seeks to merge art\, science\, and archetypal symbols to foster a deeper understanding of humanity’s place within the natural world and inspire meaningful environmental action. \nAbout the Artist \nKimberly Callas is a multimedia artist\, sculptor\, and the lead artist of the Social Practice project Discovering the Ecological Self. Her work delves into the human/nature relationship\, focusing on the concept of the ecological self. Recently\, she has incorporated cutting-edge technologies\, such as 3D printing with bio-filaments and CNC\, into her life-size sculptures. Art New England described her series Portrait of the Ecological Self as “unforgettable.” \nCallas’s work often involves community engagement. With her Discovering the Ecological Self social practice project\, featured in The Huffington Post\, she has led workshops across the U.S. and internationally. Her art has been showcased in prestigious galleries and museums worldwide\, earning her numerous awards and grants\, including the Pollination Project Grant\, the Urban Coast Artist-in-Residence award\, and the Puffin Foundation Grant. Her accolades include First Place in Sculpture at the Catharine Lorillard Wolfe Art Club’s Annual Exhibit in New York City. \nCallas’s recent exhibitions include the International New Media Exhibit at the CICA Museum in South Korea\, Crossing Boundaries: Art and the Future of Energy at the Pensacola Museum of Art\, and Ocean Swimmers (Entanglement)\, a solo exhibition in Budapest. In May 2025\, she will unveil a public art commission for the Lambert Castle Renovation in Paterson\, New Jersey. \nCallas holds an MFA from the New York Academy of Art and a BFA from the University of Michigan. She is currently an Associate Professor of Art at Monmouth University and maintains studios in Maine and New Jersey. \nEvent Details: \nExhibition: Ocean Bodies\nLocation: Ice House Gallery\, Monmouth University\, 400 Cedar Ave # 600\, West Long Branch\, NJ 07764\nOpening Reception: February 6\, 2025\, 5:30–7:30 PM\nExhibition Dates: February 6\, 2025 – April 27\, 2025\nGallery Hours: Mon-Fri\, 10am-5pm\, \nFor additional information\, please contact Scott Knauer\, 732.923.4786  or visit https://kimberlycallas.com/. \n 
URL:https://www.monmouth.edu/events/event/ocean-bodies-a-solo-exhibit-by-eco-artist-kimberly-callas-2/
LOCATION:Rotary Ice House Gallery
CATEGORIES:Academic Calendar,Alumni Calendar Featured,Art and Design,Art Exhibitions,Arts at Monmouth,Free
ATTACH;FMTTYPE=image/jpeg:https://www.monmouth.edu/events/wp-content/uploads/sites/19/2024/12/callas_header-1.jpg
ORGANIZER;CN="Art and Design Department":MAILTO:sknauer@monmouth.edu
END:VEVENT
BEGIN:VEVENT
DTSTART;TZID=America/New_York:20250206T173000
DTEND;TZID=America/New_York:20250206T193000
DTSTAMP:20260423T212755
CREATED:20241202T193343Z
LAST-MODIFIED:20241217T213753Z
UID:40810115926-1738863000-1738870200@www.monmouth.edu
SUMMARY:Ocean Bodies\, A Solo Exhibit by Kimberly Callas
DESCRIPTION:Monmouth University’s Ice House Gallery presents Ocean Bodies\, a powerful solo exhibition by multimedia artist Kimberly Callas. The exhibition will open on February 6\, 2025\, with an evening reception from 5:30 to 7:30 PM\, and will run through April 4\, 2025. Ocean Bodies offers an immersive exploration of humanity’s interconnectedness with the ocean\, drawing on symbols\, archetypes\, and ecological narratives to invite contemplation and action. \nThrough sculptures\, large-scale drawings\, and mixed-media works\, Callas examines the “crisis of meaning” at the heart of the climate crisis and advocates for a shift in consciousness toward an “ecological self.” This concept\, central to her work\, reflects humanity’s integral role within nature rather than apart from it. In Ocean Bodies\, she uses water-based materials\, such as dyed fabrics\, India ink\, and water-soluble graphite\, to invoke the sea’s physical presence while exploring the symbolic depth of whales\, the horizon\, and the ocean itself as metaphors for the psyche and cosmos. \nAmong the featured works is a series of 10-foot mixed-media drawings inspired by historical nautical charts\, which pair psychological journeys with the migration of critically endangered North Atlantic right whales. Complementing these works are colorful life-size figurative sculptures and reliefs\, 3D-printed using bio-filament\, that further explore themes of renewal and interconnection. Through these works\, Callas poses urgent questions about the loss of meaning\, wisdom\, and biodiversity in the Anthropocene. \n“The ocean has a unique way to connect with people in an immediate and emotional way. Science and data can only tell us so much; art can speak to each of us in a way that is both uniquely personal and universal. Having Kimberly as the Urban Coast Institute artist-in-residence provided inspiration for some of the artwork in the Ocean Bodies exhibit\, which will in turn inspire others. She was also able to share her creative process with her students\, conducting lectures and using her art and sculpture as a pathway to ‘discovering the ecological self.’ This work reminds us that the worlds of art and science are two sides of the same coin\,” said Tony MacDonald\, J.D.\, Director\, Urban Coast Institute. \nCallas created much of the work in Ocean Bodies during an artist residency with Monmouth University’s Urban Coast Institute\, with additional research conducted at the Archive for Research in Archetypal Symbolism (ARAS) and an artist residency at the Arts Quarter Budapest. This body of work seeks to merge art\, science\, and archetypal symbols to foster a deeper understanding of humanity’s place within the natural world and inspire meaningful environmental action. \nAbout the Artist \nKimberly Callas is a multimedia artist\, sculptor\, and the lead artist of the Social Practice project Discovering the Ecological Self. Her work delves into the human/nature relationship\, focusing on the concept of the ecological self. Recently\, she has incorporated cutting-edge technologies\, such as 3D printing with bio-filaments and CNC\, into her life-size sculptures. Art New England described her series Portrait of the Ecological Self as “unforgettable.” \nCallas’s work often involves community engagement. With her Discovering the Ecological Self social practice project\, featured in The Huffington Post\, she has led workshops across the U.S. and internationally. Her art has been showcased in prestigious galleries and museums worldwide\, earning her numerous awards and grants\, including the Pollination Project Grant\, the Urban Coast Artist-in-Residence award\, and the Puffin Foundation Grant. Her accolades include First Place in Sculpture at the Catharine Lorillard Wolfe Art Club’s Annual Exhibit in New York City. \nCallas’s recent exhibitions include the International New Media Exhibit at the CICA Museum in South Korea\, Crossing Boundaries: Art and the Future of Energy at the Pensacola Museum of Art\, and Ocean Swimmers (Entanglement)\, a solo exhibition in Budapest. In May 2025\, she will unveil a public art commission for the Lambert Castle Renovation in Paterson\, New Jersey. \nCallas holds an MFA from the New York Academy of Art and a BFA from the University of Michigan. She is currently an Associate Professor of Art at Monmouth University and maintains studios in Maine and New Jersey. \nEvent Details: \nExhibition: Ocean Bodies\nLocation: Ice House Gallery\, Monmouth University\, 400 Cedar Ave # 600\, West Long Branch\, NJ 07764\nOpening Reception: February 6\, 2025\, 5:30–7:30 PM\nExhibition Dates: February 6\, 2025 – March 23\, 2025\nGallery Hours: Mon-Fri\, 10am-5pm\, \nFor additional information\, please contact Scott Knauer\, 732.923.4786  or visit https://kimberlycallas.com/. \n 
URL:https://www.monmouth.edu/events/event/ocean-bodies-a-solo-exhibit-by-eco-artist-kimberly-callas/
LOCATION:Rotary Ice House Gallery
CATEGORIES:Academic Calendar,Alumni Calendar Featured,Art and Design,Art Exhibitions,Arts at Monmouth,Free
ATTACH;FMTTYPE=image/jpeg:https://www.monmouth.edu/events/wp-content/uploads/sites/19/2024/12/callas_header-1.jpg
ORGANIZER;CN="Art and Design Department":MAILTO:sknauer@monmouth.edu
END:VEVENT
BEGIN:VEVENT
DTSTART;TZID=America/New_York:20250207T190000
DTEND;TZID=America/New_York:20250207T210000
DTSTAMP:20260423T212755
CREATED:20250204T135520Z
LAST-MODIFIED:20250204T135520Z
UID:40810118516-1738954800-1738962000@www.monmouth.edu
SUMMARY:A History of Hip Hop Sampling
DESCRIPTION:Join music journalists John Morrison and Josh Leidy for a multimedia presentation on the history of hip-hop culture and the cultural and technological evolution of sampling\, followed by performances by Blue Hawk Records Student/Artists.  \nCo-sponsored by the BSACAM and the Monmouth University Music and Theatre Arts Department
URL:https://www.monmouth.edu/events/event/a-history-of-hip-hop-sampling/
LOCATION:Lauren K Woods Theatre\, 398 Cedar Ave\, Long Branch\, NJ\, United States
CATEGORIES:Music
ATTACH;FMTTYPE=image/png:https://www.monmouth.edu/events/wp-content/uploads/sites/19/2025/01/Screenshot-2025-01-31-at-9.20.35 AM.png
GEO:40.281658;-74.001637
X-APPLE-STRUCTURED-LOCATION;VALUE=URI;X-ADDRESS=Lauren K Woods Theatre 398 Cedar Ave Long Branch NJ United States;X-APPLE-RADIUS=500;X-TITLE=398 Cedar Ave:geo:-74.001637,40.281658
END:VEVENT
BEGIN:VEVENT
DTSTART;TZID=America/New_York:20250209T160000
DTEND;TZID=America/New_York:20250209T170000
DTSTAMP:20260423T212755
CREATED:20250207T141120Z
LAST-MODIFIED:20250207T141120Z
UID:40810118587-1739116800-1739120400@www.monmouth.edu
SUMMARY:Sailing Team Meeting
DESCRIPTION:Learn more about the sailing team here at Monmouth University. No experience necessary to join! Join our travel team and compete against other colleges and universities along the east coast in our MAISA division. Email coach Nuse at Anuse@monmouth.edu to sign up and get the google meet link!
URL:https://www.monmouth.edu/events/event/sailing-team-meeting/
ATTACH;FMTTYPE=image/png:https://www.monmouth.edu/events/wp-content/uploads/sites/19/2025/02/team.png
END:VEVENT
BEGIN:VEVENT
DTSTART;TZID=America/New_York:20250212T000000
DTEND;TZID=America/New_York:20250212T133000
DTSTAMP:20260423T212755
CREATED:20250204T201232Z
LAST-MODIFIED:20250204T201232Z
UID:40810118571-1739318400-1739367000@www.monmouth.edu
SUMMARY:Australia Study Abroad Launch Party
DESCRIPTION:The Global Education Office is hosting a party to celebrate the launch of our new Australia program!
URL:https://www.monmouth.edu/events/event/australia-study-abroad-launch-party/
LOCATION:Anacon Hall A and B
ATTACH;FMTTYPE=image/png:https://www.monmouth.edu/events/wp-content/uploads/sites/19/2025/02/Australia.png
ORGANIZER;CN="Global Education Office":MAILTO:geo@monmouth.edu
END:VEVENT
BEGIN:VEVENT
DTSTART;TZID=America/New_York:20250214T000000
DTEND;TZID=America/New_York:20250214T235959
DTSTAMP:20260423T212755
CREATED:20240903T140436Z
LAST-MODIFIED:20240904T165313Z
UID:40810113296-1739491200-1739577599@www.monmouth.edu
SUMMARY:“W” Deadline for “A” Session
DESCRIPTION:
URL:https://www.monmouth.edu/events/event/w-deadline-for-a-session/
CATEGORIES:Academic Calendar
END:VEVENT
BEGIN:VEVENT
DTSTART;TZID=America/New_York:20250214T130000
DTEND;TZID=America/New_York:20250214T150000
DTSTAMP:20260423T212755
CREATED:20250114T133021Z
LAST-MODIFIED:20250114T133021Z
UID:40810117846-1739538000-1739545200@www.monmouth.edu
SUMMARY:Blind Date With A Book
DESCRIPTION:On International Book Giving Day (Feb. 14)\, Sigma Tau Delta will give away 60 adult novels we collected during our December Book Drive. The event aims to promote reading across campus while suiting the occasion of Valentine’s Day. We challenge students to discover new books beyond familiar titles by concealing their covers and only listing genres. Students can look through different generic options and select a book of their choosing while supplies last.
URL:https://www.monmouth.edu/events/event/blind-date-with-a-book/
LOCATION:Student Center – 1st Floor
CATEGORIES:Free,Sigma Tau Delta Honor Society
ATTACH;FMTTYPE=image/png:https://www.monmouth.edu/events/wp-content/uploads/sites/19/2025/01/Blind-Date-with-a-Book-idea-.png
ORGANIZER;CN="Sigma Tau Delta":MAILTO:s1320998@monmouth.edu
END:VEVENT
BEGIN:VEVENT
DTSTART;TZID=America/New_York:20250219T060000
DTEND;TZID=America/New_York:20250219T210000
DTSTAMP:20260423T212755
CREATED:20250210T184734Z
LAST-MODIFIED:20250210T184734Z
UID:40810118639-1739944800-1739998800@www.monmouth.edu
SUMMARY:Kislak Real Estate Institute Career Night
DESCRIPTION:Join us for the Kislak Real Estate Institute Career Night! Listen in on our panels featuring the Career Development team\, Matt Weilheimer (The Kislak Company\, Inc.)\, Tim Ballard (K. Hovnanian East Group\, LLC)\, Barbara Ehlen (Beacon Planning and Consulting Services\, LLC)\, Adam Zweibel (Hudson Atlantic Realty Advisors)\, James Meehan\, MAI\, AI-GRS (Meehan Valuation)\, and our alumni panelists: carson rooney (Marcus & Millichap)\, Aaron Chang (Lennar)\, and Alex Burmistrov (Lennar). \nBuild your network in real estate and learn about careers in the industry! \nVisit Career Development’s Hanshake site now\, to register!
URL:https://www.monmouth.edu/events/event/kislak-real-estate-institute-career-night/
LOCATION:Bey Hall Auditorium
CATEGORIES:Free,Workshops and Professional Development
ATTACH;FMTTYPE=image/png:https://www.monmouth.edu/events/wp-content/uploads/sites/19/2025/02/JCPENNEY-SUIT-UP-FLYER.png
ORGANIZER;CN="Career Development":MAILTO:careerdevelopment@monmouth.edu
END:VEVENT
BEGIN:VEVENT
DTSTART;TZID=America/New_York:20250227T163000
DTEND;TZID=America/New_York:20250227T180000
DTSTAMP:20260423T212755
CREATED:20250224T153507Z
LAST-MODIFIED:20250224T153507Z
UID:40810118794-1740673800-1740679200@www.monmouth.edu
SUMMARY:SEL Event: Self-Care On the Go!
DESCRIPTION:Join us in Anacon A to build self-care kits.
URL:https://www.monmouth.edu/events/event/sel-event-self-care-on-the-go/
LOCATION:Anacon-A
ATTACH;FMTTYPE=image/jpeg:https://www.monmouth.edu/events/wp-content/uploads/sites/19/2025/02/IMG_6519.jpeg
ORGANIZER;CN="School of Education":MAILTO:vzambak@monmouth.edu
END:VEVENT
END:VCALENDAR