BEGIN:VCALENDAR
VERSION:2.0
PRODID:-//Events - ECPv6.15.20//NONSGML v1.0//EN
CALSCALE:GREGORIAN
METHOD:PUBLISH
X-ORIGINAL-URL:https://www.monmouth.edu/events
X-WR-CALDESC:Events for Events
REFRESH-INTERVAL;VALUE=DURATION:PT1H
X-Robots-Tag:noindex
X-PUBLISHED-TTL:PT1H
BEGIN:VTIMEZONE
TZID:America/New_York
BEGIN:DAYLIGHT
TZOFFSETFROM:-0500
TZOFFSETTO:-0400
TZNAME:EDT
DTSTART:20120311T070000
END:DAYLIGHT
BEGIN:STANDARD
TZOFFSETFROM:-0400
TZOFFSETTO:-0500
TZNAME:EST
DTSTART:20121104T060000
END:STANDARD
BEGIN:DAYLIGHT
TZOFFSETFROM:-0500
TZOFFSETTO:-0400
TZNAME:EDT
DTSTART:20130310T070000
END:DAYLIGHT
BEGIN:STANDARD
TZOFFSETFROM:-0400
TZOFFSETTO:-0500
TZNAME:EST
DTSTART:20131103T060000
END:STANDARD
BEGIN:DAYLIGHT
TZOFFSETFROM:-0500
TZOFFSETTO:-0400
TZNAME:EDT
DTSTART:20140309T070000
END:DAYLIGHT
BEGIN:STANDARD
TZOFFSETFROM:-0400
TZOFFSETTO:-0500
TZNAME:EST
DTSTART:20141102T060000
END:STANDARD
END:VTIMEZONE
BEGIN:VEVENT
DTSTART;TZID=America/New_York:20130105T120000
DTEND;TZID=America/New_York:20130105T120000
DTSTAMP:20260423T015450
CREATED:20180725T205014Z
LAST-MODIFIED:20180731T133520Z
UID:40810104065-1357387200-1357387200@www.monmouth.edu
SUMMARY:Met Opera: LES TROYENS
DESCRIPTION:Berlioz’s LES TROYENS \n Encore: Sun.\, March 24\, 2013 at 1 p.m. \nApprox. Runtime: 5:41 \nThe Met offers a rare opportunity to witness Berlioz’s vast epic\, last performed at the Met in 2003. Deborah Voigt\, Susan Graham\, Marcello Giordani\, and Dwayne Croft lead the starry cast\, portraying characters from the Trojan War. Met Principal Conductor Fabio Luisi marshals the large-scale musical forces.
URL:https://www.monmouth.edu/events/event/met-opera-les-troyens/
ATTACH;FMTTYPE=image/jpeg:https://www.monmouth.edu/events/wp-content/uploads/sites/19/2018/07/Les_Troyens_Thumb.jpg
END:VEVENT
BEGIN:VEVENT
DTSTART;TZID=America/New_York:20130113T125500
DTEND;TZID=America/New_York:20130113T125500
DTSTAMP:20260423T015450
CREATED:20180725T205013Z
LAST-MODIFIED:20180731T133520Z
UID:40810104059-1358081700-1358081700@www.monmouth.edu
SUMMARY:Met Opera: TEMPEST (Encore)
DESCRIPTION:Thomas Ades’ TEMPEST ENCORE \nApprox. Runtime:  3:30 \nComposer Thomas Adès conducts the Metropolitan Opera premiere of his 2004 work\, which has been widely praised as a modern masterpiece. Director Robert Lepage recreates the interior of 18th-century La Scala\, including the hidden workings underneath the stage\, where Prospero\, the banished Duke of Milan\, practices his otherworldly arts. The magnetic baritone Simon Keenlyside stars as Prospero\, a role he has sung to great acclaim in London. \nProduction a gift of Mrs. Bert S. Turner and Robert L. Turner  A co-production of the Metropolitan Opera and L’Opéra de Québec  In collaboration with Ex Machina
URL:https://www.monmouth.edu/events/event/met-opera-tempest-encore/
ATTACH;FMTTYPE=image/jpeg:https://www.monmouth.edu/events/wp-content/uploads/sites/19/2018/07/Tempest_Thumbnail.jpg
END:VEVENT
BEGIN:VEVENT
DTSTART;TZID=America/New_York:20130119T125500
DTEND;TZID=America/New_York:20130119T125500
DTSTAMP:20260423T015450
CREATED:20180725T205012Z
LAST-MODIFIED:20180731T133520Z
UID:40810104053-1358600100-1358600100@www.monmouth.edu
SUMMARY:Met Opera: MARIA STUARDA
DESCRIPTION:Donizetti’s MARIA STUARDA \n Encore: Fri.\, February 22\, 2013 at 7 p.m. \nApprox. Runtime: 3:15 \nFresh from her triumph in the Met’s The Enchanted Island\, mezzo-soprano Joyce DiDonato\, one of the world’s most exciting singers\, takes on the virtuosic bel canto role of the doomed Mary\, Queen of Scots. Having scored a major success with his production of Anna Bolena\, director David McVicar now turns to the second opera of Donizetti’s Tudor trilogy\, which explores regal characters at fateful moments of their lives. Elza van den Heever sings Elizabeth I\, and Maurizio Benini conducts. \nProduction a gift of The Sybil B. Harrington Endowment Fund
URL:https://www.monmouth.edu/events/event/met-opera-maria-stuarda/
ATTACH;FMTTYPE=image/jpeg:https://www.monmouth.edu/events/wp-content/uploads/sites/19/2018/07/maria_stuarda_thumbnail.jpg
END:VEVENT
BEGIN:VEVENT
DTSTART;VALUE=DATE:20130122
DTEND;VALUE=DATE:20130309
DTSTAMP:20260423T015450
CREATED:20180725T204848Z
LAST-MODIFIED:20180725T204848Z
UID:40810103783-1358812800-1362787199@www.monmouth.edu
SUMMARY:Convergence
DESCRIPTION:January 22 – March 8\, 2013\nIce House Gallery\nFree & Open to Public\nIllustrated Lecture: Thursday\, January 31 from 4:30 – 5:30 p.m. in the Wilson Hall Auditorium\nReception follows in the gallery from 5:30 – 7 p.m. in the Ice House Gallery\n \nConvergence is a group exhibition organized in affiliation with Project Vortex\, a non-profit organization committed to reusing plastic debris from our oceans and shorelines. This exhibition brings together seven contemporary artists responding to the current environmental crisis in our oceans.
URL:https://www.monmouth.edu/events/event/convergence/
ATTACH;FMTTYPE=image/jpeg:https://www.monmouth.edu/events/wp-content/uploads/sites/19/2018/07/convergence_thumb.jpg
END:VEVENT
BEGIN:VEVENT
DTSTART;TZID=America/New_York:20130125T190000
DTEND;TZID=America/New_York:20130125T190000
DTSTAMP:20260423T015450
CREATED:20180725T205012Z
LAST-MODIFIED:20180731T133519Z
UID:40810104056-1359140400-1359140400@www.monmouth.edu
SUMMARY:Met Opera: CLEMENZA DI TITO (Encore) (Broadcast in HD)
DESCRIPTION:Mozart’s CLEMENZA DI TITO ENCORE \n Approx. Runtime: 3:13 \nBroadcast in HD   \nThe virtuosic Elina Garanca sings Sesto in Mozart’s drama set in ancient Rome. Giuseppe Filianoti is the noble Tito and Barbara Frittoli is Vitellia in this handsome revival of one of the composer’s final masterpieces. Harry Bicket conducts.
URL:https://www.monmouth.edu/events/event/met-opera-clemenza-di-tito-encore-broadcast-in-hd/
ATTACH;FMTTYPE=image/jpeg:https://www.monmouth.edu/events/wp-content/uploads/sites/19/2018/07/Clemenza_di_Tito_Thumbnail.jpg
END:VEVENT
BEGIN:VEVENT
DTSTART;TZID=America/New_York:20130127T160000
DTEND;TZID=America/New_York:20130127T160000
DTSTAMP:20260423T015450
CREATED:20180725T204922Z
LAST-MODIFIED:20180731T133503Z
UID:40810103903-1359302400-1359302400@www.monmouth.edu
SUMMARY:SOLD OUT - In the Mood: 1940s Musical Revue
DESCRIPTION:Cost: $35/45 \nBack by popular demand\, In the Mood\n returns with their big band orchestra\, singers\, and swing dancers. This\n retro 1940s musical revives the music that moved a nation’s spirit and\nhelped win a war. The combination of up-tempo instrumentals and\nintimate\, romantic ballads set the mood for a future filled with\npromise\, hope\, and prosperity. This Big Band theatrical Swing revue\nfeatures the music of Glenn Miller\, Tommy Dorsey\, Artie Shaw\, Benny\nGoodman\, Harry James\, Erskin Hawkins\, The Andrews Sisters\, Frank\nSinatra\, and more. \n \nFor More Information \nIn The Mood Web Site
URL:https://www.monmouth.edu/events/event/sold-out-in-the-mood-1940s-musical-revue/
ATTACH;FMTTYPE=image/jpeg:https://www.monmouth.edu/events/wp-content/uploads/sites/19/2018/07/In_the_mood_Thumb1.jpg
END:VEVENT
BEGIN:VEVENT
DTSTART;VALUE=DATE:20130128
DTEND;VALUE=DATE:20130309
DTSTAMP:20260423T015450
CREATED:20180725T204847Z
LAST-MODIFIED:20190301T201613Z
UID:40810103777-1359331200-1362787199@www.monmouth.edu
SUMMARY:Faculty and Friends: Joan and Robert Rechnitz Hall Inaugural Exhibition
DESCRIPTION:January 28 – March 8\nJoan and Robert Rechnitz Hall Gallery\nFree and Open to the Public \nThis invitational exhibition features the work of 57 accomplished artists from across the country – including current faculty and former faculty\, alumni and artists who have exhibited in the Monmouth University galleries over the years.
URL:https://www.monmouth.edu/events/event/faculty-and-friends-joan-and-robert-rechnitz-hall-inaugural-exhibition/
LOCATION:Joan and Robert Rechnitz Hall
ATTACH;FMTTYPE=image/jpeg:https://www.monmouth.edu/events/wp-content/uploads/sites/19/2018/07/Faculty_And_Friends_Thumbnail.jpg
END:VEVENT
BEGIN:VEVENT
DTSTART;TZID=America/New_York:20130128T193000
DTEND;TZID=America/New_York:20130128T193000
DTSTAMP:20260423T015450
CREATED:20180725T204742Z
LAST-MODIFIED:20190108T184637Z
UID:40810103591-1359401400-1359401400@www.monmouth.edu
SUMMARY:Provost Film Series: Lumumba
DESCRIPTION:Lumumba (2000) \n Raoul Peck’s film portrays the true story of the rise to power and\nassassination of the formerly vilified and later redeemed leader of the\nindependent Congo\, Patrice Lumumba.
URL:https://www.monmouth.edu/events/event/provost-film-series-lumumba/
ATTACH;FMTTYPE=image/jpeg:https://www.monmouth.edu/events/wp-content/uploads/sites/19/2018/07/lumumba_thumb.jpg
END:VEVENT
END:VCALENDAR