BEGIN:VCALENDAR
VERSION:2.0
PRODID:-//Events - ECPv6.15.20//NONSGML v1.0//EN
CALSCALE:GREGORIAN
METHOD:PUBLISH
X-WR-CALNAME:Events
X-ORIGINAL-URL:https://www.monmouth.edu/events
X-WR-CALDESC:Events for Events
REFRESH-INTERVAL;VALUE=DURATION:PT1H
X-Robots-Tag:noindex
X-PUBLISHED-TTL:PT1H
BEGIN:VTIMEZONE
TZID:America/New_York
BEGIN:DAYLIGHT
TZOFFSETFROM:-0500
TZOFFSETTO:-0400
TZNAME:EDT
DTSTART:20110313T070000
END:DAYLIGHT
BEGIN:STANDARD
TZOFFSETFROM:-0400
TZOFFSETTO:-0500
TZNAME:EST
DTSTART:20111106T060000
END:STANDARD
BEGIN:DAYLIGHT
TZOFFSETFROM:-0500
TZOFFSETTO:-0400
TZNAME:EDT
DTSTART:20120311T070000
END:DAYLIGHT
BEGIN:STANDARD
TZOFFSETFROM:-0400
TZOFFSETTO:-0500
TZNAME:EST
DTSTART:20121104T060000
END:STANDARD
BEGIN:DAYLIGHT
TZOFFSETFROM:-0500
TZOFFSETTO:-0400
TZNAME:EDT
DTSTART:20130310T070000
END:DAYLIGHT
BEGIN:STANDARD
TZOFFSETFROM:-0400
TZOFFSETTO:-0500
TZNAME:EST
DTSTART:20131103T060000
END:STANDARD
END:VTIMEZONE
BEGIN:VEVENT
DTSTART;VALUE=DATE:20120907
DTEND;VALUE=DATE:20121018
DTSTAMP:20260424T095646
CREATED:20180725T204851Z
LAST-MODIFIED:20190301T194250Z
UID:40810103798-1346976000-1350518399@www.monmouth.edu
SUMMARY:Ed Gallucci - The Crawdaddy Years and Beyond
DESCRIPTION:September 7 – October 17\, 2012*\nPollak Gallery\nFree & Open to Public\nOpening Reception and Artists Lecture:\nTuesday\, October 2\, 2012\nReception: 5 p.m.\nLecture: 7:30 p.m.\nThis exhibition features selections from freelance photographer Ed Gallucci’s life work and includes photographs of celebrities like Muhammad Ali\, Bruce Springsteen\, Rod Stewart\, Jerry Garcia\, Paul Simon\, Al Green\, Stevie Wonder\, and many others.\nPart of Glory Days: A Bruce Springsteen Symposium.\n* Please note that the gallery will be closed on October 11 for a private event.
URL:https://www.monmouth.edu/events/event/ed-gallucci-the-crawdaddy-years-and-beyond/
LOCATION:Pollak Gallery
ATTACH;FMTTYPE=image/jpeg:https://www.monmouth.edu/events/wp-content/uploads/sites/19/2018/07/ed_gallucci_thumb.jpg
END:VEVENT
BEGIN:VEVENT
DTSTART;VALUE=DATE:20120910
DTEND;VALUE=DATE:20121117
DTSTAMP:20260424T095646
CREATED:20180725T204850Z
LAST-MODIFIED:20190228T144522Z
UID:40810103789-1347235200-1353110399@www.monmouth.edu
SUMMARY:Steven Brower - Influence\, Parody\, and Process
DESCRIPTION:September 10 – November 16\, 2012\nIce House Gallery \nArtist Lecture:  \nThurs. September 13 | 4:30 p.m.\nWilson Hall Auditorium\nOpening Reception in Gallery: \nThurs. September 13 | 5:30 – 7 p.m.\nFree and Open to the Public \nDesigner Steven Brower explores his origins and how he filters early and later influences through his own personal sensibility. Not limited to visual art\, graphic design or illustrations those influences include Groucho Marx\, Woody Guthrie\, Louis Armstrong\, right along side PushPin Studios\, Mad Magazine\, and Jack Kirby.
URL:https://www.monmouth.edu/events/event/steven-brower-influence-parody-and-process/
LOCATION:Rotary Ice House Gallery
ATTACH;FMTTYPE=image/jpeg:https://www.monmouth.edu/events/wp-content/uploads/sites/19/2018/07/brower_thumb.jpg
END:VEVENT
BEGIN:VEVENT
DTSTART;TZID=America/New_York:20120917T190000
DTEND;TZID=America/New_York:20121022T190000
DTSTAMP:20260424T095646
CREATED:20180725T204732Z
LAST-MODIFIED:20180725T204732Z
UID:40810103546-1347908400-1350932400@www.monmouth.edu
SUMMARY:Argentine TANGO CLASSES
DESCRIPTION:Argentine TANGO CLASSES \n6 Week Session : \nSeptember 17 – October 22\, 2012 \nMon. at 7 p.m.  \nLocation: Changed to EYAS Lounge\, 2nd Floor of the MAC  \n \nEveryone is welcome. Join us for a series of Tango classes with Lee Sager of Tango Pantera. No partner or experience needed.  \nSeries Fee \nMonmouth Students: $50 \nMonmouth Faculty and Staff: $75 \nGeneral Public: $100 \nTo register please call the box office at 732-263-6889 or buy online
URL:https://www.monmouth.edu/events/event/argentine-tango-classes-2/
LOCATION:The Great Hall
ATTACH;FMTTYPE=image/jpeg:https://www.monmouth.edu/events/wp-content/uploads/sites/19/2018/07/ArgentineTangoClasses_Thumb.jpg
END:VEVENT
BEGIN:VEVENT
DTSTART;VALUE=DATE:20121012
DTEND;VALUE=DATE:20121013
DTSTAMP:20260424T095646
CREATED:20180725T204750Z
LAST-MODIFIED:20180725T204750Z
UID:40810103627-1350000000-1350086399@www.monmouth.edu
SUMMARY:Runaway
DESCRIPTION:
URL:https://www.monmouth.edu/events/event/runaway/
LOCATION:Pollak Theatre
ATTACH;FMTTYPE=image/png:https://www.monmouth.edu/events/wp-content/uploads/sites/19/2018/07/mu_events_thumb.png
END:VEVENT
BEGIN:VEVENT
DTSTART;TZID=America/New_York:20121012T200000
DTEND;TZID=America/New_York:20121012T200000
DTSTAMP:20260424T095646
CREATED:20180725T204935Z
LAST-MODIFIED:20190426T142811Z
UID:40810103927-1350072000-1350072000@www.monmouth.edu
SUMMARY:Red Baraat
DESCRIPTION:Red Baraat (Red BA-rot)  has been described as “a fiery blend of raucous Indian bhangra and funky New Orleans brass” — a “Big Band for the world\,” playing “Bollywood with a go-go beat.” Of course such a unit could only hail from the flavorful melting-pot fondue that is millennial Brooklyn — and if Red Baraat seems to defy attempts to pinpoint their sound on the cultural GPS\, its members do so purely out of the sheer joy of making a big and boisterously infectious sound; a delightfully boundary-busting attack that’s been likened to everything from gypsy punks Gogol Bordello to the nationwide marching-band underground. \nWhether they’re playing Lincoln Center\, the Montreal Jazz Festival or a superheated sold-out club in their native NYC\, Red Baraat have made instant converts of listeners who wouldn’t have known Sufi standards from Bhangra Funk five minutes earlier. \nFronted by MC Sunny Jain and his driving two-headed dhol drum\, Red Baraat offers up a big and boisterously infectious sound that mixes\nsaxophones\, brass\, drums and percussion with raps\, traditional Hindi vocals and just about anything else that maintains the energy level and excitement. It’s a delightfully boundary-busting attack that’s been likened to everything from gypsy punks Gogol Bordello to the nationwide marching-band underground. \nComing off a first-ever appearance at the annual Bonnaroo Music & Art Festival\, and a Spring 2012 European tour behind their debut\nstudio album Chaal Baby\, Jain and company have used that momentum to issue a live release (Bootleg Bhangra) and get busy on their forthcoming second studio set\, tentatively titled Shruggy Ji. \nStill\, the live\, real time setting — whether it’s in an underground club\, a church\, a Fashion Week runway\, a historic hall or a cramped radio studio — is where Sunny’s crew shines; taking the North Indian bhangra rhythms that have thrilled generations\, and infusing them with healthy doses of New York attitude and street-busker savvy. \nwww.redbaraat.com
URL:https://www.monmouth.edu/events/event/red-baraat/
ATTACH;FMTTYPE=image/jpeg:https://www.monmouth.edu/events/wp-content/uploads/sites/19/2018/07/red_baraat_thumb.jpg
END:VEVENT
BEGIN:VEVENT
DTSTART;TZID=America/New_York:20121013T125500
DTEND;TZID=America/New_York:20121013T125500
DTSTAMP:20260424T095646
CREATED:20180725T205017Z
LAST-MODIFIED:20180731T133522Z
UID:40810104083-1350132900-1350132900@www.monmouth.edu
SUMMARY:Met Opera: L'ELISIR D'AMORE (Broadcast in HD)
DESCRIPTION:Donizetti’s L’ELISIR D’AMORE \nSat.\, October 13\, 2012 at 12:55 p.m. \nEncore: Fri.\, November 2\, 2012 at 7:00 p.m. \nApprox. Runtime: 3:02 \n  \nAnna Netrebko and Matthew Polenzani star in one of the greatest comic gems in opera\, as the fickle Adina and her besotted Nemorino. Bartlett Sher\, whose previous productions of Il Barbiere di Siviglia\, Le Comte Ory\, and Les Contes d’Hoffmann have delighted Met audiences\, guides this lively staging\, where surface charm will meet with real emotion. Mariusz Kwiecien is the blustery sergeant Belcore and Ambrogio Maestri is Dulcamara\, the loveable quack and dispenser of the elixir. Maurizio Benini conducts. \nBroadcast in HD \nProduction a gift of the Monteforte Foundation\, Inc.\, in honor of Wim Kooyker
URL:https://www.monmouth.edu/events/event/met-opera-lelisir-damore-broadcast-in-hd/
ATTACH;FMTTYPE=image/jpeg:https://www.monmouth.edu/events/wp-content/uploads/sites/19/2018/07/LElisir_dAmore_Thumb-1.jpg
END:VEVENT
BEGIN:VEVENT
DTSTART;TZID=America/New_York:20121014T190000
DTEND;TZID=America/New_York:20121014T190000
DTSTAMP:20260424T095646
CREATED:20180725T204928Z
LAST-MODIFIED:20180731T133504Z
UID:40810103924-1350241200-1350241200@www.monmouth.edu
SUMMARY:California Guitar Trio & Montreal Guitar Trio
DESCRIPTION:CGT stands for California Guitar Trio\, one of the most fanatically\nfollowed groups of instrumental adventurers in existence — and the\nmissing link between Beethoven and Burl Ives\, Franz Schubert and Freddie\n Mercury\, or Vivaldi and The Ventures.  \nMG3 means The Montréal Guitare Trio\, a threesome of modern masters\nwho’ve wowed audiences from major European festivals to BB King’s in NYC\n with their heartwarming stage presence and their spine-chilling\nvirtuosity.  \nWhile they may have found themselves joined together in musical\nmatrimony (a union in which the only argument generally centers around\nsettle strings vs. nylon)\, the members of CGT and MG3 have created an\nentity that’s more than a marriage of convenience — touring the planet\,\nsharing the stage and releasing a live album in 2011. The supercharged\nsextet comes to Monmouth University for a concert event that takes the\n“acoustic” guitar into dynamic dimensions that many people never thought\n possible. As CGT\, the three veterans of the British guitar guru’s\nGuitar Craft program have released fourteen studio and live albums\,\nfilmed a tour documentary and carried their music across international\nborders as easily as they’ve broken through the barricades of musical\ngenre.  \nMaking their first area appearance are the members of The Montréal\nGuitare Trio (Sébastien Dufour\, Glenn Lévesque\, Marc Morin)\, all of whom\n have made a name for themselves beyond their native Quebec — covering\nclassic rock songs from The Beatles and others; folding stylistic\ninfluences from Scandinavia to South America into their original\ncompositions\, and bringing more than just “one more country” to the\nmultinational mix.  \nAudiences should expect nothing less than the unexpected when CGT+MG3\n take the stage — a set of intricately wrought surprises that can take\nin everything from baroque fugues\, surf music (Dick Dale’s “Misirlou”)\,\narena rock (Queen’s “Bohemian Rhapsody”) and bluegrass picking with some\n interlocking mathematical-puzzle originals. It’s a brand of subtle\npyrotechnics that “skips merrily among genres” with wry showmanship and\ngenuinely awesome technique — one of those off-the-map crossroads where\nthe happiest of accidents occur.  \nMore Info:www.cgtrio.com or www.mg3.ca
URL:https://www.monmouth.edu/events/event/california-guitar-trio-montreal-guitar-trio/
ATTACH;FMTTYPE=image/jpeg:https://www.monmouth.edu/events/wp-content/uploads/sites/19/2018/07/california_montreal_trio_thumb.jpg
END:VEVENT
BEGIN:VEVENT
DTSTART;TZID=America/New_York:20121015T193000
DTEND;TZID=America/New_York:20121015T193000
DTSTAMP:20260424T095646
CREATED:20180725T204749Z
LAST-MODIFIED:20181211T142311Z
UID:40810103621-1350329400-1350329400@www.monmouth.edu
SUMMARY:On Screen In Person: Runaway
DESCRIPTION:Runaway \n*please note the date of this screening was changed from Fri. Oct. 12 \nFilmed in Bangladesh\, Runaway by Amit Ashraf is about one man running from his past\, while another tracks him down and forces him to face it.
URL:https://www.monmouth.edu/events/event/on-screen-in-person-runaway/
ATTACH;FMTTYPE=image/jpeg:https://www.monmouth.edu/events/wp-content/uploads/sites/19/2018/07/runaway_thumb.jpg
END:VEVENT
BEGIN:VEVENT
DTSTART;TZID=America/New_York:20121016T163000
DTEND;TZID=America/New_York:20121016T163000
DTSTAMP:20260424T095646
CREATED:20180725T204811Z
LAST-MODIFIED:20190812T131837Z
UID:40810103708-1350405000-1350405000@www.monmouth.edu
SUMMARY:Meena Alexander
DESCRIPTION:Meena Alexander considered one of the foremost Indian poets of her generation\, was born in India and raised both there and in Sudan. At eighteen she went to England to study. She has published six volumes of poetry including Illiterate Heart\, which won the PEN Open Book Award\, Raw Silk and Quickly Changing River. She has also published three chapbooks of poetry: The Storm: A Poem in Five Parts\, Night-Scene\, the Garden and in 2012 Shimla. Her poems have been translated into several languages including French\, German\, Spanish\, Swedish\, Italian\, Macedonian\, Arabic\, Malayalam and Hindi. \nShe is the editor of Indian Love Poems and author of the volume of poems and short prose pieces: The Shock of Arrival: Reflections on Postcolonial Experience. Her memoir Fault Lines was picked as one of Publishers Weekly’s Best Books of the year. Poetics of Dislocation appeared in 2009 in the Poets on Poetry Series\, University of Michigan Press. Her prose includes two novels\, Nampally Road and Manhattan Music and two academic studies on early English Romanticism\, one of which is Women in Romanticism: Mary Wollstonecraft\, Dorothy Wordsworth and Mary Shelley. \nHer fellowships include those from the John Simon Guggenheim Foundation\, Fulbright Foundation\, Rockefeller Foundation and Arts Council of England as well as the National Endowment for the Humanities and the American Council of Learned Societies. She has been in residence at the McDowell Colony and at Yaddo where she had the Martha Walsh Pulver Fellowship for a Poet.
URL:https://www.monmouth.edu/events/event/meena-alexander/
ATTACH;FMTTYPE=image/jpeg:https://www.monmouth.edu/events/wp-content/uploads/sites/19/2018/07/Meena_Alexander_thumbnail.jpg
END:VEVENT
BEGIN:VEVENT
DTSTART;TZID=America/New_York:20121017T163000
DTEND;TZID=America/New_York:20121018T100000
DTSTAMP:20260424T095646
CREATED:20180725T204734Z
LAST-MODIFIED:20190304T162018Z
UID:40810103555-1350491400-1350554400@www.monmouth.edu
SUMMARY:American Rococo: Asbury Park Trek
DESCRIPTION:American Rococo: Asbury Park Trek \nwith artist Duane McDiarmid \nLecture:  \nWed. October 17\, 2012 4:30 p.m. \nMagill Club Rooms 107&108 \nWalking Tour: \nThurs. October 18 begins at 10:00 a.m. \nArt Building Courtyard \nFREE AND OPEN TO THE PUBLIC \nA performative walking tour through economically varied sections of the communities surrounding Monmouth University. This project explores a society that has advanced to a point where an excess of highly specialized tools and goods results in a trajectory towards some form of collapse. \nAudiences and participants can come and go as they please as we trek from Monmouth University to Asbury Park. We’ll meet on the boardwalk in AP for an after performance “picnic” (*picnic go-ers pay for their own meal). Students\, Faculty\, and Staff who want to take part in creating\nDuane McDiarmid’s piece in advance can contact Prof. Anne Massoni.
URL:https://www.monmouth.edu/events/event/american-rococo-asbury-park-trek/
LOCATION:Art Building
ATTACH;FMTTYPE=image/jpeg:https://www.monmouth.edu/events/wp-content/uploads/sites/19/2018/07/Rococo_Thumb.jpg
END:VEVENT
BEGIN:VEVENT
DTSTART;TZID=America/New_York:20121021T190000
DTEND;TZID=America/New_York:20121021T190000
DTSTAMP:20260424T095646
CREATED:20180725T204927Z
LAST-MODIFIED:20180731T133504Z
UID:40810103921-1350846000-1350846000@www.monmouth.edu
SUMMARY:Tinariwen with Special Guest Kishi Bashi
DESCRIPTION:Location: Pollak Theatre \nThe multi-generational\, Grammy winning musical force that is\nTinariwen (tee-nahree-WEN) brings the sound and culture of the Sahara’s\nnomadic Tuareg people to the Jersey Shore for the first time — mixing\nregional ethnic forms with Western pop influences within an electrified\nwall of sound. Tinariwen have won new fans on five continents\, a journey\n that’s taken them from the refugee camps of Gaddafi’s Libya to\ntop-ticket music fests and The Colbert Report. \nKishi Bashi\, a master at building songs from live violin loops\, layered singing and beatboxing\, will open the show. \nwww.tinariwen.com
URL:https://www.monmouth.edu/events/event/tinariwen-with-special-guest-kishi-bashi/
ATTACH;FMTTYPE=image/jpeg:https://www.monmouth.edu/events/wp-content/uploads/sites/19/2018/07/tinariwen_thumb.jpg
END:VEVENT
BEGIN:VEVENT
DTSTART;TZID=America/New_York:20121028T150000
DTEND;TZID=America/New_York:20121028T150000
DTSTAMP:20260424T095646
CREATED:20180725T204926Z
LAST-MODIFIED:20180731T133503Z
UID:40810103918-1351436400-1351436400@www.monmouth.edu
SUMMARY:Great Hall Milonga
DESCRIPTION:DUE TO WEATHER\, GREAT HALL MILONGA IS CANCELLED FOR SUN. OCT. 28 \nGreat Hall Milonga \na social dance for Tango lovers at all levels of experience\n Sun.\, October 28 \nBeginner’s Lesson at 3 p.m.  \nMilonga from 4 p.m. to 7 p.m. \nCost: $25 at the door; $20 for Monmouth University employees/faculty; Free for Monmouth students with ID\n \n\nAll tango lovers (beginners through experienced)\n and even those who are just thinking about learning to tango are\ninvited to join us for a sensational afternoon of dancing amongst the\nbeautiful background of Wilson Hall. There will be an intro to tango\nlesson for all beginners an hour before the Milonga given by Lee Sager\nand Silvana Brizuela of Tango Pantera. Live music will be performed by\nworld-renowned tango pianist Emilio Teubal and bandoneonist Raul\nJaurena. Refine your skills or learn new ones while meeting people who\nare passionate about tango.\nFor more information on Tango Pantera and the Milonga Viversidad\, visit http://tangopantera.blogspot.com/p/monmouth-university-pantera.html.
URL:https://www.monmouth.edu/events/event/great-hall-milonga/
ATTACH;FMTTYPE=image/jpeg:https://www.monmouth.edu/events/wp-content/uploads/sites/19/2018/07/Great_Hall_Milonga_Thumb.jpg
END:VEVENT
END:VCALENDAR