BEGIN:VCALENDAR
VERSION:2.0
PRODID:-//Events - ECPv6.15.20//NONSGML v1.0//EN
CALSCALE:GREGORIAN
METHOD:PUBLISH
X-WR-CALNAME:Events
X-ORIGINAL-URL:https://www.monmouth.edu/events
X-WR-CALDESC:Events for Events
REFRESH-INTERVAL;VALUE=DURATION:PT1H
X-Robots-Tag:noindex
X-PUBLISHED-TTL:PT1H
BEGIN:VTIMEZONE
TZID:America/New_York
BEGIN:DAYLIGHT
TZOFFSETFROM:-0500
TZOFFSETTO:-0400
TZNAME:EDT
DTSTART:20110313T070000
END:DAYLIGHT
BEGIN:STANDARD
TZOFFSETFROM:-0400
TZOFFSETTO:-0500
TZNAME:EST
DTSTART:20111106T060000
END:STANDARD
BEGIN:DAYLIGHT
TZOFFSETFROM:-0500
TZOFFSETTO:-0400
TZNAME:EDT
DTSTART:20120311T070000
END:DAYLIGHT
BEGIN:STANDARD
TZOFFSETFROM:-0400
TZOFFSETTO:-0500
TZNAME:EST
DTSTART:20121104T060000
END:STANDARD
BEGIN:DAYLIGHT
TZOFFSETFROM:-0500
TZOFFSETTO:-0400
TZNAME:EDT
DTSTART:20130310T070000
END:DAYLIGHT
BEGIN:STANDARD
TZOFFSETFROM:-0400
TZOFFSETTO:-0500
TZNAME:EST
DTSTART:20131103T060000
END:STANDARD
END:VTIMEZONE
BEGIN:VEVENT
DTSTART;TZID=America/New_York:20120613T190000
DTEND;TZID=America/New_York:20120613T190000
DTSTAMP:20260422T004400
CREATED:20180725T205037Z
LAST-MODIFIED:20180731T133524Z
UID:40810104098-1339614000-1339614000@www.monmouth.edu
SUMMARY:Met Opera: ANNA BOLENA Encore (Broadcast in HD)
DESCRIPTION:Donizetti’s ANNA BOLENA \nAnna Netrebko opened the Met’s 2011-12 season with her portrayal of the ill-fated queen driven insane by her unfaithful king\, singing one of opera’s greatest mad scenes. David McVicar’s Met premiere production also stars Ekaterina Gubanova as her rival\, Jane Seymour\, and Ildar Abdrazakov as Henry VIII. Marco Armiliato conducts. \n \nProduction: David McVicar \nConductor: Marco Armiliato \nCast: Anna Netrebko\, Ekaterina Gubanova\, Tamara Mumford\, Stephen Costello\, Ildar Abdrazakov \nOriginal transmission: October 15\, 2011  \nBroadcast in HD 
URL:https://www.monmouth.edu/events/event/met-opera-anna-bolena-encore-broadcast-in-hd/
ATTACH;FMTTYPE=image/jpeg:https://www.monmouth.edu/events/wp-content/uploads/sites/19/2018/07/Anna_Bolena_Thumb.jpg
END:VEVENT
BEGIN:VEVENT
DTSTART;TZID=America/New_York:20120620T190000
DTEND;TZID=America/New_York:20120620T190000
DTSTAMP:20260422T004400
CREATED:20180725T205032Z
LAST-MODIFIED:20180731T133524Z
UID:40810104095-1340218800-1340218800@www.monmouth.edu
SUMMARY:Met Opera: LE COMTE ORY Encore
DESCRIPTION:Rossini’s LE COMTE ORY \nBel canto sensation Juan Diego Flórez sings the title role of this vocally dazzling comedy\, in Bartlett Sher’s Met production. Joyce DiDonato stars in the trouser role of the page Isolier\, who vies with Count Ory for the love of Countess Adèle\, sung by Diana Damrau. \nProduction: Bartlett Sher \nConductor: Maurizio Benini \nCast: Diana Damrau\, Joyce DiDonato\, Susanne Resmark\, Juan Diego Flórez\, Stéphane Degout\, Michele Pertusi \nOriginal transmission: Saturday\, April 9\, 2011
URL:https://www.monmouth.edu/events/event/met-opera-le-comte-ory-encore/
ATTACH;FMTTYPE=image/jpeg:https://www.monmouth.edu/events/wp-content/uploads/sites/19/2018/07/Le_Comte_Ory_Thumbnail.jpg
END:VEVENT
BEGIN:VEVENT
DTSTART;TZID=America/New_York:20120627T190000
DTEND;TZID=America/New_York:20120627T190000
DTSTAMP:20260422T004400
CREATED:20180725T205031Z
LAST-MODIFIED:20180731T133523Z
UID:40810104092-1340823600-1340823600@www.monmouth.edu
SUMMARY:Met Opera: DON GIOVANNI Encore (Broadcast in HD)
DESCRIPTION:Mozart’s DON GIOVANNI \nMariusz Kwiecien is the world’s most famous lover in Michael Grandage’s elegant production\, led by Met Principal Conductor Fabio Luisi. The lineup of refined Mozartians also includes Marina Rebeka\, Barbara Frittoli\, Ramón Vargas\, and Luca Pisaroni. \nProduction: Michael Grandage \nConductor: Fabio Luisi \nCast: Marina Rebeka\, Barbara Frittoli\, Mojca Erdmann\, Ramón Vargas\, Mariusz Kwiecien\, Luca Pisaroni\, Joshua Bloom\, Štefan Kocán \nOriginal transmission: October 29\, 2011 \nBroadcast in HD 
URL:https://www.monmouth.edu/events/event/met-opera-don-giovanni-encore-broadcast-in-hd/
ATTACH;FMTTYPE=image/jpeg:https://www.monmouth.edu/events/wp-content/uploads/sites/19/2018/07/Don_Giovanni_Thumb_2.jpg
END:VEVENT
END:VCALENDAR