BEGIN:VCALENDAR
VERSION:2.0
PRODID:-//Events - ECPv6.15.20//NONSGML v1.0//EN
CALSCALE:GREGORIAN
METHOD:PUBLISH
X-ORIGINAL-URL:https://www.monmouth.edu/events
X-WR-CALDESC:Events for Events
REFRESH-INTERVAL;VALUE=DURATION:PT1H
X-Robots-Tag:noindex
X-PUBLISHED-TTL:PT1H
BEGIN:VTIMEZONE
TZID:America/New_York
BEGIN:DAYLIGHT
TZOFFSETFROM:-0500
TZOFFSETTO:-0400
TZNAME:EDT
DTSTART:20110313T070000
END:DAYLIGHT
BEGIN:STANDARD
TZOFFSETFROM:-0400
TZOFFSETTO:-0500
TZNAME:EST
DTSTART:20111106T060000
END:STANDARD
BEGIN:DAYLIGHT
TZOFFSETFROM:-0500
TZOFFSETTO:-0400
TZNAME:EDT
DTSTART:20120311T070000
END:DAYLIGHT
BEGIN:STANDARD
TZOFFSETFROM:-0400
TZOFFSETTO:-0500
TZNAME:EST
DTSTART:20121104T060000
END:STANDARD
BEGIN:DAYLIGHT
TZOFFSETFROM:-0500
TZOFFSETTO:-0400
TZNAME:EDT
DTSTART:20130310T070000
END:DAYLIGHT
BEGIN:STANDARD
TZOFFSETFROM:-0400
TZOFFSETTO:-0500
TZNAME:EST
DTSTART:20131103T060000
END:STANDARD
END:VTIMEZONE
BEGIN:VEVENT
DTSTART;TZID=America/New_York:20120505T190000
DTEND;TZID=America/New_York:20120505T190000
DTSTAMP:20260422T004515
CREATED:20180725T204938Z
LAST-MODIFIED:20180731T133506Z
UID:40810103939-1336244400-1336244400@www.monmouth.edu
SUMMARY:Jim Flanagan: Storyteller Growing up Irish-American
DESCRIPTION:Location: Lauren K. Woods Theatre \nJim Flanagan: Storyteller \nWoods Theatre\nJim Flanagan is seanchai\, a true Irish storyteller\, who has\nthat lyrical way with words the Irish bring to the world. Join him and\nvisit a Jersey City boyhood where street games\, schools\, nuns\, priests\,\nand politicians are the stuff of legends. He will take you on a journey\nfrom laughter to tears and back again with the magic of his words. The\nevening is sure to warm your heart and widen your smile.  \nTickets: $10
URL:https://www.monmouth.edu/events/event/jim-flanagan-storyteller-growing-up-irish-american/
CATEGORIES:Arts at Monmouth
ATTACH;FMTTYPE=image/jpeg:https://www.monmouth.edu/events/wp-content/uploads/sites/19/2018/07/Jim_Flanagan_Thumb.jpg
END:VEVENT
BEGIN:VEVENT
DTSTART;TZID=America/New_York:20120507T183000
DTEND;TZID=America/New_York:20120507T183000
DTSTAMP:20260422T004515
CREATED:20180725T205110Z
LAST-MODIFIED:20181221T161503Z
UID:40810104116-1336415400-1336415400@www.monmouth.edu
SUMMARY:Met Opera: Ring Cycle - Wagner's Dream
DESCRIPTION:To purchase a discounted subscription package to all five Ring Cycle broadcasts for $80 please call the box office at 732.263.6889. \nA new documentary film by Susan Froemke \n(Estimated running time: 115 minutes) \nAward-winning filmmaker Susan Froemke takes you behind the scenes as one of theater’s finest stage directors teams up with one of the world’s leading opera companies to tackle opera’s most monumental challenge: the production of Wagner’s epic Ring cycle. The film captures the creative birth of director Robert Lepage’s groundbreaking production and the multi-year effort to bring it to the stage of the Metropolitan Opera\, taking you deep into the artistic process\, from early development to musical and stage rehearsals at the Met. \nFor more information visit The Metropolitan Opera online.
URL:https://www.monmouth.edu/events/event/met-opera-ring-cycle-wagners-dream/
ATTACH;FMTTYPE=image/jpeg:https://www.monmouth.edu/events/wp-content/uploads/sites/19/2018/07/wagners_dream_thumb.jpg
END:VEVENT
BEGIN:VEVENT
DTSTART;TZID=America/New_York:20120509T183000
DTEND;TZID=America/New_York:20120509T183000
DTSTAMP:20260422T004515
CREATED:20180725T205100Z
LAST-MODIFIED:20181221T153834Z
UID:40810104113-1336588200-1336588200@www.monmouth.edu
SUMMARY:Met Opera: Ring Cycle - Das Rheingold
DESCRIPTION:To purchase a discounted subscription package to all five Ring Cycle broadcasts for $80 please call the box office at 732.263.6889. \nConceived by Wagner as a prologue to the “Ring” Cycle\, Das Rheingold sets forth the dramatic issues that play out in the three subsequent operas. Gold from the depths of the Rhine River is stolen by the dwarf Alberich\, who uses it to forge a ring that will give him unlimited power. The theft sets in motion a course of events that will eventually alter the order of the universe. Bryn Terfel as Wotan\, lord of the gods\, heads the cast. \nConductor: James Levine \nCast: Wendy Bryn Harmer\, Stephanie Blythe\, Patricia Bardon; Richard Croft\, Gerhard Siegel\, Bryn Terfel\, Eric Owens\, Franz-Josef Selig\, Hans-Peter König \nOriginal Live in HD transmission: October 9\, 2010 \nFor more information visit The Metropolitan Opera online.
URL:https://www.monmouth.edu/events/event/met-opera-ring-cycle-das-rheingold/
ATTACH;FMTTYPE=image/jpeg:https://www.monmouth.edu/events/wp-content/uploads/sites/19/2018/07/Das_Rheingold_thumb.jpg
END:VEVENT
BEGIN:VEVENT
DTSTART;TZID=America/New_York:20120514T183000
DTEND;TZID=America/New_York:20120514T183000
DTSTAMP:20260422T004515
CREATED:20180725T205054Z
LAST-MODIFIED:20220509T191630Z
UID:40810104110-1337020200-1337020200@www.monmouth.edu
SUMMARY:Met Opera: Ring Cycle - Die Walküre
DESCRIPTION:To purchase a discounted subscription package to all five Ring Cycle broadcasts for $80 please call the box office at 732.263.6889. \nThis extraordinarily powerful work of theater focuses on some of the Ring’s most interesting characters at decisive moments of their lives: Wotan\, whose violation of his own laws has jeopardized the gods’ rule; his twin offspring\, Siegmund and Sieglinde\, who are meant to save the gods; and\, above all\, his heroic Valkyrie daughter Brünnhilde\, who makes a fateful decision that shatters her world. This production marked soprano Deborah Voigt’s first performances as Brünnhilde. Bryn Terfel again is Wotan\, Jonas Kaufmann and Eva-Maria Westbroek star as the twins\, Siegmund and Sieglinde\, and Stephanie Blythe sings Fricka. \nConductor: James Levine \nCast: Deborah Voigt\, Eva-Maria Westbroek\, Stephanie Blythe; Jonas Kaufmann\, Bryn Terfel\, Hans-Peter König \nOriginal Live in HD transmission: May 14\, 2011 \nFor more information visit The Metropolitan Opera online.
URL:https://www.monmouth.edu/events/event/met-opera-ring-cycle-die-walkure/
ATTACH;FMTTYPE=image/jpeg:https://www.monmouth.edu/events/wp-content/uploads/sites/19/2018/07/Die_Walkure_Thumb.jpg
END:VEVENT
BEGIN:VEVENT
DTSTART;TZID=America/New_York:20120516T183000
DTEND;TZID=America/New_York:20120516T183000
DTSTAMP:20260422T004515
CREATED:20180725T205049Z
LAST-MODIFIED:20181221T153113Z
UID:40810104107-1337193000-1337193000@www.monmouth.edu
SUMMARY:Met Opera: Ring Cycle - Siegfried
DESCRIPTION:To purchase a discounted subscription package to all five Ring Cycle broadcasts for $80 please call the box office at 732.263.6889. \nPart three of the “Ring” follows the journey of Siegfried\, son of Siegmund and Sieglinde\, from naive fearless boy to supreme hero. With the re-forged sword of his father\, he conquers magical obstacles to reach his prize\, Brünnhilde. Jay Hunter Morris took over the title role\, one of the most demanding in the repertoire\, days before the production’s premiere and reprised his acclaimed portrayal in this live transmission the following week. Deborah Voigt is Brünnhilde and Bryn Terfel sings the Wanderer. \nConductor: Fabio Luisi \nCast: Deborah Voigt\, Patricia Bardon; Jay Hunter Morris\, Gerhard Siegel\, Bryn Terfel\, Eric Owens \nOriginal Live in HD transmission: November 5\, 2011 \nFor more information visit The Metropolitan Opera online.
URL:https://www.monmouth.edu/events/event/met-opera-ring-cycle-siegfried/
ATTACH;FMTTYPE=image/jpeg:https://www.monmouth.edu/events/wp-content/uploads/sites/19/2018/07/siegfried_thumb.jpg
END:VEVENT
BEGIN:VEVENT
DTSTART;TZID=America/New_York:20120520T140000
DTEND;TZID=America/New_York:20120520T140000
DTSTAMP:20260422T004515
CREATED:20180725T204730Z
LAST-MODIFIED:20180731T133431Z
UID:40810103534-1337522400-1337522400@www.monmouth.edu
SUMMARY:Junie B. Jones
DESCRIPTION:
URL:https://www.monmouth.edu/events/event/junie-b-jones/
ATTACH;FMTTYPE=image/jpeg:https://www.monmouth.edu/events/wp-content/uploads/sites/19/2018/07/JunieBJones_Thumb.jpg
END:VEVENT
BEGIN:VEVENT
DTSTART;TZID=America/New_York:20120520T170000
DTEND;TZID=America/New_York:20120520T170000
DTSTAMP:20260422T004515
CREATED:20180725T205043Z
LAST-MODIFIED:20181221T154203Z
UID:40810104104-1337533200-1337533200@www.monmouth.edu
SUMMARY:Met Opera: Ring Cycle - Götterdämmerung
DESCRIPTION:To purchase a discounted subscription package to all five Ring Cycle broadcasts for $80 please call the box office at 732.263.6889. \nThe “Ring” Cycle concludes with a cataclysmic climax of betrayal and loss as focus shifts from the realm of the gods to the power and ambition of human beings. It is left to Brünnhilde\, in the legendary Immolation Scene that brings the cycle to a close\, to restore balance to the world. \nDeborah Voigt stars as Brünnhilde and Jay Hunter Morris is Siegfried—the star-crossed lovers doomed by fate. \nConductor: Fabio Luisi \nCast: Deborah Voigt\, Wendy Bryn Harmer\, Waltraud Meier; Jay Hunter Morris\, Iain Paterson\, Eric Owens\, Hans-Peter König \nOriginal Live in HD transmission: February 11\, 2012 \nFor more information visit The Metropolitan Opera online.
URL:https://www.monmouth.edu/events/event/met-opera-ring-cycle-gotterdammerung/
ATTACH;FMTTYPE=image/jpeg:https://www.monmouth.edu/events/wp-content/uploads/sites/19/2018/07/gotterdammerung_thumb.jpg
END:VEVENT
BEGIN:VEVENT
DTSTART;TZID=America/New_York:20120524T190000
DTEND;TZID=America/New_York:20120524T190000
DTSTAMP:20260422T004515
CREATED:20180725T205042Z
LAST-MODIFIED:20180731T133524Z
UID:40810104101-1337886000-1337886000@www.monmouth.edu
SUMMARY:La Traviata Encore - Verdi
DESCRIPTION:We apologize that the date of the encore was printed incorrectly in our season brochure. Please note the correct date/time indicated above. \nNatalie Dessay will put on the red dress in Willy Decker’s stunning production\, in her first Violetta at the Met. Matthew Polenzani sings Alfredo\, Dmitri Hvorostovsky is Germont\, and Principal Guest Conductor Fabio Luisi is on the podium. (3 hours 7 minutes\, 1 intermission)
URL:https://www.monmouth.edu/events/event/la-traviata-encore-verdi/
ATTACH;FMTTYPE=image/jpeg:https://www.monmouth.edu/events/wp-content/uploads/sites/19/2018/07/La_Traviata_Man_thumb.jpg
END:VEVENT
END:VCALENDAR