BEGIN:VCALENDAR
VERSION:2.0
PRODID:-//Events - ECPv6.15.20//NONSGML v1.0//EN
CALSCALE:GREGORIAN
METHOD:PUBLISH
X-WR-CALNAME:Events
X-ORIGINAL-URL:https://www.monmouth.edu/events
X-WR-CALDESC:Events for Events
REFRESH-INTERVAL;VALUE=DURATION:PT1H
X-Robots-Tag:noindex
X-PUBLISHED-TTL:PT1H
BEGIN:VTIMEZONE
TZID:America/New_York
BEGIN:DAYLIGHT
TZOFFSETFROM:-0500
TZOFFSETTO:-0400
TZNAME:EDT
DTSTART:20110313T070000
END:DAYLIGHT
BEGIN:STANDARD
TZOFFSETFROM:-0400
TZOFFSETTO:-0500
TZNAME:EST
DTSTART:20111106T060000
END:STANDARD
BEGIN:DAYLIGHT
TZOFFSETFROM:-0500
TZOFFSETTO:-0400
TZNAME:EDT
DTSTART:20120311T070000
END:DAYLIGHT
BEGIN:STANDARD
TZOFFSETFROM:-0400
TZOFFSETTO:-0500
TZNAME:EST
DTSTART:20121104T060000
END:STANDARD
BEGIN:DAYLIGHT
TZOFFSETFROM:-0500
TZOFFSETTO:-0400
TZNAME:EDT
DTSTART:20130310T070000
END:DAYLIGHT
BEGIN:STANDARD
TZOFFSETFROM:-0400
TZOFFSETTO:-0500
TZNAME:EST
DTSTART:20131103T060000
END:STANDARD
END:VTIMEZONE
BEGIN:VEVENT
DTSTART;TZID=America/New_York:20120328T200000
DTEND;TZID=America/New_York:20120405T200000
DTSTAMP:20260422T015323
CREATED:20180725T204901Z
LAST-MODIFIED:20190219T173639Z
UID:40810103855-1332964800-1333656000@www.monmouth.edu
SUMMARY:Spring Musical: Working
DESCRIPTION:The Department of Music and Theatre Arts presents \nSpring Musical: Working \nMonmouth University’s Department of Music & Theatre\nwill present the first East Coast production of the newly revised\nmusical\, Working\, based on the book by Pulitzer-Prize winning author Studs Terkel. Adapted by Stephen Schwartz (Wicked\, Pippin\, and Godspell) from his original version with Nino Faso\, the new Working recently completed a run in Chicago. Monmouth’s production will be the first by any university in the country. \nDirected by Nicole Ricciardi\, Working\nis the working man’s A Chorus Line. A musical exploration of twenty-six\npeople from all walks of life\, with songs by all-star composers Craig\nCarnelia (Sweet Smell of Success)\, Micki Grant (Don’t Bother Me\, I Can’t Cope)\, Tony Award-winning Lin-Manuel Miranda (In the Heights)\, Mary Rodgers (Once Upon A Mattress)\, Susan Birkenhead (Jelly’s Last Jam)\, Stephen Schwartz\, and Grammy Award-winning singer-songwriter\, James Taylor. The musical director is George Wurzbach. \nWorking celebrates\neveryday people in a genuinely funny and touching way\, and has been\ncalled “the perfect musical for everyone who has ever worked a day in\ntheir lives.” Updated to fit 21st century audiences\, cast members sing\nand dance with cell phones and laptops as they tell the tales of\ntraditional careers: teacher\, waitress\, firefighter; and more modern\nadditions: hedge fund manager\, UPS delivery man\, and a customer service\nrepresentative in India.
URL:https://www.monmouth.edu/events/event/spring-musical-working/
LOCATION:Lauren K. Woods Theatre
ATTACH;FMTTYPE=image/jpeg:https://www.monmouth.edu/events/wp-content/uploads/sites/19/2018/07/Working_Thumb.jpg
END:VEVENT
BEGIN:VEVENT
DTSTART;VALUE=DATE:20120330
DTEND;VALUE=DATE:20120407
DTSTAMP:20260422T015323
CREATED:20180725T204852Z
LAST-MODIFIED:20190301T194331Z
UID:40810103804-1333065600-1333756799@www.monmouth.edu
SUMMARY:First Senior Exhibition (Fine Art)
DESCRIPTION:First Senior Exhibition (Fine Art)  \nMarch 30 – April 6\, 2012 \nOpening Reception:  \nFriday\, March 30\, 7 – 9 p.m. \nICE HOUSE & POLLAK GALLERIES  \nFeaturing the work of the Monmouth University graduating seniors who will receive their degrees in fine art and/or art education.
URL:https://www.monmouth.edu/events/event/first-senior-exhibition-fine-art/
LOCATION:Pollak Gallery
ATTACH;FMTTYPE=image/jpeg:https://www.monmouth.edu/events/wp-content/uploads/sites/19/2018/07/fine_art_seniorshow_Thumb.jpg
END:VEVENT
BEGIN:VEVENT
DTSTART;VALUE=DATE:20120405
DTEND;VALUE=DATE:20120420
DTSTAMP:20260422T015323
CREATED:20180725T204851Z
LAST-MODIFIED:20190304T153108Z
UID:40810103795-1333584000-1334879999@www.monmouth.edu
SUMMARY:Jacob Landau: An Exhibit of Selected Works
DESCRIPTION:MONMOUTH UNIVERSITY PRESENTS: \nAdvocacy of the Human: An Exhibit of Selected Works\n  \nBy Jacob Landau\n  \nThis exhibit is a selection from Monmouth University’s extensive collection of Jacob Landau’s work. Each line of these images reveal an aspect of our humanity and affirms our inviolable individuality. He places the human at the center of our world because it is the individual who suffers and\, at the same time\, who envisions a world without suffering\, so that it can be created. And in this act every human is an artist. \nAt the Monmouth University Library\n  \nSeminar Rooms 102 & 104\n  \nApril 5-19\, 2012\n  \nOpen to public & docent tours available. \nConsult library website for times https://library.monmouth.edu/
URL:https://www.monmouth.edu/events/event/jacob-landau-an-exhibit-of-selected-works/
LOCATION:Monmouth University Library
ATTACH;FMTTYPE=image/jpeg:https://www.monmouth.edu/events/wp-content/uploads/sites/19/2018/07/landau_thumb.jpg
END:VEVENT
BEGIN:VEVENT
DTSTART;TZID=America/New_York:20120405T113000
DTEND;TZID=America/New_York:20120405T141500
DTSTAMP:20260422T015323
CREATED:20180725T204736Z
LAST-MODIFIED:20190304T162257Z
UID:40810103564-1333625400-1333635300@www.monmouth.edu
SUMMARY:Here\, There\, Then\, Now: Dahlia Elsayed
DESCRIPTION:Here\, There\, Then\, Now \nDahlia Elsayed – painter/installation artist \nEvent will take place in the Art Building Courtyard – between Plangere & Student Center\, behind Sculpture Garden (rain location will be Plangere lobby) \nAudiences can come and go as they please. If students want to take part in creating Dahlia Elsayed’s site specific performance\, they can contact the artist at delsayed@monmouth.edu \nThis special site-specific event is a cross-disciplinary project chronicling how public histories and private narratives temporarily attach to landscape\, specifically to bodies of water.\nElsayed will collaborate with students from various departments to create a multi-channel event exploring ideas of semi-permanence\, traces\,\nand cyclical erasures relating to the ocean with all its implications as life sustaining\, transporting\, cleansing and deadly. \nArtist bio: For over a decade\, Elsayed has been making paintings and installations that synthesize an internal and external experience of place\, connecting the topographical with the psychological. Her work has been exhibited extensively throughout the U.S. and internationally. Visually\, Elsayed pulls from conceptual art\, comics\, cartography and landscape painting and employs symbols of hard data to frame the soft data of the\nephemeral. For three generations Elsayed’s family has moved from continent to continent due to political and religious persecution\, which\nhas fostered a deep curiosity about how story shapes a landscape\, and its inverse\, how landscape takes a mythic form in narrative. For more\ninformation visit: www.dahliaelsayed.com.
URL:https://www.monmouth.edu/events/event/here-there-then-now-dahlia-elsayed/
LOCATION:Art Building
ATTACH;FMTTYPE=image/jpeg:https://www.monmouth.edu/events/wp-content/uploads/sites/19/2018/07/DahliaElsayed_Thumbnail.jpg
END:VEVENT
BEGIN:VEVENT
DTSTART;TZID=America/New_York:20120405T193000
DTEND;TZID=America/New_York:20120405T193000
DTSTAMP:20260422T015323
CREATED:20180725T204743Z
LAST-MODIFIED:20180731T133436Z
UID:40810103597-1333654200-1333654200@www.monmouth.edu
SUMMARY:Provost Film Series: Under the Bombs
DESCRIPTION:Under the Bombs (Not Rated) \nIn\n the wake of Israel’s 2006 bombardment of Lebanon\, a determined woman\nfinds her way into the country convincing a taxi cab driver to take a\nrisky journey around the scarred region in search of her sister and her\nson. Panelists: Dr. Azzam Elayan\, lecturer in chemistry\, Monmouth\nUniversity and Dr. Saliba Sarsar\, professor of political science\,\nMonmouth University
URL:https://www.monmouth.edu/events/event/provost-film-series-under-the-bombs/
ATTACH;FMTTYPE=image/jpeg:https://www.monmouth.edu/events/wp-content/uploads/sites/19/2018/07/underthebombs_thumb.jpg
END:VEVENT
BEGIN:VEVENT
DTSTART;TZID=America/New_York:20120407T120000
DTEND;TZID=America/New_York:20120407T120000
DTSTAMP:20260422T015323
CREATED:20180725T205116Z
LAST-MODIFIED:20181221T155238Z
UID:40810104125-1333800000-1333800000@www.monmouth.edu
SUMMARY:Met Opera: Manon - Massenet
DESCRIPTION:Encore Date: Thursday\, April 26\, 2012 at 7 p.m. \nAnna Netrebko’s dazzling portrayal of the tragic heroine in Laurent Pelly’s new production travels to the Met from the Royal Opera House\, Covent Garden. Piotr Beczala and Paulo Szot also star\, with the Met’s Principal Guest Conductor Fabio Luisi on the podium. (4 hours 8 minutes\, 2 intermissions) \nFor more information visit The Metropolitan Opera online.
URL:https://www.monmouth.edu/events/event/met-opera-manon-massenet/
ATTACH;FMTTYPE=image/jpeg:https://www.monmouth.edu/events/wp-content/uploads/sites/19/2018/07/manon_thumb.jpg
END:VEVENT
BEGIN:VEVENT
DTSTART;TZID=America/New_York:20120409T193000
DTEND;TZID=America/New_York:20120409T193000
DTSTAMP:20260422T015323
CREATED:20180725T204751Z
LAST-MODIFIED:20190426T162819Z
UID:40810103630-1333999800-1333999800@www.monmouth.edu
SUMMARY:On Screen In Person: Blast!
DESCRIPTION:Blast!\nDirector: Paul Devlin \nMonday\, April 9\, 2012\nat 7:30 p.m. \nWilson Auditorium \nWelcome to astrophysics\, Indiana Jones-style! Five-time Emmy winner Paul Devlin follows the story of his brother\, mark Devlin Ph.D.\, as he leads a tenacious team of scientists trying to figure out how all the galaxies formed by launching a revolutionary new telescope under a NASA high-altitude balloon. They hope to look back in time to reveal a hidden Universe of never-before-seen star burst galaxies\, providing clues to the Evolution of Everything. From catastrophic failure to transcendent triumph\, Blast! exposes the surprising real life work of scientists
URL:https://www.monmouth.edu/events/event/on-screen-in-person-blast/
ATTACH;FMTTYPE=image/jpeg:https://www.monmouth.edu/events/wp-content/uploads/sites/19/2018/07/Blast_Thumbnail.jpg
END:VEVENT
BEGIN:VEVENT
DTSTART;TZID=America/New_York:20120410T163000
DTEND;TZID=America/New_York:20120410T163000
DTSTAMP:20260422T015323
CREATED:20180725T204812Z
LAST-MODIFIED:20180731T133450Z
UID:40810103714-1334075400-1334075400@www.monmouth.edu
SUMMARY:Visiting Writer: Naomi Shihab Nye
DESCRIPTION:Location: Pollak Theater \n  \n Naomi Shihab Nye – Poetry Reading \n Admission compliments of Monmouth University \nNaomi Shihab Nye was born to a Palestinian father and an American mother and grew up in St. Louis\, Jerusalem\, and San Antonio. She is the author and/or editor of more than 25 volumes. Her books of poetry include 19 Varieties of Gazelle: Poems of the Middle East\, A Maze Me: Poems for Girls\, Red Suitcase\, Words under the Words\, Fuel\, and You & Yours (a best-selling poetry book of 2006). Other works include seven prize-winning poetry anthologies for young readers\, including This Same Sky\, The Space Between Our Footsteps: Poems & Paintings from the Middle East\, and What Have You Lost? Her recent collection of poems for young adults titled Honeybee won the 2008 Arab American Book Award in the Children’s/Young Adult category. Two new books are forthcoming in winter 2012: There Is No Long Distance Now (a collection of very short stories) and Transfer (a book of poetry and prose). She has been a Guggenheim Fellow and a WitterBynner Fellow (Library of Congress). Her collection 19 Varieties of Gazelle was a finalist for the National Book Award. Her work has been presented on National Public Radio on A Prairie Home Companion and The Writer’s Almanac. She has been featured on two PBS poetry specials: “The Language of Life with Bill Moyers” and “The United States of Poetry” and also appeared on NOW with Bill Moyers. \nClick for more information on the Caravanserai events. \n \n  \n 
URL:https://www.monmouth.edu/events/event/visiting-writer-naomi-shihab-nye/
CATEGORIES:Arts at Monmouth
ATTACH;FMTTYPE=image/jpeg:https://www.monmouth.edu/events/wp-content/uploads/sites/19/2018/07/naomi_shihab_nye_Thumb.jpg
END:VEVENT
BEGIN:VEVENT
DTSTART;TZID=America/New_York:20120412T190000
DTEND;TZID=America/New_York:20120412T190000
DTSTAMP:20260422T015323
CREATED:20180725T205116Z
LAST-MODIFIED:20220420T154247Z
UID:40810104128-1334257200-1334257200@www.monmouth.edu
SUMMARY:Met Opera: Ernani Encore - Verdi  (Broadcast in HD)
DESCRIPTION:Angela Meade takes center stage in Verdi’s thrilling early gem. Salvatore Licitra is her mismatched lover\, and all-star Verdians Dmitri Hvorostovsky and Ferruccio Furlanetto round out the cast.\n(3 hours 49 minutes\, 2 intermissions) \nBroadcast in HD \nFor more information visit The Metropolitan Opera online.
URL:https://www.monmouth.edu/events/event/met-opera-ernani-encore-verdi-broadcast-in-hd/
ATTACH;FMTTYPE=image/jpeg:https://www.monmouth.edu/events/wp-content/uploads/sites/19/2018/07/ernani_thumb.jpg
END:VEVENT
BEGIN:VEVENT
DTSTART;TZID=America/New_York:20120413T200000
DTEND;TZID=America/New_York:20120413T200000
DTSTAMP:20260422T015323
CREATED:20180725T204940Z
LAST-MODIFIED:20180731T133507Z
UID:40810103945-1334347200-1334347200@www.monmouth.edu
SUMMARY:Marc Muller's Dead On: Live
DESCRIPTION:Dead On – Live! \nA Note-For-Note Re-creation of The Grateful Dead’sAmerican Beauty & Workingman’s Dead \n Cost: $40/30 \nFaithful note-for-note re-creations of The Grateful Dead’s 1970Workingman’s Dead and American Beauty albums\, which include such favorites as “Uncle John’s Band\,” “Casey Jones\,” “Truckin’\,” and “Sugar Magnolia.” Multi instrumentalist Marc Muller directs a Note For Note celebration capturing this important and beloved period in the Grateful Dead’s long\, illustrious\, and stylistically diverse career. He has assembled an impressive cast of world class musicians who have been able to reproduce virtually every note of every instrument\, as well as all of the beautifully orchestrated vocal arrangements that are a trademark of these 2 American classics\, to a level that’s perhaps never been accomplished and performed live in concert before. For more information visit: www.deadonlive.com
URL:https://www.monmouth.edu/events/event/marc-mullers-dead-on-live/
ATTACH;FMTTYPE=image/jpeg:https://www.monmouth.edu/events/wp-content/uploads/sites/19/2018/07/Dead_On_Thumbnail.jpg
END:VEVENT
BEGIN:VEVENT
DTSTART;TZID=America/New_York:20120414T130000
DTEND;TZID=America/New_York:20120414T130000
DTSTAMP:20260422T015323
CREATED:20180725T205115Z
LAST-MODIFIED:20220509T190301Z
UID:40810104122-1334408400-1334408400@www.monmouth.edu
SUMMARY:La Traviata - Verdi
DESCRIPTION:Encore Date: Thursday\, May 24\, 2012 at 7 p.m. \nWe apologize that the date of the encore was printed incorrectly in our season brochure. Please note the correct date/time indicated above. \nNatalie Dessay will put on the red dress in Willy Decker’s stunning production\, in her first Violetta at the Met. Matthew Polenzani sings Alfredo\, Dmitri Hvorostovsky is Germont\, and Principal Guest Conductor Fabio Luisi is on the podium. (3 hours 7 minutes\, 1 intermission) \nFor more information visit The Metropolitan Opera online.
URL:https://www.monmouth.edu/events/event/la-traviata-verdi/
ATTACH;FMTTYPE=image/jpeg:https://www.monmouth.edu/events/wp-content/uploads/sites/19/2018/07/traviata_Thumb.jpg
END:VEVENT
BEGIN:VEVENT
DTSTART;TZID=America/New_York:20120420T193000
DTEND;TZID=America/New_York:20120420T193000
DTSTAMP:20260422T015323
CREATED:20180725T204900Z
LAST-MODIFIED:20180731T133458Z
UID:40810103849-1334950200-1334950200@www.monmouth.edu
SUMMARY:Rule Americana: Spring Concert
DESCRIPTION:Cost: $30 (adults)\, $20 (seniors)\, $5 (non-MU students)\, MU students with ID get one free ticket
URL:https://www.monmouth.edu/events/event/rule-americana-spring-concert/
ATTACH;FMTTYPE=image/jpeg:https://www.monmouth.edu/events/wp-content/uploads/sites/19/2018/07/Rule_Americana_Thumb.jpg
END:VEVENT
BEGIN:VEVENT
DTSTART;TZID=America/New_York:20120420T193000
DTEND;TZID=America/New_York:20120420T193000
DTSTAMP:20260422T015323
CREATED:20180725T204939Z
LAST-MODIFIED:20180731T133506Z
UID:40810103942-1334950200-1334950200@www.monmouth.edu
SUMMARY:DAUGHTRY - Break the Spell 2012 Tour
DESCRIPTION:BREAK THE SPELL TOUR 2012 \nDAUGHTRY \nwith special guests \nSAFETYSUIT and MIKE SANCHEZ \nTickets are on sale now through Ticketmaster.com\, phone charge at 800-745-3000\, the MAC and Pollak Theatre box offices\, and select Ticketmaster retail outlets.  \nLimit eight per person. \nSeating Chart \nTicket Prices: \nP1 (Floor/Lower Bowl) = $52.50  \nP2 (Upper Bowl/Bleachers) = $42.50  \nDoors open at 6:30 p.m. \nThe Box Office will be open at 4:30 p.m. on the day of the show.  \nThe parking lot will open at 5:30 p.m.  \nThere will be a $10 parking fee per car and tailgating is prohibited. \nProduced by TTM\, Inc and AEG Live  \nFor more about the band\, visit www.daughtryofficial.com.
URL:https://www.monmouth.edu/events/event/daughtry-break-the-spell-2012-tour/
ATTACH;FMTTYPE=image/jpeg:https://www.monmouth.edu/events/wp-content/uploads/sites/19/2018/07/Daughtry_Final.jpg
END:VEVENT
BEGIN:VEVENT
DTSTART;TZID=America/New_York:20120420T193000
DTEND;TZID=America/New_York:20120420T193000
DTSTAMP:20260422T015323
CREATED:20180725T204940Z
LAST-MODIFIED:20220420T153541Z
UID:40810103948-1334950200-1334950200@www.monmouth.edu
SUMMARY:Rule Americana: Spring Concert
DESCRIPTION:Spring Concert\nRule Americana\nCost: $30 (adults)\, $20 (seniors)\, $5 (non-MU students)\, MU students with ID get one free ticket
URL:https://www.monmouth.edu/events/event/rule-americana-spring-concert-2/
ATTACH;FMTTYPE=image/jpeg:https://www.monmouth.edu/events/wp-content/uploads/sites/19/2018/07/Rule_Americana_Thumb.jpg
END:VEVENT
BEGIN:VEVENT
DTSTART;TZID=America/New_York:20120421T200000
DTEND;TZID=America/New_York:20120421T200000
DTSTAMP:20260422T015323
CREATED:20180725T204938Z
LAST-MODIFIED:20180731T133506Z
UID:40810103936-1335038400-1335038400@www.monmouth.edu
SUMMARY:Adam Pascal & Anthony Rapp: Original Stars of Broadway's RENT
DESCRIPTION:Adam & Anthony from Broadway’s Rent \nCost: $47/37 \nThis show will feature the two Rent stars performing singly and together. Rapp will specifically perform pop standards\, as well as original material. Pascal will offer a segment titled Me and Larry\, featuring musical director Larry Edoff that will include numbers from Cabaret and Chess\, as well as new arrangements of “Maria\,” “Not a Day Goes By\,” and “What I Did for Love\,” among others. In addition the two will share stories about working on Rent and perform selections from Jonathan Larson’s multi-award-winning show.
URL:https://www.monmouth.edu/events/event/adam-pascal-anthony-rapp-original-stars-of-broadways-rent/
ATTACH;FMTTYPE=image/jpeg:https://www.monmouth.edu/events/wp-content/uploads/sites/19/2018/07/RENT_Thumb.jpg
END:VEVENT
BEGIN:VEVENT
DTSTART;TZID=America/New_York:20120426T090000
DTEND;TZID=America/New_York:20120426T160000
DTSTAMP:20260422T015323
CREATED:20180725T204735Z
LAST-MODIFIED:20190304T160916Z
UID:40810103558-1335430800-1335456000@www.monmouth.edu
SUMMARY:a drift: Erin V. Sotak
DESCRIPTION:Erin V. Sotak – photographer and installation artist \nAudiences can come and go as they please.  If students want to take part in creating Erin Sotak’s site specific performance\, they can contact\nAnne Massoni at amassoni@monmouth.edu. \nThis collaborative site-specific performance transforms ordinary experience into performative action and elevates everyday life encounters. Mundane and significant events are amplified and altered through repetition and recreation while fabricated narratives interrupt reality and engage the fantastical. A hopeless romantic and devout absurdist\, Sotak regales the arduous adventures of comically courting the ever-shifting and always fleeting in an attempt to stall\, freeze and simply endure. \nArtist bio:\nErin V. Sotak has exhibited both nationally and internationally and is the recipient of numerous grants and awards. She has been an invited lecturer and an artist in residence at prestigious universities\, and her work has been published in several art journals. She describes her work as “less a conversation and more a short story. I narrate using symbolic colors\, iconic objects\, cultural references and historical allusions… My work\nmost often takes the form of installation and performance that is concerned with labor\, endurance\, absurdity\, collections\, consumption and\naesthetics. The work ultimately and most importantly exists as a photograph.” \nFor more information visit: http://www.erinvsotak.com/Erin_V_Sotak/erin_v._sotak.html
URL:https://www.monmouth.edu/events/event/a-drift-erin-v-sotak/
LOCATION:Shadow Lawn
ATTACH;FMTTYPE=image/jpeg:https://www.monmouth.edu/events/wp-content/uploads/sites/19/2018/07/ErinV.Sotak_Thumbnail.jpg
END:VEVENT
BEGIN:VEVENT
DTSTART;TZID=America/New_York:20120426T190000
DTEND;TZID=America/New_York:20120426T190000
DTSTAMP:20260422T015323
CREATED:20180725T205114Z
LAST-MODIFIED:20181221T155314Z
UID:40810104119-1335466800-1335466800@www.monmouth.edu
SUMMARY:Met Opera: Manon Encore - Massenet
DESCRIPTION:Anna Netrebko’s dazzling portrayal of the tragic heroine in Laurent Pelly’s new production travels to the Met from the Royal Opera House\, Covent Garden. Piotr Beczala and Paulo Szot also star\, with the Met’s Principal Guest Conductor Fabio Luisi on the podium. (4 hours 8 minutes\, 2 intermissions) \nFor more information visit The Metropolitan Opera online.
URL:https://www.monmouth.edu/events/event/met-opera-manon-encore-massenet/
ATTACH;FMTTYPE=image/jpeg:https://www.monmouth.edu/events/wp-content/uploads/sites/19/2018/07/manon_thumb.jpg
END:VEVENT
END:VCALENDAR