BEGIN:VCALENDAR
VERSION:2.0
PRODID:-//Events - ECPv6.15.20//NONSGML v1.0//EN
CALSCALE:GREGORIAN
METHOD:PUBLISH
X-WR-CALNAME:Events
X-ORIGINAL-URL:https://www.monmouth.edu/events
X-WR-CALDESC:Events for Events
REFRESH-INTERVAL;VALUE=DURATION:PT1H
X-Robots-Tag:noindex
X-PUBLISHED-TTL:PT1H
BEGIN:VTIMEZONE
TZID:America/New_York
BEGIN:DAYLIGHT
TZOFFSETFROM:-0500
TZOFFSETTO:-0400
TZNAME:EDT
DTSTART:20110313T070000
END:DAYLIGHT
BEGIN:STANDARD
TZOFFSETFROM:-0400
TZOFFSETTO:-0500
TZNAME:EST
DTSTART:20111106T060000
END:STANDARD
BEGIN:DAYLIGHT
TZOFFSETFROM:-0500
TZOFFSETTO:-0400
TZNAME:EDT
DTSTART:20120311T070000
END:DAYLIGHT
BEGIN:STANDARD
TZOFFSETFROM:-0400
TZOFFSETTO:-0500
TZNAME:EST
DTSTART:20121104T060000
END:STANDARD
BEGIN:DAYLIGHT
TZOFFSETFROM:-0500
TZOFFSETTO:-0400
TZNAME:EDT
DTSTART:20130310T070000
END:DAYLIGHT
BEGIN:STANDARD
TZOFFSETFROM:-0400
TZOFFSETTO:-0500
TZNAME:EST
DTSTART:20131103T060000
END:STANDARD
END:VTIMEZONE
BEGIN:VEVENT
DTSTART;VALUE=DATE:20120117
DTEND;VALUE=DATE:20120310
DTSTAMP:20260422T020411
CREATED:20180725T204853Z
LAST-MODIFIED:20190228T144606Z
UID:40810103813-1326758400-1331337599@www.monmouth.edu
SUMMARY:MU Faculty Exhibition
DESCRIPTION:MU Faculty Exhibition \n  \nJanuary 17 – March 9\, 2012 \nOpening Reception: \nFriday\, January 27 from 7 – 9 p.m. \nICE HOUSE GALLERY \nFeaturing the work of the Monmouth University Department of Art & Design faculty. \n 
URL:https://www.monmouth.edu/events/event/mu-faculty-exhibition/
LOCATION:Rotary Ice House Gallery
ATTACH;FMTTYPE=image/jpeg:https://www.monmouth.edu/events/wp-content/uploads/sites/19/2018/07/Faculty_Exhibition_Thumb.jpg
END:VEVENT
BEGIN:VEVENT
DTSTART;TZID=America/New_York:20120130T170000
DTEND;TZID=America/New_York:20120315T190000
DTSTAMP:20260422T020411
CREATED:20180725T204852Z
LAST-MODIFIED:20190301T194402Z
UID:40810103801-1327942800-1331838000@www.monmouth.edu
SUMMARY:SAMINA QURAESHI - Reflections on a Sufi Path
DESCRIPTION:SAMINA QURAESHI: Reflections on a Sufi Path  \nJanuary 30 – March 15\, 2012  \nOpening Reception:  \nJanuary 30\, 2012 \nfrom 5:00-7:00 pm \nPollak Gallery \nAdmission compliments of Monmouth University \nImaginative\, vibrant\, and saturated with the rich colors of South Asia\, Samina Quraeshi’s photographs\, calligraphic works\, and mixed media montages reflect the diversity of Islamic expressions of faith. Her work is a creative response to the experience of pilgrimage to the Sufi shrines in the Indus Valley. The images evoke the music\, dance\, and acts of faith that animate these sacred spaces. \nClick for more information on the Caravanserai events.
URL:https://www.monmouth.edu/events/event/samina-quraeshi-reflections-on-a-sufi-path/
LOCATION:Pollak Gallery
ATTACH;FMTTYPE=image/jpeg:https://www.monmouth.edu/events/wp-content/uploads/sites/19/2018/07/Samina_Thumbnail.jpg
END:VEVENT
BEGIN:VEVENT
DTSTART;TZID=America/New_York:20120206T193000
DTEND;TZID=America/New_York:20120206T193000
DTSTAMP:20260422T020411
CREATED:20180725T204752Z
LAST-MODIFIED:20180731T133441Z
UID:40810103633-1328556600-1328556600@www.monmouth.edu
SUMMARY:Money Matters
DESCRIPTION:Director: Ryan Richmond \nMonday\, February 6\, 2012at 7:30 p.m.Pollak Theatre \nAdmission courtesy of Monmouth University \nMoney Matters is a coming-of-age story about a 14 year-old biracial girl\, Monique Matters\, as she tries to navigate faith and sexuality questions of adolescence\, a dysfunctional single-mother household\, and the rough waters of our nation’s capital’s best kept secret–the inner city. Monique never knew her father\, and as her mother’s disturbing past comes to light\, she must somehow reconcile the relationships and circumstances surrounding her very existence.
URL:https://www.monmouth.edu/events/event/money-matters/
ATTACH;FMTTYPE=image/jpeg:https://www.monmouth.edu/events/wp-content/uploads/sites/19/2018/07/MoneyMatters_Thumbnail.jpg
END:VEVENT
BEGIN:VEVENT
DTSTART;TZID=America/New_York:20120210T200000
DTEND;TZID=America/New_York:20120210T200000
DTSTAMP:20260422T020411
CREATED:20180725T204948Z
LAST-MODIFIED:20180731T133510Z
UID:40810103969-1328904000-1328904000@www.monmouth.edu
SUMMARY:Cherish The Ladies
DESCRIPTION:Cherish the Ladies: Irish Homecoming with Maura O’Connell \nCost: $47/37 \nWhen describing Cherish the Ladies\, the critics say it best. “It is simply impossible to imagine an audience that wouldn’t enjoy what they do\,” says the Boston Globe\, “An astonishing array of virtuosity\,” adds the Washington Post\, “Expands the annals of Irish music in America\, the music is passionate\, tender and rambunctious\,” notes The New York Times. For the past twenty five years\, Cherish the Ladies have proven themselves worthy to live up to these accolades and in doing so have become one of the most engaging ensembles in the history of Irish music. \nBy transforming lyrics and music into intimate portraits of human life\, Maura O’Connell offers soulful consolation on simply living it. The ultimate singer’s singer\, O’Connell’s gems are worth hearing again and again.
URL:https://www.monmouth.edu/events/event/cherish-the-ladies-2/
ATTACH;FMTTYPE=image/jpeg:https://www.monmouth.edu/events/wp-content/uploads/sites/19/2018/07/Cherish_the_Ladies_Thumbnail.jpg
END:VEVENT
BEGIN:VEVENT
DTSTART;TZID=America/New_York:20120211T120000
DTEND;TZID=America/New_York:20120211T120000
DTSTAMP:20260422T020411
CREATED:20180725T205119Z
LAST-MODIFIED:20181221T155700Z
UID:40810104143-1328961600-1328961600@www.monmouth.edu
SUMMARY:Götterdämmerung - Wagner (Broadcast in HD)
DESCRIPTION:With its cataclysmic climax\, the Met’s new Ring cycle\, directed by Robert Lepage\, comes to its resolution. Deborah Voigt stars as Brünnhilde and Gary Lehman is Siegfried—the star-crossed lovers doomed by fate. James Levine conducts.(6 hours 24 minutes\, 2 intermissions) \nBroadcast in HD \nFor more information visit The Metropolitan Opera online.
URL:https://www.monmouth.edu/events/event/gotterdammerung-wagner-broadcast-in-hd/
ATTACH;FMTTYPE=image/jpeg:https://www.monmouth.edu/events/wp-content/uploads/sites/19/2018/07/gotterdammerung_thumb.jpg
END:VEVENT
BEGIN:VEVENT
DTSTART;TZID=America/New_York:20120212T150000
DTEND;TZID=America/New_York:20120212T150000
DTSTAMP:20260422T020411
CREATED:20180725T204947Z
LAST-MODIFIED:20180731T133509Z
UID:40810103966-1329058800-1329058800@www.monmouth.edu
SUMMARY:In The Mood: A 1940s Musical Revue
DESCRIPTION:Back by popular demand\, In the Mood returns with their big band orchestra\, singers\, and swing dancers. This retro 1940s musical revives the music that moved a nation’s spirit and helped win a war. The combination of up-tempo instrumentals and intimate\, romantic ballads set the mood for a future filled with promise\, hope\, and prosperity. This Big Band theatrical Swing revue features the music of Glenn Miller\, Tommy Dorsey\, Artie Shaw\, Benny Goodman\, Harry James\, Erskin Hawkins\, The Andrews Sisters\, Frank Sinatra\, and more. \n \nFor More Information \nIn The Mood Web Site \n Cost: $42/35
URL:https://www.monmouth.edu/events/event/in-the-mood-a-1940s-musical-revue/
CATEGORIES:Arts at Monmouth,Concerts,Dance,Theatre
ATTACH;FMTTYPE=image/jpeg:https://www.monmouth.edu/events/wp-content/uploads/sites/19/2018/07/In_the_mood_Thumb1-1.jpg
END:VEVENT
BEGIN:VEVENT
DTSTART;TZID=America/New_York:20120216T190000
DTEND;TZID=America/New_York:20120216T190000
DTSTAMP:20260422T020411
CREATED:20180725T205118Z
LAST-MODIFIED:20220420T154045Z
UID:40810104137-1329418800-1329418800@www.monmouth.edu
SUMMARY:Faust Encore - Gounod (Broadcast in HD)
DESCRIPTION:With Jonas Kaufmann in the title role\, René Pape as the devil\, and Marina Poplavskaya as Marguerite\, Gounod’s classic retelling of the Faust legend couldn’t be better served. Tony Award-winning director Des McAnuff updates the story to the first half of the 20th century with a production that won praise in London last season. Yannick Nézet-Séguin conducts on the heels of his Don Carlo success.\n(4 hours 20 minutes\, 2 intermissions) \nBroadcast in HD\nFor more information visit The Metropolitan Opera online.
URL:https://www.monmouth.edu/events/event/faust-encore-gounod-broadcast-in-hd/
ATTACH;FMTTYPE=image/jpeg:https://www.monmouth.edu/events/wp-content/uploads/sites/19/2018/07/Faust_Thumb.jpg
END:VEVENT
BEGIN:VEVENT
DTSTART;TZID=America/New_York:20120217T200000
DTEND;TZID=America/New_York:20120217T200000
DTSTAMP:20260422T020411
CREATED:20180725T204946Z
LAST-MODIFIED:20180731T133509Z
UID:40810103963-1329508800-1329508800@www.monmouth.edu
SUMMARY:Carolina Chocolate Drops with M Shanghai String Band
DESCRIPTION:“The Carolina Chocolate Drops are…revisiting\, with a joyful vengeance\, black string-band and jug-band music of the Twenties and Thirties—the dirt-floor dance electricity of the Mississippi Sheiks and Cannon’s Jug Stompers.” — Rolling Stone \n“To call them a string band does not really do justice to the flying instruments\, the role changes and the strong and sometimes dangerous singing of Rhiannon Giddens …” — New York Times \n“The hottest thing to hit the old-time music community in decades.” — NPR  \nThe M Shanghai String Band will open the show. For more information about the bands visit: carolinachocolatedrops.com and mshanghaistringband.com \n Cost: $32
URL:https://www.monmouth.edu/events/event/carolina-chocolate-drops-with-m-shanghai-string-band/
ATTACH;FMTTYPE=image/jpeg:https://www.monmouth.edu/events/wp-content/uploads/sites/19/2018/07/Carolina_Chocolate_Thumb.jpg
END:VEVENT
BEGIN:VEVENT
DTSTART;TZID=America/New_York:20120221T193000
DTEND;TZID=America/New_York:20120221T193000
DTSTAMP:20260422T020411
CREATED:20180725T204744Z
LAST-MODIFIED:20180731T133437Z
UID:40810103603-1329852600-1329852600@www.monmouth.edu
SUMMARY:Caravanserai: Made in Pakistan
DESCRIPTION:Made in Pakistan (Not Rated) \n An insider’s look into “The Most Dangerous Country in the World” as labeled by a cover story in Newsweek on\n October 29\, 2007. The documentary follows the lives of four Pakistani\nindividuals who defy this prevailing stereotype of the country by the\nvery choices they have made in their lives. They are working\nprofessionals—two women entrepreneurs\, a politician\, and a lawyer. These\n four individuals represent a multifaceted Pakistan—a country where\npolitics\, religion\, debate\, tradition\, and fashion intermingle—where one\n definition of an Islamic State no longer holds true. \nPanelists: Nasir Khan\, film director and Mohammed Sheikh\, graduate student\, Monmouth University
URL:https://www.monmouth.edu/events/event/caravanserai-made-in-pakistan/
ATTACH;FMTTYPE=image/jpeg:https://www.monmouth.edu/events/wp-content/uploads/sites/19/2018/07/madeinpakistan_thumb.jpg
END:VEVENT
BEGIN:VEVENT
DTSTART;TZID=America/New_York:20120221T193000
DTEND;TZID=America/New_York:20120221T193000
DTSTAMP:20260422T020411
CREATED:20180725T204744Z
LAST-MODIFIED:20180731T133437Z
UID:40810103600-1329852600-1329852600@www.monmouth.edu
SUMMARY:Made In Pakistan
DESCRIPTION:“Made in Pakistan” Film Screening and Discussion with Ayesha Khan \nAyesha Khan\, director of feature film KASHF: Lifting of the Veil and executive producer of Made in Pakistan is one of Pakistan’s most talented and dynamic young filmmakers. Ayesha will showcase the film Made in Pakistan to American audiences for the Caravanserai film residencies. Made in Pakistan\,\n a 60-minute documentary directed by Nasir Khan and produced by Ms.\nKhan\, follows the lives of four young\, middle-class Pakistanis during\nPervez Musharraf’s state of emergency in 2007. Winner of the Audience\nChoice Award for Best Documentary at the South Asian International Film\nFestival in New York\, Made in Pakistan is a riveting glimpse\ninto life in Pakistan—a country where politics\, fashion\, religion\,\ndebate\, and tradition intermingle\, where one definition of an Islamic\nState no longer holds true. A successful example of independent\nfilmmaking in contemporary Pakistan\, Made in Pakistan will\nprovide a framework for thought-provoking screenings and discussion led\nby a bright new voice from Pakistan’s burgeoning film industry.
URL:https://www.monmouth.edu/events/event/made-in-pakistan/
ATTACH;FMTTYPE=image/jpeg:https://www.monmouth.edu/events/wp-content/uploads/sites/19/2018/07/madeinpakistan_thumb.jpg
END:VEVENT
BEGIN:VEVENT
DTSTART;TZID=America/New_York:20120223T163000
DTEND;TZID=America/New_York:20120223T163000
DTSTAMP:20260422T020411
CREATED:20180725T204814Z
LAST-MODIFIED:20220509T192711Z
UID:40810103720-1330014600-1330014600@www.monmouth.edu
SUMMARY:Liliana Ursu
DESCRIPTION:Club Rooms 107-108\, Magill Commons \nLiliana Ursu\, internationally acclaimed Romanian poet\, was born in Sibiu\, Romania\, in 1949. Ursu has published eight books of poetry in Romanian. Her first book in English\,The Sky Behind the Forest(Bloodaxe Books\, 1997)\, translated by Ursu\, Adam J. Sorkin\, and Tess Gallagher\, became a British Poetry Book Society Recommended Translation and was shortlisted for Oxford’s Weidenfeld Prize.Goldsmith Market (Zephyr Press\, 2004) is Liliana Ursu’s third book of poetry in Romanian\, and her third book to appear in English. Lightwall will be published by Zephyr Press in 2009. Her most recent book A Path to the Sea was published in 2011 \nDuring 1992-93 and again in 1997-98\, Ursu was a Fulbright Lecturer at Penn State’s University Park campus; in spring 2000 she served as a visiting professor of creative writing at the University of Louisville. In fall 2003\, she was Poet-in-Residence at the Stadler Center for Poetry\, Bucknell University. Ursu has worked for Romanian National Radio since 1980\, producing a literary magazine of the air. \nThe reading is sponsored by Global Initiatives and The Visiting Writers Series
URL:https://www.monmouth.edu/events/event/liliana-ursu/
ATTACH;FMTTYPE=image/jpeg:https://www.monmouth.edu/events/wp-content/uploads/sites/19/2018/07/Liliana_Ursu_Thumb.jpg
END:VEVENT
BEGIN:VEVENT
DTSTART;TZID=America/New_York:20120223T190000
DTEND;TZID=America/New_York:20120223T190000
DTSTAMP:20260422T020411
CREATED:20180725T205117Z
LAST-MODIFIED:20190102T154944Z
UID:40810104131-1330023600-1330023600@www.monmouth.edu
SUMMARY:The Enchanted Island Encore - Handel
DESCRIPTION:In one extraordinary new work\, lovers of Baroque opera have it all: the world’s best singers\, glorious music of the Baroque masters\, and a story drawn from Shakespeare. In The Enchanted Island\, the lovers from Shakespeare’s A Midsummer Night’s Dream are shipwrecked on his other-worldly island of The Tempest. Inspired by the musical pastiches and masques of the 18th century\, the work showcases arias and ensembles by Handel\, Vivaldi\, Rameau\, and others\, and a new libretto by Jeremy Sams. Eminent conductor William Christie leads an all-star cast with David Daniels (Prospero) and Joyce DiDonato (Sycorax) as the formidable foes\, Plácido Domingo as Neptune\, Danielle de Niese as Ariel\, and Luca Pisaroni as Caliban. Lisette Oropesa and Anthony Roth Costanzo play Miranda and Ferdinand. The dazzling production is directed and designed by Phelim McDermott and Julian Crouch (Satyagraha and the Met’s 125 anniversary gala). (3 hours 55 minutes\, 1 intermission)
URL:https://www.monmouth.edu/events/event/the-enchanted-island-encore-handel/
ATTACH;FMTTYPE=image/jpeg:https://www.monmouth.edu/events/wp-content/uploads/sites/19/2018/07/Enchanted_Island_Thumb.jpg
END:VEVENT
BEGIN:VEVENT
DTSTART;TZID=America/New_York:20120224T200000
DTEND;TZID=America/New_York:20120224T200000
DTSTAMP:20260422T020411
CREATED:20180725T204945Z
LAST-MODIFIED:20180731T133508Z
UID:40810103957-1330113600-1330113600@www.monmouth.edu
SUMMARY:Cowboy Junkies
DESCRIPTION:For more than 20 years\, Cowboy Junkies have remained true to their unique artistic vision and to the introspective\, quiet intensity that is their musical signature\, creating a critically acclaimed body of original work that has endeared them to an audience unwavering in its loyalty. Albums like The Caution Horses (1990)\, Black Eyed Man (1992)\, Pale Sun\, Crescent Moon (1993)\, Lay It Down (1996)\, and more recently\, Open (2001)\, One Soul Now (2004)\, Early 21st Century Blues (2005)\, and At the End of Paths Taken (2007)\, chronicle a creative journey reflecting the independent road the band has elected to travel. \nCost: $55/45/35
URL:https://www.monmouth.edu/events/event/cowboy-junkies-2/
ATTACH;FMTTYPE=image/jpeg:https://www.monmouth.edu/events/wp-content/uploads/sites/19/2018/07/Cowboy_Junkies_Thumb.jpg
END:VEVENT
BEGIN:VEVENT
DTSTART;TZID=America/New_York:20120225T130000
DTEND;TZID=America/New_York:20120225T130000
DTSTAMP:20260422T020411
CREATED:20180725T205117Z
LAST-MODIFIED:20180731T133528Z
UID:40810104134-1330174800-1330174800@www.monmouth.edu
SUMMARY:Ernani - Verdi (Broadcast in HD)
DESCRIPTION:Encore Date: Thursday\, April 12\, 2012 at 7 p.m.  \nAngela Meade takes center stage in Verdi’s thrilling early gem. Salvatore Licitra is her mismatched lover\, and all-star Verdians Dmitri Hvorostovsky and Ferruccio Furlanetto round out the cast. (3 hours 49 minutes\, 2 intermissions)  \nBroadcast in HD 
URL:https://www.monmouth.edu/events/event/ernani-verdi-broadcast-in-hd/
ATTACH;FMTTYPE=image/jpeg:https://www.monmouth.edu/events/wp-content/uploads/sites/19/2018/07/ernani_thumb.jpg
END:VEVENT
END:VCALENDAR