BEGIN:VCALENDAR
VERSION:2.0
PRODID:-//Events - ECPv6.15.20//NONSGML v1.0//EN
CALSCALE:GREGORIAN
METHOD:PUBLISH
X-ORIGINAL-URL:https://www.monmouth.edu/events
X-WR-CALDESC:Events for Events
REFRESH-INTERVAL;VALUE=DURATION:PT1H
X-Robots-Tag:noindex
X-PUBLISHED-TTL:PT1H
BEGIN:VTIMEZONE
TZID:America/New_York
BEGIN:DAYLIGHT
TZOFFSETFROM:-0500
TZOFFSETTO:-0400
TZNAME:EDT
DTSTART:20100314T070000
END:DAYLIGHT
BEGIN:STANDARD
TZOFFSETFROM:-0400
TZOFFSETTO:-0500
TZNAME:EST
DTSTART:20101107T060000
END:STANDARD
BEGIN:DAYLIGHT
TZOFFSETFROM:-0500
TZOFFSETTO:-0400
TZNAME:EDT
DTSTART:20110313T070000
END:DAYLIGHT
BEGIN:STANDARD
TZOFFSETFROM:-0400
TZOFFSETTO:-0500
TZNAME:EST
DTSTART:20111106T060000
END:STANDARD
BEGIN:DAYLIGHT
TZOFFSETFROM:-0500
TZOFFSETTO:-0400
TZNAME:EDT
DTSTART:20120311T070000
END:DAYLIGHT
BEGIN:STANDARD
TZOFFSETFROM:-0400
TZOFFSETTO:-0500
TZNAME:EST
DTSTART:20121104T060000
END:STANDARD
END:VTIMEZONE
BEGIN:VEVENT
DTSTART;TZID=America/New_York:20110906T190000
DTEND;TZID=America/New_York:20111014T190000
DTSTAMP:20260423T231153
CREATED:20180725T204855Z
LAST-MODIFIED:20190228T150946Z
UID:40810103822-1315335600-1318618800@www.monmouth.edu
SUMMARY:Languor Temperance Repose
DESCRIPTION:An invitational photography exhibition featuring the work of eleven artists from across the United States. \nThe artists in this exhibition cover a great deal of photographic ground including the traditions of the still life\, landscape\, abstraction and the constructed or fabricated image using analog and digital practices in color and black and white. Curated by Specialist Professor\, Anne Leighton Massoni. \n  \nLecture at Wilson Hall Auditorium: \nThursday\, September 22\, 4:30 p.m. – 5:30 p.m. \nOpening Reception at Gallery: \nThursday\, September 22\, 5:30 p.m. – 7:00 p.m. \n 
URL:https://www.monmouth.edu/events/event/languor-temperance-repose/
LOCATION:Rotary Ice House Gallery
ATTACH;FMTTYPE=image/jpeg:https://www.monmouth.edu/events/wp-content/uploads/sites/19/2018/07/languor_thumb.jpg
END:VEVENT
BEGIN:VEVENT
DTSTART;TZID=America/New_York:20111006T163000
DTEND;TZID=America/New_York:20111006T163000
DTSTAMP:20260423T231153
CREATED:20180725T204821Z
LAST-MODIFIED:20190102T151525Z
UID:40810103729-1317918600-1317918600@www.monmouth.edu
SUMMARY:Nick Flynn
DESCRIPTION:Nick Flynn is the author of two memoirs\, The Ticking is the Bomb: A Memoir of Bewilderment (Norton\, 2010) and Another Bullshit Night in Suck City (Norton\, 2004)\, which won the PEN/Martha Albrand Award for the Art of the Memoir and has been translated into 13 languages. Another Bullshit Night in Suck City is currently being made into a film\, entitled Welcome to Suck City\, starring Robert DeNiro as Flynn’s father\, due for release in 2011. Flynn is also the author of three books of poetry\, The Captain Asks For a Show of Hands(Graywolf\, 2011)\, Some Ether(Graywolf\, 2000)\, which won the PEN/Joyce Osterweil Award\, and Blind Huber (Graywolf\, 2002). He has been awarded fellowships from The Guggenheim Foundation and The Library of Congress. His poems\, essays\, and non-fiction have appeared in The New Yorker\, the Paris Review\, National Public Radio’s “This American Life\,” and The New York Times Book Review.
URL:https://www.monmouth.edu/events/event/nick-flynn/
ATTACH;FMTTYPE=image/jpeg:https://www.monmouth.edu/events/wp-content/uploads/sites/19/2018/07/nick_flynn_thumb.jpg
END:VEVENT
BEGIN:VEVENT
DTSTART;TZID=America/New_York:20111013T090000
DTEND;TZID=America/New_York:20111023T190000
DTSTAMP:20260423T231153
CREATED:20180725T204854Z
LAST-MODIFIED:20220420T153301Z
UID:40810103816-1318496400-1319396400@www.monmouth.edu
SUMMARY:19th Century Maritime Art
DESCRIPTION:19th Century Maritime Art\nOur History in Paintings\nOctober 13 – 23\, 2011\nPollak Gallery\nGallery Hours: Monday – Friday\, 9 a.m. – 7 p.m. \nGuest Lecture:\nThursday\, October 13\, 2011\, at 7:30 p.m.\, Pollak Theatre\nAlan Granby\, noted Maritime Art Historian and Author \n45 exquisite paintings by famed 19th century marine artists such as James Butterworth\, Antonio Jacobsen\, James Bard\, Francis Silva\, E.T. Baker\, William Yorke\, and others. Also\, prints and photographs will be on display including scenes from New York Harbor and the Jersey Shore.
URL:https://www.monmouth.edu/events/event/19th-century-maritime-art/
LOCATION:Pollak Gallery
ATTACH;FMTTYPE=image/jpeg:https://www.monmouth.edu/events/wp-content/uploads/sites/19/2018/07/maritime_thumb.jpg
END:VEVENT
BEGIN:VEVENT
DTSTART;TZID=America/New_York:20111014T200000
DTEND;TZID=America/New_York:20111014T200000
DTSTAMP:20260423T231153
CREATED:20180725T204956Z
LAST-MODIFIED:20180731T133514Z
UID:40810104005-1318622400-1318622400@www.monmouth.edu
SUMMARY:Indigo Girls
DESCRIPTION:Cost: $75/50 \nFor more than two decades\, Indigo Girls Amy Ray and Emily Saliers have presented some of their best music in front of cheering crowds – sometimes in the cramped confines of a small club\, sometimes in a vast arena packed with thousands. The Grammy-winning singer-songwriters celebrate their long-standing passion for live performances on their latest release\, Staring Down the Brilliant Dreamon IG Recordings/Vanguard Records. This two-disc CD features 31 songs\, each hand-selected by the duo to capture the most memorable moments of their 2006-2009 amazing run of concerts. The Indigos still consider live shows the most vibrant part of what they do and there is no place better than Pollak Theatre to see them do it up close and personal.
URL:https://www.monmouth.edu/events/event/indigo-girls/
ATTACH;FMTTYPE=image/jpeg:https://www.monmouth.edu/events/wp-content/uploads/sites/19/2018/07/Indigo_Girls_Thumb.jpg
END:VEVENT
BEGIN:VEVENT
DTSTART;TZID=America/New_York:20111018T103000
DTEND;TZID=America/New_York:20111018T103000
DTSTAMP:20260423T231153
CREATED:20180725T204731Z
LAST-MODIFIED:20180731T133432Z
UID:40810103543-1318933800-1318933800@www.monmouth.edu
SUMMARY:Henry and Mudge
DESCRIPTION:Moving from the city to a new\nhouse in the country can be tough. Just ask Henry\, who can’t find a\nplaymate in his new neighborhood! Luckily\, he’s got Mudge\, a great big\,\n182-pound canine buddy\, with whom he can share all kinds of adventures! \nHenry discovers that having a\npet is a big responsibility — they need to be fed\, they need to be\ntaken out for walks\, and of course they need lots of love and playtime!\nAnd when the dog is as big as Mudge is\, they also need good training.\nHenry teaches his new friend to sit\, heel\, and shake his hand\, but\nrolling over is one trick Henry just can’t seem to teach Mudge\, no\nmatter how hard he tries. \nWhen Henry’s cousin Annie comes\n for a visit\, Mudge is so charmed by her that he finally rolls over at\nher command! Henry thinks Mudge must love Annie more than him\, because\nthe dog only does the trick for her. Very upset\, Henry runs away into\nthe cold dark woods to find adventures on his own. Mudge follow’s the\nboy’s scent into the forest—he really does love Henry and doesn’t want\nto be without him. \nWill the two friends be\nreunited? Find out in this Theatreworks musical\, based on the\nbest-selling series of books by Cynthia Rylant.
URL:https://www.monmouth.edu/events/event/henry-and-mudge/
ATTACH;FMTTYPE=image/jpeg:https://www.monmouth.edu/events/wp-content/uploads/sites/19/2018/07/HenryandMudge_Thumbnail.jpg
END:VEVENT
BEGIN:VEVENT
DTSTART;TZID=America/New_York:20111022T200000
DTEND;TZID=America/New_York:20111022T200000
DTSTAMP:20260423T231153
CREATED:20180725T204955Z
LAST-MODIFIED:20180731T133513Z
UID:40810103999-1319313600-1319313600@www.monmouth.edu
SUMMARY:One Diva\, One Legend\, One Woman
DESCRIPTION:Jody Joseph transforms herself physically and vocally in this live nostalgic show as the mystical\, ethereal Stevie Nicks and the rebellious hard rocker Janis Joplin. \nVIP/meet and greet available! Check with the box office for more information. \nProduced by Concerts East\, Inc \n Cost: $48/32.50/23
URL:https://www.monmouth.edu/events/event/one-diva-one-legend-one-woman/
ATTACH;FMTTYPE=image/jpeg:https://www.monmouth.edu/events/wp-content/uploads/sites/19/2018/07/One_Diva_Thumb.jpg
END:VEVENT
BEGIN:VEVENT
DTSTART;VALUE=DATE:20111025
DTEND;VALUE=DATE:20111124
DTSTAMP:20260423T231153
CREATED:20180725T204853Z
LAST-MODIFIED:20220509T192234Z
UID:40810103807-1319500800-1322092799@www.monmouth.edu
SUMMARY:Puzzle Project
DESCRIPTION:Puzzle Project \nOctober 25 – November 23\, 2011\nPuzzle Pieces are $10 each \nPollak Gallery \nWe invite you to be part of the Monmouth University Puzzle Project\, a collaborative group art exhibition. Participants purchase a 24″ x 24″ universal puzzle piece and then turn it into a unique work of art. When the piece is complete it is inserted into the puzzle\, which will continue to grow over time on the walls of the Pollak Gallery. The University’s puzzle will eventually be added to over 5\,000 other pieces for an exhibition in New York City. This project is co-sponsored by the Student Activities Board and the Center for the Arts. \nThe Puzzle Installation & Collaborative Project is a growing & traveling\, group art exhibition. It was initially sponsored by the Monmouth County Arts Council and was created and developed by the artists Tim Kelly & Sandy Taylor (MCAC) and Marie Maber (Brookdale Community College) for the 2009 Teen Arts Festival at Brookdale. Click here for more information about the project. \nTo purchase a puzzle piece please come to the Pollak Theatre Box Office or email at SAB@monmouth.edu. \n*All proceeds from the Monmouth University Puzzle Project go to Autism Awareness* \nUse this link for updates on the puzzle project.
URL:https://www.monmouth.edu/events/event/puzzle-project/
LOCATION:Pollak Gallery
ATTACH;FMTTYPE=image/jpeg:https://www.monmouth.edu/events/wp-content/uploads/sites/19/2018/07/puzzle-project_thumb.jpg
END:VEVENT
BEGIN:VEVENT
DTSTART;TZID=America/New_York:20111030T150000
DTEND;TZID=America/New_York:20111030T150000
DTSTAMP:20260423T231153
CREATED:20180725T204955Z
LAST-MODIFIED:20180731T133513Z
UID:40810104002-1319986800-1319986800@www.monmouth.edu
SUMMARY:Civil War Voices
DESCRIPTION:Cost: $40/32
URL:https://www.monmouth.edu/events/event/civil-war-voices/
ATTACH;FMTTYPE=image/jpeg:https://www.monmouth.edu/events/wp-content/uploads/sites/19/2018/07/Civil_War_Voices_Thumb.jpg
END:VEVENT
END:VCALENDAR