BEGIN:VCALENDAR
VERSION:2.0
PRODID:-//Events - ECPv6.15.20//NONSGML v1.0//EN
CALSCALE:GREGORIAN
METHOD:PUBLISH
X-ORIGINAL-URL:https://www.monmouth.edu/events
X-WR-CALDESC:Events for Events
REFRESH-INTERVAL;VALUE=DURATION:PT1H
X-Robots-Tag:noindex
X-PUBLISHED-TTL:PT1H
BEGIN:VTIMEZONE
TZID:America/New_York
BEGIN:DAYLIGHT
TZOFFSETFROM:-0500
TZOFFSETTO:-0400
TZNAME:EDT
DTSTART:20100314T070000
END:DAYLIGHT
BEGIN:STANDARD
TZOFFSETFROM:-0400
TZOFFSETTO:-0500
TZNAME:EST
DTSTART:20101107T060000
END:STANDARD
BEGIN:DAYLIGHT
TZOFFSETFROM:-0500
TZOFFSETTO:-0400
TZNAME:EDT
DTSTART:20110313T070000
END:DAYLIGHT
BEGIN:STANDARD
TZOFFSETFROM:-0400
TZOFFSETTO:-0500
TZNAME:EST
DTSTART:20111106T060000
END:STANDARD
BEGIN:DAYLIGHT
TZOFFSETFROM:-0500
TZOFFSETTO:-0400
TZNAME:EDT
DTSTART:20120311T070000
END:DAYLIGHT
BEGIN:STANDARD
TZOFFSETFROM:-0400
TZOFFSETTO:-0500
TZNAME:EST
DTSTART:20121104T060000
END:STANDARD
END:VTIMEZONE
BEGIN:VEVENT
DTSTART;TZID=America/New_York:20110623T200000
DTEND;TZID=America/New_York:20110703T190000
DTSTAMP:20260425T174538
CREATED:20180725T204903Z
LAST-MODIFIED:20180725T204903Z
UID:40810103867-1308859200-1309719600@www.monmouth.edu
SUMMARY:Scapino
DESCRIPTION:Scapino\, by director Frank Dunlop and actor Jim\n Dale\, is an outrageous comedy adapted “a long way off from Moliere” but\n exhibiting the classic elements of the French master and the Italian\n“commedia d’ell arte.” Scapino is the wily servant who twists the rules\nto trick his master’s father into allowing him to marry the girl of his\ndreams while the waiters\, waitresses and customers of a seaside\nrestaurant sing parodies of “O Solo Mio” and the names of menu items\nlike “veal scallopine.” \nPreview: June 23 at 8 p.m. \nOpening Night: June 24 at 8 p.m. \nPerformances: June 25\, 29 and 30\, July 1\, 2\, 6\, 7\, 8 and 9 at 8 p.m.; June 26\, July 3 and 10 at 7 p.m. \nCost: Preview night – Adult/Senior $20; Student $10; June 24 through July 10 – Adult $35; Senior $30; Student $15
URL:https://www.monmouth.edu/events/event/scapino/
LOCATION:Lauren K. Woods Theatre
ATTACH;FMTTYPE=image/jpeg:https://www.monmouth.edu/events/wp-content/uploads/sites/19/2018/07/Lauren_K_Woods_Thumb.jpg
END:VEVENT
BEGIN:VEVENT
DTSTART;TZID=America/New_York:20110714T200000
DTEND;TZID=America/New_York:20110731T190000
DTSTAMP:20260425T174538
CREATED:20180725T204902Z
LAST-MODIFIED:20180725T204902Z
UID:40810103858-1310673600-1312138800@www.monmouth.edu
SUMMARY:Molly Sweeny
DESCRIPTION:Molly Sweeny is by the prize-winning Irish playwright\, Brian Friel (Dancing at Lughnasa\, Translations).\n It is the story of Molly Sweeny\, a woman who has been blind since\nchildhood\, who undergoes an operation to restore her vision. Based\nloosely on an essay by Oliver Saks (Awakenings)\, the tale is told by Molly\, her husband\, and the doctor. \nPreview: July 14 at 8 p.m. \nOpening Night: July 15 at 8 p.m. \nPerformances: July 16\, 20\, 21\, 22\, 23\, 27\, 28\, 29\, and 30 at 8 p.m.; July 17\, 24 and 31 at 7 p.m. \nCost: Preview night – Adult/Senior $15; Student $10; July 15 through July 31 – Adult $30; Senior $22; Student $15
URL:https://www.monmouth.edu/events/event/molly-sweeny/
LOCATION:Lauren K. Woods Theatre
ATTACH;FMTTYPE=image/jpeg:https://www.monmouth.edu/events/wp-content/uploads/sites/19/2018/07/Lauren_K_Woods_Thumb.jpg
END:VEVENT
BEGIN:VEVENT
DTSTART;TZID=America/New_York:20110729T193000
DTEND;TZID=America/New_York:20110729T193000
DTSTAMP:20260425T174538
CREATED:20180725T204801Z
LAST-MODIFIED:20180731T133444Z
UID:40810103669-1311967800-1311967800@www.monmouth.edu
SUMMARY:Wiz Khalifa
DESCRIPTION:Location: MAC at Monmouth\nWIZ KHALIFA   \nBIG SEAN and CHEVY WOODS   \nFriday\, July 29\, 2011 at 7:30 p.m.  \nThe MAC at Monmouth University   \nAll tickets $38 and applicable surchargesTickets are on sale now!Limit six per person. \nDoors open at 6:30 p.m.The Box Office will be open at 4 p.m. on the day of the show.  \nThe parking lot will open at 5:30 p.m. There will be a $10 parking fee per car and tailgating is prohibited. \nProduced by Concerts East and AEG Live   \nTickets are on sale through ticketmaster.com\, phone charge at 800-745-3000\, the MAC box office\, and select ticketmaster retail outlets. \n 
URL:https://www.monmouth.edu/events/event/wiz-khalifa/
CATEGORIES:Arts at Monmouth
ATTACH;FMTTYPE=image/jpeg:https://www.monmouth.edu/events/wp-content/uploads/sites/19/2018/07/WizKhalifa-Thumb.jpg
END:VEVENT
END:VCALENDAR