BEGIN:VCALENDAR
VERSION:2.0
PRODID:-//Events - ECPv6.15.20//NONSGML v1.0//EN
CALSCALE:GREGORIAN
METHOD:PUBLISH
X-ORIGINAL-URL:https://www.monmouth.edu/events
X-WR-CALDESC:Events for Events
REFRESH-INTERVAL;VALUE=DURATION:PT1H
X-Robots-Tag:noindex
X-PUBLISHED-TTL:PT1H
BEGIN:VTIMEZONE
TZID:America/New_York
BEGIN:DAYLIGHT
TZOFFSETFROM:-0500
TZOFFSETTO:-0400
TZNAME:EDT
DTSTART:20090308T070000
END:DAYLIGHT
BEGIN:STANDARD
TZOFFSETFROM:-0400
TZOFFSETTO:-0500
TZNAME:EST
DTSTART:20091101T060000
END:STANDARD
BEGIN:DAYLIGHT
TZOFFSETFROM:-0500
TZOFFSETTO:-0400
TZNAME:EDT
DTSTART:20100314T070000
END:DAYLIGHT
BEGIN:STANDARD
TZOFFSETFROM:-0400
TZOFFSETTO:-0500
TZNAME:EST
DTSTART:20101107T060000
END:STANDARD
BEGIN:DAYLIGHT
TZOFFSETFROM:-0500
TZOFFSETTO:-0400
TZNAME:EDT
DTSTART:20110313T070000
END:DAYLIGHT
BEGIN:STANDARD
TZOFFSETFROM:-0400
TZOFFSETTO:-0500
TZNAME:EST
DTSTART:20111106T060000
END:STANDARD
END:VTIMEZONE
BEGIN:VEVENT
DTSTART;VALUE=DATE:20100520
DTEND;VALUE=DATE:20100521
DTSTAMP:20260423T133446
CREATED:20180725T204754Z
LAST-MODIFIED:20180725T204754Z
UID:40810103642-1274313600-1274399999@www.monmouth.edu
SUMMARY:Alice in Chains
DESCRIPTION:95.9 WRAT presents \n \nThursday\, May 20 \nTHE PARLOR MOB opens the show \nAll Ages to Enter\, 21 to Drink with Proper I.D. \nProduced by AEG Live and Concerts East Incorporated. \nA metal band with an alternative-rock edge\, Alice in Chains was among the biggest to emerge from the grunge scene that spawned Nirvana\, Pearl Jam\, and Soundgarden. The group’s dark\, bitter songs occupy a musical landscape somewhere between Metallica’s dense head bangers and Pearl Jam’s grinding anthems. \nAfter a string of shows in New York that sold out in minutes earlier this year\, Alice In Chains has announced a May 20 show at the new MAC at Monmouth University.
URL:https://www.monmouth.edu/events/event/alice-in-chains/
LOCATION:MAC At Monmouth
CATEGORIES:Music + Theatre Arts
ATTACH;FMTTYPE=image/jpeg:https://www.monmouth.edu/events/wp-content/uploads/sites/19/2018/07/Alice_in_Chains_Thumb.jpg
END:VEVENT
END:VCALENDAR