BEGIN:VCALENDAR
VERSION:2.0
PRODID:-//Events - ECPv6.15.20//NONSGML v1.0//EN
CALSCALE:GREGORIAN
METHOD:PUBLISH
X-ORIGINAL-URL:https://www.monmouth.edu/events
X-WR-CALDESC:Events for Events
REFRESH-INTERVAL;VALUE=DURATION:PT1H
X-Robots-Tag:noindex
X-PUBLISHED-TTL:PT1H
BEGIN:VTIMEZONE
TZID:America/New_York
BEGIN:DAYLIGHT
TZOFFSETFROM:-0500
TZOFFSETTO:-0400
TZNAME:EDT
DTSTART:20090308T070000
END:DAYLIGHT
BEGIN:STANDARD
TZOFFSETFROM:-0400
TZOFFSETTO:-0500
TZNAME:EST
DTSTART:20091101T060000
END:STANDARD
BEGIN:DAYLIGHT
TZOFFSETFROM:-0500
TZOFFSETTO:-0400
TZNAME:EDT
DTSTART:20100314T070000
END:DAYLIGHT
BEGIN:STANDARD
TZOFFSETFROM:-0400
TZOFFSETTO:-0500
TZNAME:EST
DTSTART:20101107T060000
END:STANDARD
BEGIN:DAYLIGHT
TZOFFSETFROM:-0500
TZOFFSETTO:-0400
TZNAME:EDT
DTSTART:20110313T070000
END:DAYLIGHT
BEGIN:STANDARD
TZOFFSETFROM:-0400
TZOFFSETTO:-0500
TZNAME:EST
DTSTART:20111106T060000
END:STANDARD
END:VTIMEZONE
BEGIN:VEVENT
DTSTART;TZID=America/New_York:20100427T163000
DTEND;TZID=America/New_York:20100427T163000
DTSTAMP:20260423T064508
CREATED:20180725T204838Z
LAST-MODIFIED:20180731T133454Z
UID:40810103747-1272385800-1272385800@www.monmouth.edu
SUMMARY:Nicole Cooley
DESCRIPTION:Nicole Cooley grew up in New Orleans\, Louisiana. Her new book of poems\, Breach\, about Hurricane Katrina and its aftermath\, will be published by Louisiana State University Press in March 2010. Her first book of poetry\, Resurrection\, won the 1995 Walt Whitman Award and was published by LSU Press in 1996. Her second book of poetry\, The Afflicted Girls\, about the Salem witch trials of 1692\, came out with LSU Press in April 2004 and was chosen as one of the best poetry books of the year by Library Journal. She also published a novel Judy Garland\, Ginger Love\, with Regan Books/Harper Collins (1998). She has received a Discovery/The Nation Award\, a National Endowment for the Arts Grant and the Emily Dickinson Award from the Poetry Society of America.  \nHer poems have appeared in The Nation\, Poetry\, Missouri Review\, Pleaides\, and Mississippi Review\, among other magazines. She is an associate professor of English and Creative Writing at Queens College—City University of New York where she directs the new MFA program in creative writing and literary translation.
URL:https://www.monmouth.edu/events/event/nicole-cooley/
ATTACH;FMTTYPE=image/jpeg:https://www.monmouth.edu/events/wp-content/uploads/sites/19/2018/07/nicolecooley_thumbnail.jpg
END:VEVENT
END:VCALENDAR