BEGIN:VCALENDAR
VERSION:2.0
PRODID:-//Events - ECPv6.15.20//NONSGML v1.0//EN
CALSCALE:GREGORIAN
METHOD:PUBLISH
X-WR-CALNAME:Events
X-ORIGINAL-URL:https://www.monmouth.edu/events
X-WR-CALDESC:Events for Events
REFRESH-INTERVAL;VALUE=DURATION:PT1H
X-Robots-Tag:noindex
X-PUBLISHED-TTL:PT1H
BEGIN:VTIMEZONE
TZID:America/New_York
BEGIN:DAYLIGHT
TZOFFSETFROM:-0500
TZOFFSETTO:-0400
TZNAME:EDT
DTSTART:20090308T070000
END:DAYLIGHT
BEGIN:STANDARD
TZOFFSETFROM:-0400
TZOFFSETTO:-0500
TZNAME:EST
DTSTART:20091101T060000
END:STANDARD
BEGIN:DAYLIGHT
TZOFFSETFROM:-0500
TZOFFSETTO:-0400
TZNAME:EDT
DTSTART:20100314T070000
END:DAYLIGHT
BEGIN:STANDARD
TZOFFSETFROM:-0400
TZOFFSETTO:-0500
TZNAME:EST
DTSTART:20101107T060000
END:STANDARD
BEGIN:DAYLIGHT
TZOFFSETFROM:-0500
TZOFFSETTO:-0400
TZNAME:EDT
DTSTART:20110313T070000
END:DAYLIGHT
BEGIN:STANDARD
TZOFFSETFROM:-0400
TZOFFSETTO:-0500
TZNAME:EST
DTSTART:20111106T060000
END:STANDARD
END:VTIMEZONE
BEGIN:VEVENT
DTSTART;TZID=America/New_York:20100325T163000
DTEND;TZID=America/New_York:20100325T163000
DTSTAMP:20260423T052633
CREATED:20180725T204839Z
LAST-MODIFIED:20190301T185144Z
UID:40810103750-1269534600-1269534600@www.monmouth.edu
SUMMARY:Colm Tóibín
DESCRIPTION:Tóibín was born in Ireland in 1955. He is the author of six novels including The Blackwater Lightship and The Master\, both shortlisted for the Man Booker Prize\, and the winner of a Los Angeles Times Book Prize. His nonfiction includes The Sign of the Cross and Love in a Dark Time. He writes frequently for such publications as the London Review of Books and the New York Review of Books. He was a fellow at the Center for Scholars and Writers at New York Public Library\, and has taught at Stanford\, Princeton\, and American universities\, as well as the New School\, in the United States. His books have been translated into eighteen languages.
URL:https://www.monmouth.edu/events/event/colm-toibin/
ATTACH;FMTTYPE=image/jpeg:https://www.monmouth.edu/events/wp-content/uploads/sites/19/2018/07/colmtoibin_thumbnail.jpg
END:VEVENT
END:VCALENDAR