BEGIN:VCALENDAR
VERSION:2.0
PRODID:-//Events - ECPv6.15.20//NONSGML v1.0//EN
CALSCALE:GREGORIAN
METHOD:PUBLISH
X-WR-CALNAME:Events
X-ORIGINAL-URL:https://www.monmouth.edu/events
X-WR-CALDESC:Events for Events
REFRESH-INTERVAL;VALUE=DURATION:PT1H
X-Robots-Tag:noindex
X-PUBLISHED-TTL:PT1H
BEGIN:VTIMEZONE
TZID:America/New_York
BEGIN:DAYLIGHT
TZOFFSETFROM:-0500
TZOFFSETTO:-0400
TZNAME:EDT
DTSTART:20250309T070000
END:DAYLIGHT
BEGIN:STANDARD
TZOFFSETFROM:-0400
TZOFFSETTO:-0500
TZNAME:EST
DTSTART:20251102T060000
END:STANDARD
BEGIN:DAYLIGHT
TZOFFSETFROM:-0500
TZOFFSETTO:-0400
TZNAME:EDT
DTSTART:20260308T070000
END:DAYLIGHT
BEGIN:STANDARD
TZOFFSETFROM:-0400
TZOFFSETTO:-0500
TZNAME:EST
DTSTART:20261101T060000
END:STANDARD
BEGIN:DAYLIGHT
TZOFFSETFROM:-0500
TZOFFSETTO:-0400
TZNAME:EDT
DTSTART:20270314T070000
END:DAYLIGHT
BEGIN:STANDARD
TZOFFSETFROM:-0400
TZOFFSETTO:-0500
TZNAME:EST
DTSTART:20271107T060000
END:STANDARD
END:VTIMEZONE
BEGIN:VEVENT
DTSTART;TZID=America/New_York:20260501T200000
DTEND;TZID=America/New_York:20260501T223000
DTSTAMP:20260423T055846
CREATED:20250801T135211Z
LAST-MODIFIED:20260312T162034Z
UID:40810119487-1777665600-1777674600@www.monmouth.edu
SUMMARY:Roger McGuinn
DESCRIPTION:The legendary cofounder of The Byrds gives a solo performance of a lifetime. As an indisputable industry icon\, he delivers the gift of an evening that is as intimate as it is spellbinding. \nBy 1964\, Roger McGuinn was already an experienced figure in both the New York and Los Angeles music scenes when he co-founded the band that would become the Byrds\, alongside Gene Clark and David Crosby. Before forming the Byrds\, McGuinn had toured and performed as a guitarist and banjo player with the Limeliters\, the Chad Mitchell Trio\, and Bobby Darin. He also served as musical director for Judy Collins #3. After the Byrds disbanded in 1973\, McGuinn embarked on a solo career\, releasing five albums with Columbia Records and continuing to tour. \nRoger McGuinn continues to captivate audiences with performances that are as enchanting and powerful as ever. His shows offer a rare opportunity to spend an evening with a true master\, blending intimacy with a sense of wonder. Through storytelling and song\, he guides listeners on a journey filled with familiar classics and fresh discoveries from the folk tradition he holds dear. A Grammy Award-winning artist\, McGuinn tours globally\, sharing the music and memories of his enduring and ever-evolving career.
URL:https://www.monmouth.edu/events/event/roger-mcguinn-4/
LOCATION:Pollak Theatre
CATEGORIES:Alumni,Alumni Affairs,Alumni Events,Arts at Monmouth,Community Member,Concerts,Current Student,Faculty
ATTACH;FMTTYPE=image/jpeg:https://www.monmouth.edu/events/wp-content/uploads/sites/19/2025/08/RogerMcGuinnConcert_20110402_JR_014-e1754069173214.jpg
ORGANIZER;CN="Center for the Arts":MAILTO:kbarratt@monmouth.edu
END:VEVENT
BEGIN:VEVENT
DTSTART;TZID=America/New_York:20260502T120000
DTEND;TZID=America/New_York:20260502T140000
DTSTAMP:20260423T055846
CREATED:20260113T202516Z
LAST-MODIFIED:20260416T211418Z
UID:40810120873-1777723200-1777730400@www.monmouth.edu
SUMMARY:Softball at Hofstra University
DESCRIPTION:Monmouth University Softball at Hofstra University\nStreaming Video: https://go.flocollege.com/partner/caa?utm_medium=partner&utm_source=multiple&utm_content=landingpage&utm_term=monmouth&contract_id=0063m00000qeqqqaao
URL:https://www.monmouth.edu/events/event/softball-at-hofstra-university-2/
LOCATION:Hempstead\, NY
CATEGORIES:Women's Softball
END:VEVENT
BEGIN:VEVENT
DTSTART;TZID=America/New_York:20260502T130000
DTEND;TZID=America/New_York:20260502T160000
DTSTAMP:20260423T055846
CREATED:20260203T220931Z
LAST-MODIFIED:20260422T221417Z
UID:40810121329-1777726800-1777737600@www.monmouth.edu
SUMMARY:Baseball vs Northeastern
DESCRIPTION:Monmouth University Baseball vs Northeastern\nStreaming Video: https://flosports.link/4nQGzcf
URL:https://www.monmouth.edu/events/event/monmouth-university-baseball-vs-northeastern-2/
LOCATION:MU Baseball Field
CATEGORIES:Men's Baseball
END:VEVENT
BEGIN:VEVENT
DTSTART;TZID=America/New_York:20260502T130000
DTEND;TZID=America/New_York:20260502T170000
DTSTAMP:20260423T055846
CREATED:20250731T165037Z
LAST-MODIFIED:20260109T204815Z
UID:40810119481-1777726800-1777741200@www.monmouth.edu
SUMMARY:Eugene Onegin
DESCRIPTION:Following her acclaimed 2024 company debut in Puccini’s Madama Butterfly\, soprano Asmik Grigorian returns to the Met as Tatiana\, the lovestruck young heroine in this ardent operatic adaptation of Pushkin. Baritone Igor Golovatenko also stars as the urbane Onegin\, who realizes his affection for her all too late. \nTchaikovsky’s universally beloved melodic gifts are at their most powerful and multilayered in this opera\, featuring rich ensembles\, buoyant dance numbers\, and some of the most striking vocal solos in the repertory.
URL:https://www.monmouth.edu/events/event/eugene-onegin/
LOCATION:Pollak Theatre
CATEGORIES:Alumni,Alumni Affairs,Alumni Events,Arts at Monmouth,Broadcast in HD,Community Member,Current Student,Faculty,Music,Music + Theatre Arts
ATTACH;FMTTYPE=image/jpeg:https://www.monmouth.edu/events/wp-content/uploads/sites/19/2025/07/onegin-1600x685-1.jpg
ORGANIZER;CN="Center for the Arts":MAILTO:kbarratt@monmouth.edu
END:VEVENT
BEGIN:VEVENT
DTSTART;TZID=America/New_York:20260502T133500
DTEND;TZID=America/New_York:20260502T133500
DTSTAMP:20260423T055846
CREATED:20260216T192838Z
LAST-MODIFIED:20260304T155847Z
UID:40810121592-1777728900-1777728900@www.monmouth.edu
SUMMARY:Yankees vs. Orioles (Alumni Yankee Games)
DESCRIPTION:Join Monmouth University and the New York Yankees for some fun-filled games at Yankee Stadium! Each ticket includes an exclusive New York Yankees jersey co-branded with the Monmouth University logo\, a $5 donation to the Access Fund\, and other bonuses depending on the event. \nTransportation is not included. View information about transportation and parking.
URL:https://www.monmouth.edu/events/event/yankees-vs-orioles-alumni-yankee-games/
LOCATION:Yankee Stadium
CATEGORIES:Alumni,Alumni Calendar Featured,Alumni Events,Social Events
ATTACH;FMTTYPE=image/jpeg:https://www.monmouth.edu/events/wp-content/uploads/sites/19/2025/02/Yankee-Game-graphic.jpg
END:VEVENT
BEGIN:VEVENT
DTSTART;TZID=America/New_York:20260503T130000
DTEND;TZID=America/New_York:20260503T160000
DTSTAMP:20260423T055846
CREATED:20260203T220932Z
LAST-MODIFIED:20260422T221417Z
UID:40810121332-1777813200-1777824000@www.monmouth.edu
SUMMARY:Baseball vs Northeastern
DESCRIPTION:Monmouth University Baseball vs Northeastern\nStreaming Video: https://flosports.link/4nQGzcf
URL:https://www.monmouth.edu/events/event/monmouth-university-baseball-vs-northeastern-3/
LOCATION:MU Baseball Field
CATEGORIES:Men's Baseball
END:VEVENT
BEGIN:VEVENT
DTSTART;TZID=America/New_York:20260504T090000
DTEND;TZID=America/New_York:20260504T170000
DTSTAMP:20260423T055846
CREATED:20260422T075542Z
LAST-MODIFIED:20260422T075542Z
UID:40810122356-1777885200-1777914000@www.monmouth.edu
SUMMARY:$5 AMC Movie Tickets
DESCRIPTION:The Office of Student Engagement has $5 AMC Movie Tickets. If you are interested\, please stop by the office with $5 cash. Students can get 1 ticket per week. n—nEvent Details: https://campusgroups.monmouth.edu/rsvp?id=376154
URL:https://www.monmouth.edu/events/event/5-amc-movie-tickets-9/
LOCATION:Sign into HawkHub to view the location
ATTACH;FMTTYPE=image/png:https://www.monmouth.edu/events/wp-content/uploads/sites/19/2026/04/image_upload_607065_5_Movie_Tickets_1920_x_1080_px_421144427.png
END:VEVENT
BEGIN:VEVENT
DTSTART;TZID=America/New_York:20260505T090000
DTEND;TZID=America/New_York:20260505T170000
DTSTAMP:20260423T055846
CREATED:20260422T075542Z
LAST-MODIFIED:20260422T075542Z
UID:40810122359-1777971600-1778000400@www.monmouth.edu
SUMMARY:$5 AMC Movie Tickets
DESCRIPTION:The Office of Student Engagement has $5 AMC Movie Tickets. If you are interested\, please stop by the office with $5 cash. Students can get 1 ticket per week. n—nEvent Details: https://campusgroups.monmouth.edu/rsvp?id=376155
URL:https://www.monmouth.edu/events/event/5-amc-movie-tickets-10/
LOCATION:Sign into HawkHub to view the location
ATTACH;FMTTYPE=image/png:https://www.monmouth.edu/events/wp-content/uploads/sites/19/2026/04/image_upload_607065_5_Movie_Tickets_1920_x_1080_px_421144427.png
END:VEVENT
BEGIN:VEVENT
DTSTART;TZID=America/New_York:20260505T193000
DTEND;TZID=America/New_York:20260505T210000
DTSTAMP:20260423T055846
CREATED:20250512T134155Z
LAST-MODIFIED:20260109T205130Z
UID:40810119153-1778009400-1778014800@www.monmouth.edu
SUMMARY:David Bowie\, Hunky Dory
DESCRIPTION:It’s just like book club but with albums! With new advances in technology\, the way we consume music through our devices\, apps and on demand streaming services like Pandora\, Spotify and iTunes is making the idea of the “album” as an art form extinct. Get together with other music enthusiasts on Tuesday nights to discuss some of the greatest records of all-time! Listen to the album beforehand and then come prepared to discuss. This event will feature David Bowie\, Hunky Dory. \nThis event is offered BOTH in person and via Zoom. Join us in person at the Great Hall Auditorium on the Campus of Monmouth University or join us via zoom. When you register you will be provided the ZOOM meeting link to join the conversation. \nFree and open to the public\, but registration is required.
URL:https://www.monmouth.edu/events/event/david-bowie-hunky-dory/
LOCATION:The Great Hall Auditorium/Virtual\, 400 Cedar Ave\, West Long Branch\, NJ\, 07720\, United States
CATEGORIES:Alumni,Arts at Monmouth,Community Member,Current Student,Faculty,Free,Music,Virtual
ATTACH;FMTTYPE=image/jpeg:https://www.monmouth.edu/events/wp-content/uploads/sites/19/2025/05/Bowie-e1747057187434.jpg
ORGANIZER;CN="Kenneth Womack":MAILTO:kwomack@monmouth.edu
END:VEVENT
BEGIN:VEVENT
DTSTART;TZID=America/New_York:20260506T090000
DTEND;TZID=America/New_York:20260506T170000
DTSTAMP:20260423T055846
CREATED:20260422T075542Z
LAST-MODIFIED:20260422T075542Z
UID:40810122362-1778058000-1778086800@www.monmouth.edu
SUMMARY:$5 AMC Movie Tickets
DESCRIPTION:The Office of Student Engagement has $5 AMC Movie Tickets. If you are interested\, please stop by the office with $5 cash. Students can get 1 ticket per week. n—nEvent Details: https://campusgroups.monmouth.edu/rsvp?id=376156
URL:https://www.monmouth.edu/events/event/5-amc-movie-tickets-11/
LOCATION:Sign into HawkHub to view the location
ATTACH;FMTTYPE=image/png:https://www.monmouth.edu/events/wp-content/uploads/sites/19/2026/04/image_upload_607065_5_Movie_Tickets_1920_x_1080_px_421144427.png
END:VEVENT
BEGIN:VEVENT
DTSTART;TZID=America/New_York:20260506T150000
DTEND;TZID=America/New_York:20260506T180000
DTSTAMP:20260423T055846
CREATED:20260203T220932Z
LAST-MODIFIED:20260422T221417Z
UID:40810121335-1778079600-1778090400@www.monmouth.edu
SUMMARY:Baseball vs FDU
DESCRIPTION:Monmouth University Baseball vs FDU\nStreaming Video: https://flosports.link/4nQGzcf
URL:https://www.monmouth.edu/events/event/monmouth-university-baseball-vs-fdu/
LOCATION:MU Baseball Field
CATEGORIES:Men's Baseball
END:VEVENT
BEGIN:VEVENT
DTSTART;TZID=America/New_York:20260507T090000
DTEND;TZID=America/New_York:20260507T170000
DTSTAMP:20260423T055846
CREATED:20260422T075542Z
LAST-MODIFIED:20260422T075542Z
UID:40810122365-1778144400-1778173200@www.monmouth.edu
SUMMARY:$5 AMC Movie Tickets
DESCRIPTION:The Office of Student Engagement has $5 AMC Movie Tickets. If you are interested\, please stop by the office with $5 cash. Students can get 1 ticket per week. n—nEvent Details: https://campusgroups.monmouth.edu/rsvp?id=376157
URL:https://www.monmouth.edu/events/event/5-amc-movie-tickets-12/
LOCATION:Sign into HawkHub to view the location
ATTACH;FMTTYPE=image/png:https://www.monmouth.edu/events/wp-content/uploads/sites/19/2026/04/image_upload_607065_5_Movie_Tickets_1920_x_1080_px_421144427.png
END:VEVENT
BEGIN:VEVENT
DTSTART;TZID=America/New_York:20260508T090000
DTEND;TZID=America/New_York:20260508T120000
DTSTAMP:20260423T055846
CREATED:20260206T193914Z
LAST-MODIFIED:20260422T234418Z
UID:40810121439-1778230800-1778241600@www.monmouth.edu
SUMMARY:Rowing  Dad Vail Regatta
DESCRIPTION:Monmouth University Rowing  Dad Vail Regatta
URL:https://www.monmouth.edu/events/event/monmouth-university-rowing-dad-vail-regatta-3/
LOCATION:Pennsauken\, NJ
CATEGORIES:Women's Rowing
END:VEVENT
BEGIN:VEVENT
DTSTART;TZID=America/New_York:20260508T090000
DTEND;TZID=America/New_York:20260508T170000
DTSTAMP:20260423T055846
CREATED:20260422T075543Z
LAST-MODIFIED:20260422T075543Z
UID:40810122368-1778230800-1778259600@www.monmouth.edu
SUMMARY:$5 AMC Movie Tickets
DESCRIPTION:The Office of Student Engagement has $5 AMC Movie Tickets. If you are interested\, please stop by the office with $5 cash. Students can get 1 ticket per week. n—nEvent Details: https://campusgroups.monmouth.edu/rsvp?id=376158
URL:https://www.monmouth.edu/events/event/5-amc-movie-tickets-13/
LOCATION:Sign into HawkHub to view the location
ATTACH;FMTTYPE=image/png:https://www.monmouth.edu/events/wp-content/uploads/sites/19/2026/04/image_upload_607065_5_Movie_Tickets_1920_x_1080_px_421144427.png
END:VEVENT
BEGIN:VEVENT
DTSTART;TZID=America/New_York:20260508T140000
DTEND;TZID=America/New_York:20260508T170000
DTSTAMP:20260423T055846
CREATED:20260203T220932Z
LAST-MODIFIED:20260422T221417Z
UID:40810121338-1778248800-1778259600@www.monmouth.edu
SUMMARY:Baseball at Hofstra
DESCRIPTION:Monmouth University Baseball at Hofstra\nStreaming Video: https://flosports.link/4nQGzcf
URL:https://www.monmouth.edu/events/event/monmouth-university-baseball-at-hofstra/
LOCATION:Hempstead\, NY
CATEGORIES:Men's Baseball
END:VEVENT
BEGIN:VEVENT
DTSTART;TZID=America/New_York:20260508T190000
DTEND;TZID=America/New_York:20260508T220000
DTSTAMP:20260423T055846
CREATED:20260312T155647Z
LAST-MODIFIED:20260312T161947Z
UID:40810121842-1778266800-1778277600@www.monmouth.edu
SUMMARY:Garden State Author Talks: Jack Carr
DESCRIPTION:Former Navy SEAL sniper and #1 New York Times bestselling author of The Terminal List\, Jack Carr brings his explosive new thriller to Pollak Theatre at Monmouth University for its U.S. launch event. \nAppearing live in conversation\, Carr will discuss the making of The Fourth Option\, his military career\, and the real-world forces shaping his fiction. \nThis one-night-only event takes place before the book even reaches stores.\nSecure your seat now. Premium & Standard tickets include a SIGNED copy of the book. Attendees with a signed book (whether included with their ticket or purchased onsite) will have access to meet and take a photo with Jack Carr. \n  \n 
URL:https://www.monmouth.edu/events/event/garden-state-author-talks-jack-carr/
CATEGORIES:Alumni,Arts at Monmouth,Community Member,Current Student,English,Faculty,Lectures/Workshops/Symposiums
ATTACH;FMTTYPE=image/jpeg:https://www.monmouth.edu/events/wp-content/uploads/sites/19/2026/03/avdqh6ehquro5tphmpdc.jpg
END:VEVENT
BEGIN:VEVENT
DTSTART;TZID=America/New_York:20260509T090000
DTEND;TZID=America/New_York:20260509T120000
DTSTAMP:20260423T055846
CREATED:20260206T193915Z
LAST-MODIFIED:20260422T234418Z
UID:40810121442-1778317200-1778328000@www.monmouth.edu
SUMMARY:Rowing  Dad Vail Regatta
DESCRIPTION:Monmouth University Rowing  Dad Vail Regatta
URL:https://www.monmouth.edu/events/event/monmouth-university-rowing-dad-vail-regatta-4/
LOCATION:Pennsauken\, NJ
CATEGORIES:Women's Rowing
END:VEVENT
BEGIN:VEVENT
DTSTART;TZID=America/New_York:20260509T130000
DTEND;TZID=America/New_York:20260509T160000
DTSTAMP:20260423T055846
CREATED:20260203T220932Z
LAST-MODIFIED:20260422T221417Z
UID:40810121341-1778331600-1778342400@www.monmouth.edu
SUMMARY:Baseball at Hofstra
DESCRIPTION:Monmouth University Baseball at Hofstra\nStreaming Video: https://flosports.link/4nQGzcf
URL:https://www.monmouth.edu/events/event/monmouth-university-baseball-at-hofstra-2/
LOCATION:Hempstead\, NY
CATEGORIES:Men's Baseball
END:VEVENT
BEGIN:VEVENT
DTSTART;TZID=America/New_York:20260510T120000
DTEND;TZID=America/New_York:20260510T150000
DTSTAMP:20260423T055846
CREATED:20260203T220932Z
LAST-MODIFIED:20260422T221417Z
UID:40810121344-1778414400-1778425200@www.monmouth.edu
SUMMARY:Baseball at Hofstra
DESCRIPTION:Monmouth University Baseball at Hofstra\nStreaming Video: https://flosports.link/4nQGzcf
URL:https://www.monmouth.edu/events/event/monmouth-university-baseball-at-hofstra-3/
LOCATION:Hempstead\, NY
CATEGORIES:Men's Baseball
END:VEVENT
BEGIN:VEVENT
DTSTART;TZID=America/New_York:20260511T090000
DTEND;TZID=America/New_York:20260511T170000
DTSTAMP:20260423T055846
CREATED:20260422T075543Z
LAST-MODIFIED:20260422T075543Z
UID:40810122371-1778490000-1778518800@www.monmouth.edu
SUMMARY:$5 AMC Movie Tickets
DESCRIPTION:The Office of Student Engagement has $5 AMC Movie Tickets. If you are interested\, please stop by the office with $5 cash. Students can get 1 ticket per week. n—nEvent Details: https://campusgroups.monmouth.edu/rsvp?id=376159
URL:https://www.monmouth.edu/events/event/5-amc-movie-tickets-14/
LOCATION:Sign into HawkHub to view the location
ATTACH;FMTTYPE=image/png:https://www.monmouth.edu/events/wp-content/uploads/sites/19/2026/04/image_upload_607065_5_Movie_Tickets_1920_x_1080_px_421144427.png
END:VEVENT
BEGIN:VEVENT
DTSTART;TZID=America/New_York:20260511T150000
DTEND;TZID=America/New_York:20260513T150000
DTSTAMP:20260423T055846
CREATED:20260423T075624Z
LAST-MODIFIED:20260423T075624Z
UID:40810122392-1778511600-1778684400@www.monmouth.edu
SUMMARY:Sea Change: A Cross-Cultural Leadership Retreat for Student Organization Executive Board Members
DESCRIPTION:Ready to grow as a leader\, build meaningful connections\, and challenge yourself in new ways? Join us for our first annual Sea Change Cross-Cultural Leadership Retreat happening May 11–13! The bus will depart from campus at 3PM on Monday and return by 3PM on Wednesday. This retreat will occur off campus at YMCA Camp Bernie\, and all transportation\, meals\, and lodging are fully covered. nnThis experience is designed for students who nnAre committed to developing their leadership skills nWant to learn more about their roles as club leadersnKnow the importance of engaging across organizations and building community with peersnWant to get a jump start on the 2026-2027 academic year nnTo be considered\, you must complete the entire application form in full by Sunday\, May 3rd at 11:59PM. Incomplete submissions will not be reviewed. Selected students will be notified by Monday\, May 4th. Don’t miss this opportunity to invest in yourself\, your leadership journey\, and making Monmouth a better engaged and more interconnected community!nnRequirements:nMust serve on the Executive Board (Eboard) for the organization you’re apart of for the 2026-2027 acadmic yearnMust be committed to building community across identity and organizations nOrganizations must be currently recognized by SGA or an active Fraternity or Sorority. nSpace is limited\, and essay questions will be main consideration in selecting participants. nn—nEvent Details: https://campusgroups.monmouth.edu/rsvp?id=376167
URL:https://www.monmouth.edu/events/event/sea-change-a-cross-cultural-leadership-retreat-for-student-organization-executive-board-members/
LOCATION:Sign into HawkHub to view the location
ATTACH;FMTTYPE=image/png:https://www.monmouth.edu/events/wp-content/uploads/sites/19/2026/04/image_upload_599698_SEA_CHANGE_42211823.png
ORGANIZER;CN="Intercultural Center":MAILTO:Intercultural@monmouth.edu
END:VEVENT
BEGIN:VEVENT
DTSTART;TZID=America/New_York:20260511T190000
DTEND;TZID=America/New_York:20260511T210000
DTSTAMP:20260423T055846
CREATED:20251024T175154Z
LAST-MODIFIED:20260109T205415Z
UID:40810120035-1778526000-1778533200@www.monmouth.edu
SUMMARY:Exhibition on Screen – Tokyo Stories
DESCRIPTION:Based on a major exhibition at the Ashmolean in Oxford\, Tokyo Stories spans 400 years of incredibly dynamic art – ranging from the delicate woodblock prints of Hokusai and Hiroshige\, to Pop Art posters\, contemporary photography\, Manga\, film\, and brand-new artworks that were created on the streets. The film uses the exhibition as a launchpad to travel to Tokyo itself\, exploring the art and artists of the city more fully\, and telling the stories of the people who have made Tokyo famous for its boundless drive for the new and innovative. \nA beautifully illustrated and richly detailed film\, looking at a city which has undergone constant destruction and renewal over its 400-year history\, resulting in one of the most vibrant and interesting cities on the planet… \nTokyo has a powerful engine that just doesn’t stop. There is an\nenergy\, a particular floating power in Tokyo. Whatever happens\, this\ncity gets rebuilt again and continues to move forwards.”\n– Machida Kumi
URL:https://www.monmouth.edu/events/event/tokyo-stories/
LOCATION:Pollak Theatre
CATEGORIES:Alumni,Art and Design,Arts at Monmouth,Current Student,Faculty
ATTACH;FMTTYPE=image/jpeg:https://www.monmouth.edu/events/wp-content/uploads/sites/19/2025/10/Tokyo_landscape.jpg
ORGANIZER;CN="Center for the Arts":MAILTO:kbarratt@monmouth.edu
END:VEVENT
BEGIN:VEVENT
DTSTART;TZID=America/New_York:20260512T090000
DTEND;TZID=America/New_York:20260512T170000
DTSTAMP:20260423T055846
CREATED:20260422T075543Z
LAST-MODIFIED:20260422T075543Z
UID:40810122374-1778576400-1778605200@www.monmouth.edu
SUMMARY:$5 AMC Movie Tickets
DESCRIPTION:The Office of Student Engagement has $5 AMC Movie Tickets. If you are interested\, please stop by the office with $5 cash. Students can get 1 ticket per week. n—nEvent Details: https://campusgroups.monmouth.edu/rsvp?id=376160
URL:https://www.monmouth.edu/events/event/5-amc-movie-tickets-15/
LOCATION:Sign into HawkHub to view the location
ATTACH;FMTTYPE=image/png:https://www.monmouth.edu/events/wp-content/uploads/sites/19/2026/04/image_upload_607065_5_Movie_Tickets_1920_x_1080_px_421144427.png
END:VEVENT
BEGIN:VEVENT
DTSTART;TZID=America/New_York:20260512T193000
DTEND;TZID=America/New_York:20260512T210000
DTSTAMP:20260423T055846
CREATED:20250512T144008Z
LAST-MODIFIED:20260109T205616Z
UID:40810119173-1778614200-1778619600@www.monmouth.edu
SUMMARY:Matt Haig\, The Midnight Library
DESCRIPTION:Join us for Tuesday Night Book Club! Hosted by Monmouth University’s Ken Womack\, each month we’ll explore a different novel. All you have to do is Zoom in and join the discussion! This month’s novel is Matt Haig\, The Midnight Library. \nWhen you register you will be provided the meeting link to join the conversation.
URL:https://www.monmouth.edu/events/event/matt-haig-the-midnight-library/
LOCATION:Virtual
CATEGORIES:Alumni,Arts at Monmouth,Community Member,Current Student,Faculty,Free,Lectures,Virtual
ATTACH;FMTTYPE=image/jpeg:https://www.monmouth.edu/events/wp-content/uploads/sites/19/2025/05/600x600bbml-e1748895184753.jpg
ORGANIZER;CN="Kenneth Womack":MAILTO:kwomack@monmouth.edu
END:VEVENT
BEGIN:VEVENT
DTSTART;TZID=America/New_York:20260513T090000
DTEND;TZID=America/New_York:20260513T170000
DTSTAMP:20260423T055846
CREATED:20260422T075544Z
LAST-MODIFIED:20260422T075544Z
UID:40810122377-1778662800-1778691600@www.monmouth.edu
SUMMARY:$5 AMC Movie Tickets
DESCRIPTION:The Office of Student Engagement has $5 AMC Movie Tickets. If you are interested\, please stop by the office with $5 cash. Students can get 1 ticket per week. n—nEvent Details: https://campusgroups.monmouth.edu/rsvp?id=376161
URL:https://www.monmouth.edu/events/event/5-amc-movie-tickets-16/
LOCATION:Sign into HawkHub to view the location
ATTACH;FMTTYPE=image/png:https://www.monmouth.edu/events/wp-content/uploads/sites/19/2026/04/image_upload_607065_5_Movie_Tickets_1920_x_1080_px_421144427.png
END:VEVENT
BEGIN:VEVENT
DTSTART;TZID=America/New_York:20260514T090000
DTEND;TZID=America/New_York:20260514T170000
DTSTAMP:20260423T055846
CREATED:20260422T075544Z
LAST-MODIFIED:20260422T075544Z
UID:40810122380-1778749200-1778778000@www.monmouth.edu
SUMMARY:$5 AMC Movie Tickets
DESCRIPTION:The Office of Student Engagement has $5 AMC Movie Tickets. If you are interested\, please stop by the office with $5 cash. Students can get 1 ticket per week. n—nEvent Details: https://campusgroups.monmouth.edu/rsvp?id=376162
URL:https://www.monmouth.edu/events/event/5-amc-movie-tickets-17/
LOCATION:Sign into HawkHub to view the location
ATTACH;FMTTYPE=image/png:https://www.monmouth.edu/events/wp-content/uploads/sites/19/2026/04/image_upload_607065_5_Movie_Tickets_1920_x_1080_px_421144427.png
END:VEVENT
BEGIN:VEVENT
DTSTART;TZID=America/New_York:20260514T150000
DTEND;TZID=America/New_York:20260514T180000
DTSTAMP:20260423T055846
CREATED:20260203T220942Z
LAST-MODIFIED:20260422T221417Z
UID:40810121346-1778770800-1778781600@www.monmouth.edu
SUMMARY:Baseball vs North Carolina A&T
DESCRIPTION:Monmouth University Baseball vs North Carolina A&T\nStreaming Video: https://flosports.link/4nQGzcf
URL:https://www.monmouth.edu/events/event/baseball-vs-north-carolina-at/
LOCATION:MU Baseball Field
CATEGORIES:Men's Baseball
END:VEVENT
BEGIN:VEVENT
DTSTART;TZID=America/New_York:20260515T000000
DTEND;TZID=America/New_York:20260515T235959
DTSTAMP:20260423T055846
CREATED:20251120T222428Z
LAST-MODIFIED:20260422T162918Z
UID:40810120263-1778803200-1778889599@www.monmouth.edu
SUMMARY:Men's Track and Field vs CAA Outdoor Championships
DESCRIPTION:Monmouth University Men’s Track and Field vs CAA Outdoor Championships
URL:https://www.monmouth.edu/events/event/monmouth-university-mens-track-and-field-vs-caa-outdoor-championships-2/
LOCATION:Elon\, NC (Jerry and Jeanne Robertson Track and Field Complex)
CATEGORIES:Men's Track & Field
END:VEVENT
BEGIN:VEVENT
DTSTART;TZID=America/New_York:20260515T000000
DTEND;TZID=America/New_York:20260515T235959
DTSTAMP:20260423T055846
CREATED:20251121T163935Z
LAST-MODIFIED:20260422T161417Z
UID:40810120296-1778803200-1778889599@www.monmouth.edu
SUMMARY:Women's Track and Field vs CAA Outdoor Championships
DESCRIPTION:Monmouth University Women’s Track and Field vs CAA Outdoor Championships
URL:https://www.monmouth.edu/events/event/monmouth-university-womens-track-and-field-vs-caa-outdoor-championships-2/
LOCATION:Elon\, NC (Jerry and Jeanne Robertson Track and Field Complex)
CATEGORIES:Women's Track & Field
END:VEVENT
BEGIN:VEVENT
DTSTART;TZID=America/New_York:20260515T090000
DTEND;TZID=America/New_York:20260515T120000
DTSTAMP:20260423T055846
CREATED:20260206T193915Z
LAST-MODIFIED:20260422T234418Z
UID:40810121445-1778835600-1778846400@www.monmouth.edu
SUMMARY:Rowing  CAA Championshiponship
DESCRIPTION:Monmouth University Rowing  CAA Championshiponship
URL:https://www.monmouth.edu/events/event/monmouth-university-rowing-caa-championshiponship/
LOCATION:Pennsauken\, NJ
CATEGORIES:Women's Rowing
END:VEVENT
END:VCALENDAR