BEGIN:VCALENDAR
VERSION:2.0
PRODID:-//Events - ECPv6.15.20//NONSGML v1.0//EN
CALSCALE:GREGORIAN
METHOD:PUBLISH
X-ORIGINAL-URL:https://www.monmouth.edu/events
X-WR-CALDESC:Events for Events
REFRESH-INTERVAL;VALUE=DURATION:PT1H
X-Robots-Tag:noindex
X-PUBLISHED-TTL:PT1H
BEGIN:VTIMEZONE
TZID:America/New_York
BEGIN:DAYLIGHT
TZOFFSETFROM:-0500
TZOFFSETTO:-0400
TZNAME:EDT
DTSTART:20250309T070000
END:DAYLIGHT
BEGIN:STANDARD
TZOFFSETFROM:-0400
TZOFFSETTO:-0500
TZNAME:EST
DTSTART:20251102T060000
END:STANDARD
BEGIN:DAYLIGHT
TZOFFSETFROM:-0500
TZOFFSETTO:-0400
TZNAME:EDT
DTSTART:20260308T070000
END:DAYLIGHT
BEGIN:STANDARD
TZOFFSETFROM:-0400
TZOFFSETTO:-0500
TZNAME:EST
DTSTART:20261101T060000
END:STANDARD
BEGIN:DAYLIGHT
TZOFFSETFROM:-0500
TZOFFSETTO:-0400
TZNAME:EDT
DTSTART:20270314T070000
END:DAYLIGHT
BEGIN:STANDARD
TZOFFSETFROM:-0400
TZOFFSETTO:-0500
TZNAME:EST
DTSTART:20271107T060000
END:STANDARD
END:VTIMEZONE
BEGIN:VEVENT
DTSTART;TZID=America/New_York:20260413T100000
DTEND;TZID=America/New_York:20260426T170000
DTSTAMP:20260422T190243
CREATED:20260406T154257Z
LAST-MODIFIED:20260407T153154Z
UID:40810122127-1776074400-1777222800@www.monmouth.edu
SUMMARY:Robert Mueller - Man & Machine
DESCRIPTION:Exhibition Talk: 5pm on April 13th at the Great Hall Auditorium \nClosing Reception: April 26\, 6-8pm \nGallery Hours: Monday-Friday\, 10am-5pm | Saturday & Sunday\, 10am-4pm
URL:https://www.monmouth.edu/events/event/robert-mueller/
LOCATION:Rotary Ice House Gallery
CATEGORIES:Alumni,Art and Design,Arts at Monmouth,Current Student,Faculty,Free
ATTACH;FMTTYPE=image/jpeg:https://www.monmouth.edu/events/wp-content/uploads/sites/19/2026/04/5975e6f3-9f23-49ae-8b80-5f9c73833dc8-1.jpg
END:VEVENT
BEGIN:VEVENT
DTSTART;TZID=America/New_York:20260413T100000
DTEND;TZID=America/New_York:20260426T170000
DTSTAMP:20260422T190243
CREATED:20260406T160938Z
LAST-MODIFIED:20260406T213657Z
UID:40810122099-1776074400-1777222800@www.monmouth.edu
SUMMARY:Senior Exhibition 2026
DESCRIPTION:Featuring the work of Monmouth University graduating seniors who will receive their degrees from the Department of Art & Design. \nClosing Reception: April 26 from 1 to 4 p.m. \nGallery Hours: Monday-Friday\, 10am-5pm | Saturday & Sunday\, 10am-4pm
URL:https://www.monmouth.edu/events/event/senior-exhibition-2026/
LOCATION:DiMattio Gallery at Rechnitz Hall
CATEGORIES:Art and Design,Art Exhibitions,Arts at Monmouth,Free
ATTACH;FMTTYPE=image/jpeg:https://www.monmouth.edu/events/wp-content/uploads/sites/19/2026/04/758a97cc-6a2d-4213-a119-fae9046b1276-3.jpg
END:VEVENT
BEGIN:VEVENT
DTSTART;TZID=America/New_York:20260413T130000
DTEND;TZID=America/New_York:20260428T235500
DTSTAMP:20260422T190243
CREATED:20260413T215616Z
LAST-MODIFIED:20260413T215616Z
UID:40810122236-1776085200-1777420500@www.monmouth.edu
SUMMARY:Student Satisfaction Inventory
DESCRIPTION:We need your feedback! We are conducting the Student Satisfaction Inventory (SSI)\, a key tool we use to assess and strengthen the quality of your student experience at Monmouth. The SSI will help us better understand what we are doing wellnand what we could do better. It takes 15-20 minutes and can be completed on any device. Complete the SSI by 11:59 p.m. onnMonday\, April 27\, and you will automatically be entered into a random drawing to win one of 50+ incentives!nnn—nEvent Details: https://campusgroups.monmouth.edu/rsvp?id=376106
URL:https://www.monmouth.edu/events/event/student-satisfaction-inventory/
LOCATION:Online Event
ATTACH;FMTTYPE=image/png:https://www.monmouth.edu/events/wp-content/uploads/sites/19/2026/04/image_upload_607065_Screenshot_20260413_140233_4131430.png
END:VEVENT
BEGIN:VEVENT
DTSTART;TZID=America/New_York:20260423T193000
DTEND;TZID=America/New_York:20260430T210000
DTSTAMP:20260422T190243
CREATED:20250722T181833Z
LAST-MODIFIED:20250722T181833Z
UID:40810119340-1776972600-1777582800@www.monmouth.edu
SUMMARY:'60s Girl Groups\, Part II
DESCRIPTION:Class Schedule: April 23\, 28\, & 30\, 2026 | 7:30 – 9:00 PM \nThe early 1960s began the girl group renaissance\, with prominent Brill Building songwriters and emerging producers such as Phil Spector crafting hits. Motown would further set the template\, with Martha and the Vandellas\, the Velvettes\, and the Marvelettes inspiring even British Invasion groups.  Perhaps no one defined the girl group aesthetic like the Supremes\, one of the most successful (and influential) acts of the 1960s. \n\n\nAs the next decade loomed\, the girl group genre was not as prominent on the charts.  Yet the Honey Cone\, the Emotions\, the Three Degrees\, and LaBelle added a thoroughly modern spin on the girl group sound\, adding elements of disco and funk.  The Pointer Sisters would achieve even greater success in the late 1970s and 1980s\, with the 1990s bringing a new wave of groups such as En Vogue\, the Spice Girls\, and SWV.  The trend continues today with an international flair\, as the hugely popular K-Pop genre has redrawn the blueprint with artists such as Blackpink and Twice. Part two travels through these eras\, exploring why the girl group genre continues to thrive. Multimedia presentations and discussions will help define how girl groups changed music and pop culture. \nZoom Link will be provided upon registration.
URL:https://www.monmouth.edu/events/event/60s-girl-groups-part-ii/
LOCATION:Virtual (Zoom)
CATEGORIES:Alumni,Arts at Monmouth,Community Member,Current Student,Faculty,Music,Music + Theatre Arts,Virtual
ATTACH;FMTTYPE=image/png:https://www.monmouth.edu/events/wp-content/uploads/sites/19/2025/07/Screenshot-2025-07-19-at-7.59.42-PM-1.png
ORGANIZER;CN="Kenneth Womack":MAILTO:kwomack@monmouth.edu
END:VEVENT
BEGIN:VEVENT
DTSTART;TZID=America/New_York:20260425T000000
DTEND;TZID=America/New_York:20260427T235959
DTSTAMP:20260422T190243
CREATED:20260226T231416Z
LAST-MODIFIED:20260422T201324Z
UID:40810121712-1777075200-1777334399@www.monmouth.edu
SUMMARY:Men's Golf vs CAA Championships
DESCRIPTION:Monmouth University Men’s Golf vs CAA Championships
URL:https://www.monmouth.edu/events/event/monmouth-university-mens-golf-vs-caa-championships-2/
LOCATION:St. Helena Island\, SC
CATEGORIES:Men's Golf
END:VEVENT
BEGIN:VEVENT
DTSTART;TZID=America/New_York:20260425T090000
DTEND;TZID=America/New_York:20260425T120000
DTSTAMP:20260422T190243
CREATED:20260206T193914Z
LAST-MODIFIED:20260421T232917Z
UID:40810121433-1777107600-1777118400@www.monmouth.edu
SUMMARY:Rowing  Sacred Heart
DESCRIPTION:Monmouth University Rowing  Sacred Heart
URL:https://www.monmouth.edu/events/event/monmouth-university-rowing-sacred-heart/
LOCATION:Shelton\, CT
CATEGORIES:Women's Rowing
END:VEVENT
BEGIN:VEVENT
DTSTART;TZID=America/New_York:20260425T090000
DTEND;TZID=America/New_York:20260425T120000
DTSTAMP:20260422T190243
CREATED:20260206T193914Z
LAST-MODIFIED:20260421T232917Z
UID:40810121436-1777107600-1777118400@www.monmouth.edu
SUMMARY:Rowing  Stetson
DESCRIPTION:Monmouth University Rowing  Stetson
URL:https://www.monmouth.edu/events/event/monmouth-university-rowing-stetson/
LOCATION:Shelton\, CT
CATEGORIES:Women's Rowing
END:VEVENT
BEGIN:VEVENT
DTSTART;TZID=America/New_York:20260425T090000
DTEND;TZID=America/New_York:20260425T120000
DTSTAMP:20260422T190243
CREATED:20260409T235518Z
LAST-MODIFIED:20260409T235518Z
UID:40810122215-1777107600-1777118400@www.monmouth.edu
SUMMARY:SAGE 5K Walk/Run
DESCRIPTION:Students Advocating Girls’ Education will be hosting a 5K on April 25th! In-person registration will run from 9:00-10:00am\, or register online using this link: https://runsignup.com/Race/NJ/WestLongBranch/SAGEWAGEBenefit5K. nBring a friend and join us for a refreshing run or walk around campus! All proceeds will benefit Big Brothers Big Sisters of Coastal & Northern NJ. nStudent Registration – $5nParticipant Registration – $20 n—nEvent Details: https://campusgroups.monmouth.edu/rsvp?id=376082
URL:https://www.monmouth.edu/events/event/sage-5k-walk-run/
LOCATION:Sign into HawkHub to view the location
ATTACH;FMTTYPE=image/png:https://www.monmouth.edu/events/wp-content/uploads/sites/19/2026/04/image_upload_600955_sage_poster_4916212.png
END:VEVENT
BEGIN:VEVENT
DTSTART;TZID=America/New_York:20260425T093000
DTEND;TZID=America/New_York:20260425T223000
DTSTAMP:20260422T190243
CREATED:20260413T215627Z
LAST-MODIFIED:20260413T215627Z
UID:40810122254-1777109400-1777156200@www.monmouth.edu
SUMMARY:Castlepoint Anime Convention
DESCRIPTION:Purchase tickets in advanced from KOSUnnCastlepoint Anime ConventionnTickets: $25 (discounted!)nWhen: Saturday\, April 25thnn**Transportation provided! Bus departs at 09:30am from the Student Center.n—nEvent Details: https://campusgroups.monmouth.edu/rsvp?id=376105
URL:https://www.monmouth.edu/events/event/castlepoint-anime-convention/
LOCATION:Sign into HawkHub to view the location
ATTACH;FMTTYPE=image/png:https://www.monmouth.edu/events/wp-content/uploads/sites/19/2026/04/image_upload_599706_CPAC2019_StreetTeamPost_1_413134525.png
END:VEVENT
BEGIN:VEVENT
DTSTART;TZID=America/New_York:20260425T110000
DTEND;TZID=America/New_York:20260425T140000
DTSTAMP:20260422T190243
CREATED:20251218T163927Z
LAST-MODIFIED:20260422T204417Z
UID:40810120510-1777114800-1777125600@www.monmouth.edu
SUMMARY:Men's Lacrosse vs Fairfield
DESCRIPTION:Monmouth University Men’s Lacrosse vs Fairfield\nStreaming Video: https://flosports.link/4nQGzcf\nTickets: https://mpv.tickets.com/?CCID=MNMV&agency=MNMV_PLAGENCY_MPV&orgid=44869&pid=9685709#/event/9685709/ticketlist/?view=sections&minPrice=14.5&maxPrice=14.5&quantity=2&sort=price_desc&ada=false&seatSelection=false&onlyCoupon=true&onlyVoucher=false
URL:https://www.monmouth.edu/events/event/monmouth-university-mens-lacrosse-vs-fairfield/
LOCATION:Kessler Stadium\, 107 Larchwood Ave\, West Long Branch\, NJ\, United States
CATEGORIES:Men's Lacrosse
GEO:40.279417;-74.010815
X-APPLE-STRUCTURED-LOCATION;VALUE=URI;X-ADDRESS=Kessler Stadium 107 Larchwood Ave West Long Branch NJ United States;X-APPLE-RADIUS=500;X-TITLE=107 Larchwood Ave:geo:-74.010815,40.279417
END:VEVENT
BEGIN:VEVENT
DTSTART;TZID=America/New_York:20260425T120000
DTEND;TZID=America/New_York:20260425T140000
DTSTAMP:20260422T190243
CREATED:20260113T202505Z
LAST-MODIFIED:20260416T211418Z
UID:40810120858-1777118400-1777125600@www.monmouth.edu
SUMMARY:Softball vs North Carolina A&T State University - Senior Day
DESCRIPTION:Monmouth University Softball vs North Carolina A&T State University – Senior Day\nStreaming Video: https://go.flocollege.com/partner/caa?utm_medium=partner&utm_source=multiple&utm_content=landingpage&utm_term=monmouth&contract_id=0063m00000qeqqqaao
URL:https://www.monmouth.edu/events/event/monmouth-university-softball-vs-north-carolina-at-state-university-2/
LOCATION:West Long Branch\, NJ
CATEGORIES:Women's Softball
END:VEVENT
BEGIN:VEVENT
DTSTART;TZID=America/New_York:20260425T120000
DTEND;TZID=America/New_York:20260425T140000
DTSTAMP:20260422T190243
CREATED:20260113T202505Z
LAST-MODIFIED:20260113T202516Z
UID:40810120861-1777118400-1777125600@www.monmouth.edu
SUMMARY:Softball vs North Carolina A&T State University
DESCRIPTION:Monmouth University Softball vs North Carolina A&T State University
URL:https://www.monmouth.edu/events/event/monmouth-university-softball-vs-north-carolina-at-state-university-3/
LOCATION:West Long Branch\, NJ
CATEGORIES:Women's Softball
END:VEVENT
BEGIN:VEVENT
DTSTART;TZID=America/New_York:20260425T130000
DTEND;TZID=America/New_York:20260425T160000
DTSTAMP:20260422T190243
CREATED:20260203T220931Z
LAST-MODIFIED:20260422T221417Z
UID:40810121320-1777122000-1777132800@www.monmouth.edu
SUMMARY:Baseball vs Rider
DESCRIPTION:Monmouth University Baseball vs Rider
URL:https://www.monmouth.edu/events/event/monmouth-university-baseball-vs-rider-2/
LOCATION:MU Baseball Field
CATEGORIES:Men's Baseball
END:VEVENT
BEGIN:VEVENT
DTSTART;TZID=America/New_York:20260425T140000
DTEND;TZID=America/New_York:20260425T170000
DTSTAMP:20260422T190243
CREATED:20260107T192429Z
LAST-MODIFIED:20260422T145917Z
UID:40810120683-1777125600-1777136400@www.monmouth.edu
SUMMARY:Women's Lacrosse vs Towson
DESCRIPTION:Monmouth University Women’s Lacrosse vs Towson\nStreaming Video: https://www.flolive.tv/teams/6974295-monmouth-womens-lacrosse/events
URL:https://www.monmouth.edu/events/event/monmouth-university-womens-lacrosse-vs-towson/
LOCATION:Kessler Stadium – West Long Branch\, NJ
CATEGORIES:Women's Lacrosse
END:VEVENT
BEGIN:VEVENT
DTSTART;TZID=America/New_York:20260426T120000
DTEND;TZID=America/New_York:20260426T140000
DTSTAMP:20260422T190243
CREATED:20260113T202505Z
LAST-MODIFIED:20260416T211418Z
UID:40810120864-1777204800-1777212000@www.monmouth.edu
SUMMARY:Softball vs North Carolina A&T State University
DESCRIPTION:Monmouth University Softball vs North Carolina A&T State University\nStreaming Video: https://go.flocollege.com/partner/caa?utm_medium=partner&utm_source=multiple&utm_content=landingpage&utm_term=monmouth&contract_id=0063m00000qeqqqaao
URL:https://www.monmouth.edu/events/event/monmouth-university-softball-vs-north-carolina-at-state-university-4/
LOCATION:West Long Branch\, NJ
CATEGORIES:Women's Softball
END:VEVENT
BEGIN:VEVENT
DTSTART;TZID=America/New_York:20260426T120000
DTEND;TZID=America/New_York:20260426T160000
DTSTAMP:20260422T190243
CREATED:20251216T005634Z
LAST-MODIFIED:20251216T005634Z
UID:40810120451-1777204800-1777219200@www.monmouth.edu
SUMMARY:SPRINGFEST 2026
DESCRIPTION:Join SGA\, SAB and friends for this annual campuswide tradition.  Well have carnival rides\, food trucks\, novelties\, free t-shirts\, the Gourmet Dining BBQ\, Blue Hawk Records performers\, psychics\, photo booth and more!n—nEvent Details: https://campusgroups.monmouth.edu/rsvp?id=375684
URL:https://www.monmouth.edu/events/event/springfest-2026/
LOCATION:Sign into HawkHub to view the location
ATTACH;FMTTYPE=image/jpeg:https://www.monmouth.edu/events/wp-content/uploads/sites/19/2025/12/image_upload_601288_full_senate_photojpg_929105928.jpeg
END:VEVENT
BEGIN:VEVENT
DTSTART;TZID=America/New_York:20260426T120000
DTEND;TZID=America/New_York:20260426T160000
DTSTAMP:20260422T190243
CREATED:20260402T185522Z
LAST-MODIFIED:20260402T185522Z
UID:40810122089-1777204800-1777219200@www.monmouth.edu
SUMMARY:SPRINGFEST
DESCRIPTION:Rides\, Live Music\, Games\, Vendors\, Food Trucks\, and More!n—nEvent Details: https://campusgroups.monmouth.edu/rsvp?id=376064
URL:https://www.monmouth.edu/events/event/springfest/
LOCATION:Sign into HawkHub to view the location
ATTACH;FMTTYPE=image/png:https://www.monmouth.edu/events/wp-content/uploads/sites/19/2026/04/image_upload_601531_Springfest_Flyer_760_x_380_px_42103031.png
ORGANIZER;CN="Student Activities Board":MAILTO:activities@monmouth.edu
END:VEVENT
BEGIN:VEVENT
DTSTART;TZID=America/New_York:20260426T130000
DTEND;TZID=America/New_York:20260426T160000
DTSTAMP:20260422T190243
CREATED:20260203T220931Z
LAST-MODIFIED:20260422T221417Z
UID:40810121323-1777208400-1777219200@www.monmouth.edu
SUMMARY:Baseball vs Rider
DESCRIPTION:Monmouth University Baseball vs Rider
URL:https://www.monmouth.edu/events/event/monmouth-university-baseball-vs-rider-3/
LOCATION:MU Baseball Field
CATEGORIES:Men's Baseball
END:VEVENT
BEGIN:VEVENT
DTSTART;TZID=America/New_York:20260426T200000
DTEND;TZID=America/New_York:20260426T235500
DTSTAMP:20260422T190243
CREATED:20260417T035657Z
LAST-MODIFIED:20260417T035657Z
UID:40810122305-1777233600-1777247700@www.monmouth.edu
SUMMARY:End of the year Sign-Off
DESCRIPTION:Now’s you’re chance to commemorate the end of the year! Stop by the front desk and leave your signature and a message behind. n—nEvent Details: https://campusgroups.monmouth.edu/rsvp?id=376135
URL:https://www.monmouth.edu/events/event/end-of-the-year-sign-off/
LOCATION:Sign into HawkHub to view the location
ATTACH;FMTTYPE=image/png:https://www.monmouth.edu/events/wp-content/uploads/sites/19/2026/04/image_upload_600781_End_of_the_Year_sign_off_416203811.png
END:VEVENT
BEGIN:VEVENT
DTSTART;TZID=America/New_York:20260427T090000
DTEND;TZID=America/New_York:20260427T170000
DTSTAMP:20260422T190243
CREATED:20260422T075539Z
LAST-MODIFIED:20260422T075539Z
UID:40810122338-1777280400-1777309200@www.monmouth.edu
SUMMARY:$5 AMC Movie Tickets
DESCRIPTION:The Office of Student Engagement has $5 AMC Movie Tickets. If you are interested\, please stop by the office with $5 cash. Students can get 1 ticket per week. n—nEvent Details: https://campusgroups.monmouth.edu/rsvp?id=376149
URL:https://www.monmouth.edu/events/event/5-amc-movie-tickets-4/
LOCATION:Sign into HawkHub to view the location
ATTACH;FMTTYPE=image/png:https://www.monmouth.edu/events/wp-content/uploads/sites/19/2026/04/image_upload_607065_5_Movie_Tickets_1920_x_1080_px_421144427.png
END:VEVENT
BEGIN:VEVENT
DTSTART;TZID=America/New_York:20260427T120000
DTEND;TZID=America/New_York:20260427T150000
DTSTAMP:20260422T190243
CREATED:20251216T005637Z
LAST-MODIFIED:20251216T005637Z
UID:40810120453-1777291200-1777302000@www.monmouth.edu
SUMMARY:Destress Fest
DESCRIPTION:It’s been another long semester.  Today is the day to unwind a bit before you jump back into studying for your final exams.  Stop by Destress Fest where we’ll have massage chairs\, therapy dogs\, games\, coloring books\, snacks and refreshments.n—nEvent Details: https://campusgroups.monmouth.edu/rsvp?id=375685
URL:https://www.monmouth.edu/events/event/destress-fest-2/
LOCATION:Sign into HawkHub to view the location
ATTACH;FMTTYPE=image/png:https://www.monmouth.edu/events/wp-content/uploads/sites/19/2025/12/image_upload_599692_Untitled_760_x_380_px_11_1215163343.png
END:VEVENT
BEGIN:VEVENT
DTSTART;TZID=America/New_York:20260427T131500
DTEND;TZID=America/New_York:20260427T140000
DTSTAMP:20260422T190243
CREATED:20260418T045531Z
LAST-MODIFIED:20260418T045531Z
UID:40810122314-1777295700-1777298400@www.monmouth.edu
SUMMARY:Solve the Calm
DESCRIPTION:The formula to be test- ready and stress- steady n—nEvent Details: https://campusgroups.monmouth.edu/rsvp?id=376138
URL:https://www.monmouth.edu/events/event/solve-the-calm-2/
LOCATION:Sign into HawkHub to view the location
ATTACH;FMTTYPE=image/png:https://www.monmouth.edu/events/wp-content/uploads/sites/19/2026/04/image_upload_607065_Solve_for_Calm_41715196.png
END:VEVENT
BEGIN:VEVENT
DTSTART;TZID=America/New_York:20260427T190000
DTEND;TZID=America/New_York:20260427T200000
DTSTAMP:20260422T190243
CREATED:20260116T215632Z
LAST-MODIFIED:20260116T215632Z
UID:40810120914-1777316400-1777320000@www.monmouth.edu
SUMMARY:Final Feels
DESCRIPTION:come celebrate all your hard work this year before finals!n—nEvent Details: https://campusgroups.monmouth.edu/rsvp?id=375710
URL:https://www.monmouth.edu/events/event/final-feels/
LOCATION:Sign into HawkHub to view the location
ATTACH;FMTTYPE=image/png:https://www.monmouth.edu/events/wp-content/uploads/sites/19/2026/01/image_upload_601531_Building_program_eoy_760_x_380_px_116152757.png
END:VEVENT
BEGIN:VEVENT
DTSTART;TZID=America/New_York:20260427T203000
DTEND;TZID=America/New_York:20260427T213000
DTSTAMP:20260422T190243
CREATED:20260409T215617Z
LAST-MODIFIED:20260409T215617Z
UID:40810122212-1777321800-1777325400@www.monmouth.edu
SUMMARY:Just Dance Night
DESCRIPTION:Come by the Oakwood Hall Lounge and bring your friends to play the most recent edition of Just Dancen—nEvent Details: https://campusgroups.monmouth.edu/rsvp?id=376094
URL:https://www.monmouth.edu/events/event/just-dance-night/
LOCATION:Oakwood Hall Lounge
ATTACH;FMTTYPE=image/jpeg:https://www.monmouth.edu/events/wp-content/uploads/sites/19/2026/04/image_upload_600996_Just_Dance_Program_Flyerpdf_49143029.jpeg
END:VEVENT
BEGIN:VEVENT
DTSTART;TZID=America/New_York:20260428T090000
DTEND;TZID=America/New_York:20260428T170000
DTSTAMP:20260422T190243
CREATED:20260422T075539Z
LAST-MODIFIED:20260422T075539Z
UID:40810122341-1777366800-1777395600@www.monmouth.edu
SUMMARY:$5 AMC Movie Tickets
DESCRIPTION:The Office of Student Engagement has $5 AMC Movie Tickets. If you are interested\, please stop by the office with $5 cash. Students can get 1 ticket per week. n—nEvent Details: https://campusgroups.monmouth.edu/rsvp?id=376150
URL:https://www.monmouth.edu/events/event/5-amc-movie-tickets-5/
LOCATION:Sign into HawkHub to view the location
ATTACH;FMTTYPE=image/png:https://www.monmouth.edu/events/wp-content/uploads/sites/19/2026/04/image_upload_607065_5_Movie_Tickets_1920_x_1080_px_421144427.png
END:VEVENT
BEGIN:VEVENT
DTSTART;TZID=America/New_York:20260428T120000
DTEND;TZID=America/New_York:20260428T130000
DTSTAMP:20260422T190243
CREATED:20260421T065619Z
LAST-MODIFIED:20260421T065619Z
UID:40810122320-1777377600-1777381200@www.monmouth.edu
SUMMARY:Yoga on Shadow Lawn!
DESCRIPTION:Tuesday\, April 28 at NOONnnCome take a study breaknBring a towelnNo yoganexperiencenneedednRain location:nGymn—nEvent Details: https://campusgroups.monmouth.edu/rsvp?id=376141
URL:https://www.monmouth.edu/events/event/yoga-on-shadow-lawn/
LOCATION:Sign into HawkHub to view the location
ATTACH;FMTTYPE=image/png:https://www.monmouth.edu/events/wp-content/uploads/sites/19/2026/04/image_upload_599709_Screenshot_20260420_123646_420123743.png
END:VEVENT
BEGIN:VEVENT
DTSTART;TZID=America/New_York:20260428T120000
DTEND;TZID=America/New_York:20260428T133000
DTSTAMP:20260422T190243
CREATED:20260415T005537Z
LAST-MODIFIED:20260415T005537Z
UID:40810122266-1777377600-1777383000@www.monmouth.edu
SUMMARY:Finals Wellness Event: Bedazzle\, Breath\, and Reset
DESCRIPTION:Feeling stressed about finals? Take a break and join us on Tuesday\, April 28th\, from 12:00 PM to 1:30 PM at the Intercultural Center (Magill Commons 113) to bedazzle items! n—nEvent Details: https://campusgroups.monmouth.edu/rsvp?id=376113
URL:https://www.monmouth.edu/events/event/finals-wellness-event-bedazzle-breath-and-reset/
LOCATION:Sign into HawkHub to view the location
ATTACH;FMTTYPE=image/png:https://www.monmouth.edu/events/wp-content/uploads/sites/19/2026/04/image_upload_603649_Stressed_for_finals_414133243.png
ORGANIZER;CN="Intercultural Center":MAILTO:Intercultural@monmouth.edu
END:VEVENT
BEGIN:VEVENT
DTSTART;TZID=America/New_York:20260428T123000
DTEND;TZID=America/New_York:20260428T140000
DTSTAMP:20260422T190243
CREATED:20260113T025614Z
LAST-MODIFIED:20260113T025614Z
UID:40810120758-1777379400-1777384800@www.monmouth.edu
SUMMARY:Pawffice Hours
DESCRIPTION:Take a paws from your busy day and unwind with friendly therapy dogs at Pawffice Hours! This relaxing event offers students a chance to de-stress\, recharge\, and enjoy some tail-wagging company.n—nEvent Details: https://campusgroups.monmouth.edu/rsvp?id=375119
URL:https://www.monmouth.edu/events/event/pawffice-hours-10/
LOCATION:Sign into HawkHub to view the location
ATTACH;FMTTYPE=image/jpeg:https://www.monmouth.edu/events/wp-content/uploads/sites/19/2026/01/image_upload_599705_IMG_4635PNG_8110745.jpeg
END:VEVENT
BEGIN:VEVENT
DTSTART;TZID=America/New_York:20260428T140000
DTEND;TZID=America/New_York:20260428T150000
DTSTAMP:20260422T190243
CREATED:20260421T065622Z
LAST-MODIFIED:20260421T065622Z
UID:40810122323-1777384800-1777388400@www.monmouth.edu
SUMMARY:Take a Break on Reading Day - Guided Meditation
DESCRIPTION:Guided Meditation with Laura Giacobbe\, Meditation Instructor – Reiki Master Teacher – Librarian Need a moment to reset? Join us for a guided meditation session where we’ll explore a few techniques\, including loving-kindness (Metta) – a practice to cultivate calm\, compassion\, and clarity during a busy time.n—nEvent Details: https://campusgroups.monmouth.edu/rsvp?id=376140
URL:https://www.monmouth.edu/events/event/take-a-break-on-reading-day-guided-meditation/
LOCATION:Guggenheim Library Room 101
ATTACH;FMTTYPE=image/png:https://www.monmouth.edu/events/wp-content/uploads/sites/19/2026/04/image_upload_604993_Untitled_420122211.png
END:VEVENT
BEGIN:VEVENT
DTSTART;TZID=America/New_York:20260428T163000
DTEND;TZID=America/New_York:20260428T174500
DTSTAMP:20260422T190243
CREATED:20260422T075540Z
LAST-MODIFIED:20260422T075540Z
UID:40810122344-1777393800-1777398300@www.monmouth.edu
SUMMARY:Math Club Students vs Faculty Volleyball Game
DESCRIPTION:Come join us for our annual Math Club Students vs Faculty Volleyball Game on April 28th at 4:30pm in the Boylan Gym.n—nEvent Details: https://campusgroups.monmouth.edu/rsvp?id=376144
URL:https://www.monmouth.edu/events/event/math-club-students-vs-faculty-volleyball-game/
LOCATION:Sign into HawkHub to view the location
ATTACH;FMTTYPE=image/png:https://www.monmouth.edu/events/wp-content/uploads/sites/19/2026/04/image_upload_601306_Volleyball_Game_Flyer_421131142.png
END:VEVENT
END:VCALENDAR