BEGIN:VCALENDAR
VERSION:2.0
PRODID:-//Events - ECPv6.15.20//NONSGML v1.0//EN
CALSCALE:GREGORIAN
METHOD:PUBLISH
X-WR-CALNAME:Events
X-ORIGINAL-URL:https://www.monmouth.edu/events
X-WR-CALDESC:Events for Events
REFRESH-INTERVAL;VALUE=DURATION:PT1H
X-Robots-Tag:noindex
X-PUBLISHED-TTL:PT1H
BEGIN:VTIMEZONE
TZID:America/New_York
BEGIN:DAYLIGHT
TZOFFSETFROM:-0500
TZOFFSETTO:-0400
TZNAME:EDT
DTSTART:20240310T070000
END:DAYLIGHT
BEGIN:STANDARD
TZOFFSETFROM:-0400
TZOFFSETTO:-0500
TZNAME:EST
DTSTART:20241103T060000
END:STANDARD
BEGIN:DAYLIGHT
TZOFFSETFROM:-0500
TZOFFSETTO:-0400
TZNAME:EDT
DTSTART:20250309T070000
END:DAYLIGHT
BEGIN:STANDARD
TZOFFSETFROM:-0400
TZOFFSETTO:-0500
TZNAME:EST
DTSTART:20251102T060000
END:STANDARD
BEGIN:DAYLIGHT
TZOFFSETFROM:-0500
TZOFFSETTO:-0400
TZNAME:EDT
DTSTART:20260308T070000
END:DAYLIGHT
BEGIN:STANDARD
TZOFFSETFROM:-0400
TZOFFSETTO:-0500
TZNAME:EST
DTSTART:20261101T060000
END:STANDARD
END:VTIMEZONE
BEGIN:VEVENT
DTSTART;TZID=America/New_York:20251120T120000
DTEND;TZID=America/New_York:20251120T120000
DTSTAMP:20260421T101947
CREATED:20251103T191543Z
LAST-MODIFIED:20251106T151239Z
UID:40810120141-1763640000-1763640000@www.monmouth.edu
SUMMARY:Alumni Speaker Series: "Lunch and Learn" with Becca Baier ’12
DESCRIPTION:From Self-Doubt to Self-Assurance: Navigating Your Career with Confidence\nWhat happens when you want to apply for a job or internship and that voice in your head tells you that’s totally nuts and you don’t have the experience or qualifications? \nAnd then\, if you somehow magically land the role\, how do you “fake it til you make it” in a place you’re worried you’ll be found out? \nAlmost 4 years ago\, Becca made the transition from a higher education professional to the corporate world\, and these were some of the many thoughts she had along the way. Whether you’re thinking about entering the workforce for the first time\, changing career fields\, or just struggling with self-doubt\, this is the workshop for you! \nAbout the Speaker\nA proud Monmouth Hawk\, Baier has a B.S. in Mathematics and M.A. in Higher Education Student Personnel. She went to Ole Miss for grad school\, and during her eight years working in higher education\, she worked at Rider University and Rutgers-New Brunswick. In January 2022\, Baier made the career leap to corporate\, where she now works at Paramount Global in Human Resources. After her first year and a half\, she made a jump within Paramount to a new team and continues to experience that thing we can’t seem to avoid in life—change! \nOutside of work\, Baier is the founder and director of The Celebrate Life Foundation\, a NJ 501(c)3 nonprofit organization\, and is a certified life and career coach. She loves spending time with her family and friends\, lives on the beach (right by campus!)\, and has a knack for organizing and color-coding.
URL:https://www.monmouth.edu/events/event/alumni-speaker-series-lunch-and-learn-with-becca-baier-12/
LOCATION:Zoom (Online)
CATEGORIES:Alumni,Alumni Calendar Featured,Alumni Events,Free,Virtual,Workshops and Professional Development
ATTACH;FMTTYPE=image/jpeg:https://www.monmouth.edu/events/wp-content/uploads/sites/19/2025/11/BeccaBaier-e1762441932552.jpg
END:VEVENT
END:VCALENDAR