BEGIN:VCALENDAR
VERSION:2.0
PRODID:-//Events - ECPv6.15.20//NONSGML v1.0//EN
CALSCALE:GREGORIAN
METHOD:PUBLISH
X-WR-CALNAME:Events
X-ORIGINAL-URL:https://www.monmouth.edu/events
X-WR-CALDESC:Events for Events
REFRESH-INTERVAL;VALUE=DURATION:PT1H
X-Robots-Tag:noindex
X-PUBLISHED-TTL:PT1H
BEGIN:VTIMEZONE
TZID:America/New_York
BEGIN:DAYLIGHT
TZOFFSETFROM:-0500
TZOFFSETTO:-0400
TZNAME:EDT
DTSTART:20240310T070000
END:DAYLIGHT
BEGIN:STANDARD
TZOFFSETFROM:-0400
TZOFFSETTO:-0500
TZNAME:EST
DTSTART:20241103T060000
END:STANDARD
BEGIN:DAYLIGHT
TZOFFSETFROM:-0500
TZOFFSETTO:-0400
TZNAME:EDT
DTSTART:20250309T070000
END:DAYLIGHT
BEGIN:STANDARD
TZOFFSETFROM:-0400
TZOFFSETTO:-0500
TZNAME:EST
DTSTART:20251102T060000
END:STANDARD
BEGIN:DAYLIGHT
TZOFFSETFROM:-0500
TZOFFSETTO:-0400
TZNAME:EDT
DTSTART:20260308T070000
END:DAYLIGHT
BEGIN:STANDARD
TZOFFSETFROM:-0400
TZOFFSETTO:-0500
TZNAME:EST
DTSTART:20261101T060000
END:STANDARD
END:VTIMEZONE
BEGIN:VEVENT
DTSTART;TZID=America/New_York:20250409T130000
DTEND;TZID=America/New_York:20250409T160000
DTSTAMP:20260422T223258
CREATED:20250306T140712Z
LAST-MODIFIED:20250306T140712Z
UID:40810118976-1744203600-1744214400@www.monmouth.edu
SUMMARY:2025 Spring Career & Internship Fair
DESCRIPTION:Monmouth University is excited to host its upcoming 2025 Spring Career & Internship Fair\, providing students with the unique opportunity to connect with top employers from various industries. This event aims to foster meaningful interactions between students and hiring professionals\, offering a platform for networking\, internships\, and full-time job opportunities. Whether you’re looking to jumpstart your career or explore new fields\, the Career Fair is the perfect place to make valuable connections and gain insights into your future career path
URL:https://www.monmouth.edu/events/event/2025-spring-career-internship-fair/
LOCATION:OceanFirst Bank Center
CATEGORIES:Alumni Events,Workshops and Professional Development
ATTACH;FMTTYPE=image/jpeg:https://www.monmouth.edu/events/wp-content/uploads/sites/19/2025/03/MU-spiritmark-CAREERS-295_002.jpg
ORGANIZER;CN="Career Development":MAILTO:careerdevelopment@monmouth.edu
END:VEVENT
BEGIN:VEVENT
DTSTART;TZID=America/New_York:20250411T110000
DTEND;TZID=America/New_York:20250411T150000
DTSTAMP:20260422T223258
CREATED:20250409T202619Z
LAST-MODIFIED:20250409T202619Z
UID:40810119058-1744369200-1744383600@www.monmouth.edu
SUMMARY:Basic Life Support (BLS)
DESCRIPTION:Basic Life Support for Healthcare Providers – American Heart Association (AHA) \nThis course is intended for health and allied health providers (licensed and non-licensed)\, students working in healthcare settings\, fire fighters\, police officers\, paramedics and EMT’s. Following the AHA guidelines\, this in-person training is designed to prepare individuals to provide BLS in a variety of settings. \nUpon completion of course requirements – participants will receive an American Heart Association (AHA) BLS provider completion card which is good for 2 years. \nThe following content will be included: \n\nAHA’s Basic Life Support (BLS) principles and procedures for adults\, children\, and infants including simulated demonstration and repeat demonstration\nAdministration of CPR\nEstablishing effective ventilations using a barrier device\nProper use of Automated External Defibrillators (AED)\nRelief of foreign-body airway obstruction (choking) for adults\, children\, and infants\nWorking as a team in multi-rescuer resuscitation\n\nBooks are included.  \nPre-registration is required. Please register early as registration for each session is limited.  \n \nNo contact hours will be provided for this program. 
URL:https://www.monmouth.edu/events/event/basic-life-support-bls/2025-04-11/
LOCATION:Monmouth University – McAllan Hall 329\, 400 Cedar Ave\, West Long Branch\, 07764
CATEGORIES:Workshops and Professional Development
ATTACH;FMTTYPE=image/jpeg:https://www.monmouth.edu/events/wp-content/uploads/sites/19/2025/03/thumbnail_BLS-for-screens-sp-2025-1.jpg
ORGANIZER;CN="School of Nursing and Health Studies":MAILTO:bpaskewi@monmouth.edu
END:VEVENT
END:VCALENDAR