BEGIN:VCALENDAR
VERSION:2.0
PRODID:-//Events - ECPv6.15.20//NONSGML v1.0//EN
CALSCALE:GREGORIAN
METHOD:PUBLISH
X-WR-CALNAME:Events
X-ORIGINAL-URL:https://www.monmouth.edu/events
X-WR-CALDESC:Events for Events
REFRESH-INTERVAL;VALUE=DURATION:PT1H
X-Robots-Tag:noindex
X-PUBLISHED-TTL:PT1H
BEGIN:VTIMEZONE
TZID:America/New_York
BEGIN:DAYLIGHT
TZOFFSETFROM:-0500
TZOFFSETTO:-0400
TZNAME:EDT
DTSTART:20240310T070000
END:DAYLIGHT
BEGIN:STANDARD
TZOFFSETFROM:-0400
TZOFFSETTO:-0500
TZNAME:EST
DTSTART:20241103T060000
END:STANDARD
BEGIN:DAYLIGHT
TZOFFSETFROM:-0500
TZOFFSETTO:-0400
TZNAME:EDT
DTSTART:20250309T070000
END:DAYLIGHT
BEGIN:STANDARD
TZOFFSETFROM:-0400
TZOFFSETTO:-0500
TZNAME:EST
DTSTART:20251102T060000
END:STANDARD
BEGIN:DAYLIGHT
TZOFFSETFROM:-0500
TZOFFSETTO:-0400
TZNAME:EDT
DTSTART:20260308T070000
END:DAYLIGHT
BEGIN:STANDARD
TZOFFSETFROM:-0400
TZOFFSETTO:-0500
TZNAME:EST
DTSTART:20261101T060000
END:STANDARD
END:VTIMEZONE
BEGIN:VEVENT
DTSTART;TZID=America/New_York:20250331T100000
DTEND;TZID=America/New_York:20250331T130000
DTSTAMP:20260422T190524
CREATED:20250306T140649Z
LAST-MODIFIED:20250306T140649Z
UID:40810118980-1743415200-1743426000@www.monmouth.edu
SUMMARY:Donation Drive for Professional Clothing
DESCRIPTION:Help us to provide FREE professional clothing to Monmouth University students! \nWhat we need: \n\nProfessional Business Clothing for College Students\nModern tops\, bottoms\, shoes and accessories (ties\, jewelry\, handbags)\n\n***Bring donations to the Rebecca Stafford Student Center parking lot*** \nIn collaboration with Lunch Break’s Clara’s Closet\, a local non-profit\, these clothes will be provided to Monmouth University students for FREE at our upcoming Professional Clothing Giveaway event (April 3rd)! \nAny remaining clothing items\, at the end of the Professional Clothing Giveaway event\, will be given to Clara’s Closet to distribute to individuals who need it most. \nQuestions? Contact ecotta@monmouth.edu or 732-571-3471. \n 
URL:https://www.monmouth.edu/events/event/donation-drive-for-professional-clothing-2/
LOCATION:Rebecca Stafford Student Center Parking Lot
CATEGORIES:Workshops and Professional Development
ORGANIZER;CN="Career Development":MAILTO:careerdevelopment@monmouth.edu
END:VEVENT
BEGIN:VEVENT
DTSTART;TZID=America/New_York:20250401T090000
DTEND;TZID=America/New_York:20250401T170000
DTSTAMP:20260422T190524
CREATED:20250306T214812Z
LAST-MODIFIED:20250306T214812Z
UID:40810118989-1743498000-1743526800@www.monmouth.edu
SUMMARY:ICIMS Career Trek
DESCRIPTION:An immersive trip to ICIMS  designed to help students explore various career paths by connecting with professionals\, and engaging with alumni at ICIMS. On Career Treks students have the chance to dive into specific companies or learn about similar organizations within the same industry. The program allows numerous opportunities to engage with recruiters\, alumni\, and employees\, while helping to build student networks and practicing career development skills. \nEvent includes an office tour\, alumni panel\, lunch\, and networking session. \n  \nAny questions? Contact the Career Development office at 732-571-3644
URL:https://www.monmouth.edu/events/event/icims-career-trek/
LOCATION:Bell Works\, 101 Crawfords Corner Rd\, Holmdel\, NJ\, 07733\, United States
CATEGORIES:Workshops and Professional Development
END:VEVENT
BEGIN:VEVENT
DTSTART;TZID=America/New_York:20250401T120000
DTEND;TZID=America/New_York:20250401T120000
DTSTAMP:20260422T190524
CREATED:20250214T172959Z
LAST-MODIFIED:20250214T172959Z
UID:40810118717-1743508800-1743508800@www.monmouth.edu
SUMMARY:Alumni Speaker Series: “Lunch and Learn” with Alaysha Prestia ’17
DESCRIPTION:Are you fearful of becoming burnt out in the field you are in? Do you often find yourself feeling exhausted\, overwhelmed\, or on edge? These symptoms do not occur overnight. They are frequently built up due to stress\, over-commitment\, and self-neglect. In this workshop\, hear from alumna and licensed psychotherapist\, Alaysha Prestia ’17 as she teaches you about evidence-based strategies to manage stress\, set boundaries\, and prevent burnout using cognitive behavioral and motivational interviewing techniques.
URL:https://www.monmouth.edu/events/event/alumni-speaker-series-lunch-and-learn-with-alaysha-prestia-17/
LOCATION:Virtual (Zoom)
CATEGORIES:Alumni,Alumni Events,Current Student,Free,Lectures,Lectures/Workshops/Symposiums,Workshops and Professional Development
ATTACH;FMTTYPE=image/jpeg:https://www.monmouth.edu/events/wp-content/uploads/sites/19/2025/02/IMG_1956.jpg
END:VEVENT
BEGIN:VEVENT
DTSTART;TZID=America/New_York:20250401T130000
DTEND;TZID=America/New_York:20250401T150000
DTSTAMP:20260422T190524
CREATED:20250306T140400Z
LAST-MODIFIED:20250306T140400Z
UID:40810118982-1743512400-1743519600@www.monmouth.edu
SUMMARY:Donation Drive for Professional Clothing
DESCRIPTION:Help us to provide FREE professional clothing to Monmouth University students! \nWhat we need: \n\nProfessional Business Clothing for College Students\nModern tops\, bottoms\, shoes and accessories (ties\, jewelry\, handbags)\n\n***Bring donations to the Rebecca Stafford Student Center parking lot*** \n  \nIn collaboration with Lunch Break’s Clara’s Closet\, a local non-profit\, these clothes will be provided to Monmouth University students for FREE at our upcoming Professional Clothing Giveaway event (April 3rd)! \nAny remaining clothing items\, at the end of the Professional Clothing Giveaway event\, will be given to Clara’s Closet to distribute to individuals who need it most. \nQuestions? Contact ecotta@monmouth.edu or 732-571-3471. \n 
URL:https://www.monmouth.edu/events/event/donation-drive-for-professional-clothing/
LOCATION:Rebecca Stafford Student Center Parking Lot
CATEGORIES:Workshops and Professional Development
END:VEVENT
BEGIN:VEVENT
DTSTART;TZID=America/New_York:20250402T133000
DTEND;TZID=America/New_York:20250402T150000
DTSTAMP:20260422T190524
CREATED:20250306T161918Z
LAST-MODIFIED:20250306T161918Z
UID:40810118985-1743600600-1743606000@www.monmouth.edu
SUMMARY:Pre-Law Honors School Alumni Panel
DESCRIPTION:Free Event \nJoin us for an engaging and insightful Pre-Law Alumni Panel\, where distinguished alumni from Monmouth University’s Honors School will share their journeys from their undergraduate experience to successful careers in law. This panel is designed for those interested in pursuing a legal career\, offering firsthand perspectives on law school\, different career paths\, and valuable advice on navigating the legal profession. \nFollowing the panel\, enjoy light refreshments and networking\, providing a great opportunity to connect with alumni\, ask questions\, and build valuable relationships. Don’t miss this chance to gain insight\, make connections\, and explore your future in law!
URL:https://www.monmouth.edu/events/event/pre-law-honors-school-alumni-panel/
LOCATION:Julian Abele Room (The Great Hall Room 104)
CATEGORIES:Alumni,Alumni Events,Free,Honors School,Lectures,Lectures/Workshops/Symposiums,Social Events,Undergraduate Student,Workshops and Professional Development
ATTACH;FMTTYPE=image/jpeg:https://www.monmouth.edu/events/wp-content/uploads/sites/19/2025/03/Pre-Law-Panel.jpg
END:VEVENT
BEGIN:VEVENT
DTSTART;TZID=America/New_York:20250403T110000
DTEND;TZID=America/New_York:20250403T160000
DTSTAMP:20260422T190524
CREATED:20250306T140704Z
LAST-MODIFIED:20250306T140704Z
UID:40810118978-1743678000-1743696000@www.monmouth.edu
SUMMARY:FREE Professional Clothing Pop-Up Closet for MU Students
DESCRIPTION:Need something to wear to the upcoming Spring Career Fair (Wednesday\, April 9th)? Or maybe for your interview next week? How about your Summer Internship? \nIn collaboration with Lunch Break’s Clara’s Closet\, Student Life\, and Alpha Xi Delta\, Career Development will be hosting a FREE Professional Clothing Giveaway for all Monmouth University Students! \nCome by and pick out some clothes to wear for your next career event!
URL:https://www.monmouth.edu/events/event/free-professional-clothing-pop-up-closet-for-mu-students/
LOCATION:Anacon A
CATEGORIES:Workshops and Professional Development
END:VEVENT
END:VCALENDAR