BEGIN:VCALENDAR
VERSION:2.0
PRODID:-//Events - ECPv6.15.20//NONSGML v1.0//EN
CALSCALE:GREGORIAN
METHOD:PUBLISH
X-WR-CALNAME:Events
X-ORIGINAL-URL:https://www.monmouth.edu/events
X-WR-CALDESC:Events for Events
REFRESH-INTERVAL;VALUE=DURATION:PT1H
X-Robots-Tag:noindex
X-PUBLISHED-TTL:PT1H
BEGIN:VTIMEZONE
TZID:America/New_York
BEGIN:DAYLIGHT
TZOFFSETFROM:-0500
TZOFFSETTO:-0400
TZNAME:EDT
DTSTART:20240310T070000
END:DAYLIGHT
BEGIN:STANDARD
TZOFFSETFROM:-0400
TZOFFSETTO:-0500
TZNAME:EST
DTSTART:20241103T060000
END:STANDARD
BEGIN:DAYLIGHT
TZOFFSETFROM:-0500
TZOFFSETTO:-0400
TZNAME:EDT
DTSTART:20250309T070000
END:DAYLIGHT
BEGIN:STANDARD
TZOFFSETFROM:-0400
TZOFFSETTO:-0500
TZNAME:EST
DTSTART:20251102T060000
END:STANDARD
BEGIN:DAYLIGHT
TZOFFSETFROM:-0500
TZOFFSETTO:-0400
TZNAME:EDT
DTSTART:20260308T070000
END:DAYLIGHT
BEGIN:STANDARD
TZOFFSETFROM:-0400
TZOFFSETTO:-0500
TZNAME:EST
DTSTART:20261101T060000
END:STANDARD
END:VTIMEZONE
BEGIN:VEVENT
DTSTART;TZID=America/New_York:20250306T150000
DTEND;TZID=America/New_York:20250306T154500
DTSTAMP:20260422T210632
CREATED:20250306T151836Z
LAST-MODIFIED:20250306T151836Z
UID:40810118839-1741273200-1741275900@www.monmouth.edu
SUMMARY:Organization and Time Management Workshop
DESCRIPTION:Come learn how to strengthen your organizational and time management skills before midterms with the Honors Student Association (HSA). All students are welcome!
URL:https://www.monmouth.edu/events/event/organization-and-time-management-workshop/
LOCATION:Center for Student Success (CSS) – Lower Level of Student Center
CATEGORIES:Featured Student Activites,Free,Special Events,Workshops and Professional Development
ATTACH;FMTTYPE=image/jpeg:https://www.monmouth.edu/events/wp-content/uploads/sites/19/2025/03/Screenshot-2025-03-04-at-12.07.03 PM.jpeg
END:VEVENT
BEGIN:VEVENT
DTSTART;TZID=America/New_York:20250306T193000
DTEND;TZID=America/New_York:20250306T210000
DTSTAMP:20260422T210632
CREATED:20250107T155535Z
LAST-MODIFIED:20250107T155535Z
UID:40810117671-1741289400-1741294800@www.monmouth.edu
SUMMARY:Producing the Beatles
DESCRIPTION:Class Schedule: Thursdays – March 6 & 13 | 7:30 – 9:00 PM \nBased on his acclaimed podcast\, Producing the Beatles\, Jason Kruppa explores the music of the Fab Four from the perspective of the one person whose point of view has never been properly and thoroughly examined: their producer\, George Martin. Using innovative techniques to break down their recordings\, we’ll discover how the Beatles went from learning their way around the studio to becoming masters of the art of recording\, with their producer working side by side with them each step of the way. And finally\, with re-recordings and detailed recreations of Martin’s orchestral scores that allow us to hear individual instrument parts\,\, we’ll learn how his arrangements enhanced and shaped the Beatles’ music. \nZoom Link will be provided upon registration.
URL:https://www.monmouth.edu/events/event/producing-the-beatles-kruppa/
LOCATION:Virtual
CATEGORIES:Alumni,Arts at Monmouth,Current Student,Lectures,Music,Music + Theatre Arts,Workshops and Professional Development
ATTACH;FMTTYPE=image/png:https://www.monmouth.edu/events/wp-content/uploads/sites/19/2025/01/Kruppa-header.png
ORGANIZER;CN="Center for the Arts":MAILTO:kbarratt@monmouth.edu
END:VEVENT
BEGIN:VEVENT
DTSTART;TZID=America/New_York:20250306T200000
DTEND;TZID=America/New_York:20250306T230000
DTSTAMP:20260422T210632
CREATED:20241218T184026Z
LAST-MODIFIED:20250306T200755Z
UID:40810118798-1741291200-1741302000@www.monmouth.edu
SUMMARY:Singin' in the Rain
DESCRIPTION:The “Greatest Movie Musical of All Time” is faithfully and lovingly adapted by Broadway legends\, Betty Comden and Adolph Green\, from their original award-winning screenplay in Singin’ in the Rain. Each unforgettable scene\, song and dance is accounted for\, including the show-stopping title number! Hilarious situations\, snappy dialogue and a hit-parade score of Hollywood standards make Singin’ in the Rain the perfect entertainment for any fan of the golden age of movie musicals. (source: MTI)
URL:https://www.monmouth.edu/events/event/singin-in-the-rain/2025-03-06/
LOCATION:Lauren K Woods Theatre\, 398 Cedar Ave\, Long Branch\, NJ\, United States
CATEGORIES:Arts at Monmouth,Autism Awareness Month,Music,Music + Theatre Arts,Student Performances,Theatre,Workshops and Professional Development
ATTACH;FMTTYPE=image/jpeg:https://www.monmouth.edu/events/wp-content/uploads/sites/19/2024/12/SinginInTheRain_header.jpg
GEO:40.281658;-74.001637
X-APPLE-STRUCTURED-LOCATION;VALUE=URI;X-ADDRESS=Lauren K Woods Theatre 398 Cedar Ave Long Branch NJ United States;X-APPLE-RADIUS=500;X-TITLE=398 Cedar Ave:geo:-74.001637,40.281658
END:VEVENT
BEGIN:VEVENT
DTSTART;TZID=America/New_York:20250307T200000
DTEND;TZID=America/New_York:20250307T230000
DTSTAMP:20260422T210632
CREATED:20241218T184026Z
LAST-MODIFIED:20250306T200755Z
UID:40810118800-1741377600-1741388400@www.monmouth.edu
SUMMARY:Singin' in the Rain
DESCRIPTION:The “Greatest Movie Musical of All Time” is faithfully and lovingly adapted by Broadway legends\, Betty Comden and Adolph Green\, from their original award-winning screenplay in Singin’ in the Rain. Each unforgettable scene\, song and dance is accounted for\, including the show-stopping title number! Hilarious situations\, snappy dialogue and a hit-parade score of Hollywood standards make Singin’ in the Rain the perfect entertainment for any fan of the golden age of movie musicals. (source: MTI)
URL:https://www.monmouth.edu/events/event/singin-in-the-rain/2025-03-07/
LOCATION:Lauren K Woods Theatre\, 398 Cedar Ave\, Long Branch\, NJ\, United States
CATEGORIES:Arts at Monmouth,Autism Awareness Month,Music,Music + Theatre Arts,Student Performances,Theatre,Workshops and Professional Development
ATTACH;FMTTYPE=image/jpeg:https://www.monmouth.edu/events/wp-content/uploads/sites/19/2024/12/SinginInTheRain_header.jpg
GEO:40.281658;-74.001637
X-APPLE-STRUCTURED-LOCATION;VALUE=URI;X-ADDRESS=Lauren K Woods Theatre 398 Cedar Ave Long Branch NJ United States;X-APPLE-RADIUS=500;X-TITLE=398 Cedar Ave:geo:-74.001637,40.281658
END:VEVENT
BEGIN:VEVENT
DTSTART;TZID=America/New_York:20250308T140000
DTEND;TZID=America/New_York:20250308T170000
DTSTAMP:20260422T210632
CREATED:20241218T184026Z
LAST-MODIFIED:20250306T200755Z
UID:40810116010-1741442400-1741453200@www.monmouth.edu
SUMMARY:Singin' in the Rain
DESCRIPTION:The “Greatest Movie Musical of All Time” is faithfully and lovingly adapted by Broadway legends\, Betty Comden and Adolph Green\, from their original award-winning screenplay in Singin’ in the Rain. Each unforgettable scene\, song and dance is accounted for\, including the show-stopping title number! Hilarious situations\, snappy dialogue and a hit-parade score of Hollywood standards make Singin’ in the Rain the perfect entertainment for any fan of the golden age of movie musicals. (source: MTI)
URL:https://www.monmouth.edu/events/event/singin-in-the-rain/2025-03-08/1/
LOCATION:Lauren K Woods Theatre\, 398 Cedar Ave\, Long Branch\, NJ\, United States
CATEGORIES:Arts at Monmouth,Autism Awareness Month,Music,Music + Theatre Arts,Student Performances,Theatre,Workshops and Professional Development
ATTACH;FMTTYPE=image/jpeg:https://www.monmouth.edu/events/wp-content/uploads/sites/19/2024/12/SinginInTheRain_header.jpg
GEO:40.281658;-74.001637
X-APPLE-STRUCTURED-LOCATION;VALUE=URI;X-ADDRESS=Lauren K Woods Theatre 398 Cedar Ave Long Branch NJ United States;X-APPLE-RADIUS=500;X-TITLE=398 Cedar Ave:geo:-74.001637,40.281658
END:VEVENT
BEGIN:VEVENT
DTSTART;TZID=America/New_York:20250308T200000
DTEND;TZID=America/New_York:20250308T230000
DTSTAMP:20260422T210632
CREATED:20241218T184026Z
LAST-MODIFIED:20250306T200755Z
UID:40810118992-1741464000-1741474800@www.monmouth.edu
SUMMARY:Singin' in the Rain
DESCRIPTION:The “Greatest Movie Musical of All Time” is faithfully and lovingly adapted by Broadway legends\, Betty Comden and Adolph Green\, from their original award-winning screenplay in Singin’ in the Rain. Each unforgettable scene\, song and dance is accounted for\, including the show-stopping title number! Hilarious situations\, snappy dialogue and a hit-parade score of Hollywood standards make Singin’ in the Rain the perfect entertainment for any fan of the golden age of movie musicals. (source: MTI)
URL:https://www.monmouth.edu/events/event/singin-in-the-rain/2025-03-08/2/
LOCATION:Lauren K Woods Theatre\, 398 Cedar Ave\, Long Branch\, NJ\, United States
CATEGORIES:Arts at Monmouth,Autism Awareness Month,Music,Music + Theatre Arts,Student Performances,Theatre,Workshops and Professional Development
ATTACH;FMTTYPE=image/jpeg:https://www.monmouth.edu/events/wp-content/uploads/sites/19/2024/12/SinginInTheRain_header.jpg
GEO:40.281658;-74.001637
X-APPLE-STRUCTURED-LOCATION;VALUE=URI;X-ADDRESS=Lauren K Woods Theatre 398 Cedar Ave Long Branch NJ United States;X-APPLE-RADIUS=500;X-TITLE=398 Cedar Ave:geo:-74.001637,40.281658
END:VEVENT
END:VCALENDAR