BEGIN:VCALENDAR
VERSION:2.0
PRODID:-//Events - ECPv6.15.20//NONSGML v1.0//EN
CALSCALE:GREGORIAN
METHOD:PUBLISH
X-WR-CALNAME:Events
X-ORIGINAL-URL:https://www.monmouth.edu/events
X-WR-CALDESC:Events for Events
REFRESH-INTERVAL;VALUE=DURATION:PT1H
X-Robots-Tag:noindex
X-PUBLISHED-TTL:PT1H
BEGIN:VTIMEZONE
TZID:America/New_York
BEGIN:DAYLIGHT
TZOFFSETFROM:-0500
TZOFFSETTO:-0400
TZNAME:EDT
DTSTART:20230312T070000
END:DAYLIGHT
BEGIN:STANDARD
TZOFFSETFROM:-0400
TZOFFSETTO:-0500
TZNAME:EST
DTSTART:20231105T060000
END:STANDARD
BEGIN:DAYLIGHT
TZOFFSETFROM:-0500
TZOFFSETTO:-0400
TZNAME:EDT
DTSTART:20240310T070000
END:DAYLIGHT
BEGIN:STANDARD
TZOFFSETFROM:-0400
TZOFFSETTO:-0500
TZNAME:EST
DTSTART:20241103T060000
END:STANDARD
BEGIN:DAYLIGHT
TZOFFSETFROM:-0500
TZOFFSETTO:-0400
TZNAME:EDT
DTSTART:20250309T070000
END:DAYLIGHT
BEGIN:STANDARD
TZOFFSETFROM:-0400
TZOFFSETTO:-0500
TZNAME:EST
DTSTART:20251102T060000
END:STANDARD
END:VTIMEZONE
BEGIN:VEVENT
DTSTART;TZID=America/New_York:20241113T110000
DTEND;TZID=America/New_York:20241113T140000
DTSTAMP:20260423T032717
CREATED:20240903T175443Z
LAST-MODIFIED:20241104T224858Z
UID:40810113413-1731495600-1731506400@www.monmouth.edu
SUMMARY:HireNewYork Multi-University Alumni Career Fair Fall 2024
DESCRIPTION:The HireNewYork Alumni Career Fair is a hiring event designed for alumni\, graduating seniors and graduate students who are looking for early-and mid-level career opportunities. It offers a special chance for job seekers to connect with employers from diverse fields and industries. Job seekers attend the fair for free\, but it’s important to register in advance to secure participation.
URL:https://www.monmouth.edu/events/event/hirenewyork-multi-university-alumni-career-fair-fall-2024/
LOCATION:Prince George Ballroom 15 E 27th St.\, NYC
CATEGORIES:Alumni,Alumni Calendar Featured,Alumni Events,Free,Workshops and Professional Development
END:VEVENT
END:VCALENDAR