BEGIN:VCALENDAR
VERSION:2.0
PRODID:-//Events - ECPv6.15.20//NONSGML v1.0//EN
CALSCALE:GREGORIAN
METHOD:PUBLISH
X-WR-CALNAME:Events
X-ORIGINAL-URL:https://www.monmouth.edu/events
X-WR-CALDESC:Events for Events
REFRESH-INTERVAL;VALUE=DURATION:PT1H
X-Robots-Tag:noindex
X-PUBLISHED-TTL:PT1H
BEGIN:VTIMEZONE
TZID:America/New_York
BEGIN:DAYLIGHT
TZOFFSETFROM:-0500
TZOFFSETTO:-0400
TZNAME:EDT
DTSTART:20240310T070000
END:DAYLIGHT
BEGIN:STANDARD
TZOFFSETFROM:-0400
TZOFFSETTO:-0500
TZNAME:EST
DTSTART:20241103T060000
END:STANDARD
BEGIN:DAYLIGHT
TZOFFSETFROM:-0500
TZOFFSETTO:-0400
TZNAME:EDT
DTSTART:20250309T070000
END:DAYLIGHT
BEGIN:STANDARD
TZOFFSETFROM:-0400
TZOFFSETTO:-0500
TZNAME:EST
DTSTART:20251102T060000
END:STANDARD
BEGIN:DAYLIGHT
TZOFFSETFROM:-0500
TZOFFSETTO:-0400
TZNAME:EDT
DTSTART:20260308T070000
END:DAYLIGHT
BEGIN:STANDARD
TZOFFSETFROM:-0400
TZOFFSETTO:-0500
TZNAME:EST
DTSTART:20261101T060000
END:STANDARD
END:VTIMEZONE
BEGIN:VEVENT
DTSTART;TZID=America/New_York:20250606T000000
DTEND;TZID=America/New_York:20250607T235959
DTSTAMP:20260422T011610
CREATED:20250602T150916Z
LAST-MODIFIED:20250602T151254Z
UID:40810119178-1749168000-1749340799@www.monmouth.edu
SUMMARY:Regional Sustainable Economic Development around the Globe
DESCRIPTION:Monmouth University and the McMullen Family invite submissions for the first annual workshop on “Regional Sustainable Economic Development around the Globe”\, on June 6–7\, 2025. The workshop is co-organized by the Joint Research Center of the European Commission\, the Institute of Global Business and Society at TH Köln\, and CED (Center for Economic Development & Social Change). \nClimate change\, and the responses in both the public and private sector have led to an increasing presence of sustainability in all parts of the economy. Much attention is given to the analysis on the global and national level\, while also at the regional level these challenges need to be addressed. According to the OECD (2023)\, “quality regional development policy is essential for inclusive economic outcomes\, well-being\, environmental sustainability\, and resilience. Regions\, cities and rural areas play a crucial role in responding to megatrends including climate change\, digitalization\, demographic shifts\, and globalization.” The workshop aims to bring together academics\, policymakers and industry representatives to discuss these challenges and to learn from each other.
URL:https://www.monmouth.edu/events/event/regional-sustainable-economic-development-around-the-globe/
CATEGORIES:Lectures,Lectures/Workshops/Symposiums,Leon Hess Business School,Workshops and Professional Development
END:VEVENT
END:VCALENDAR