BEGIN:VCALENDAR
VERSION:2.0
PRODID:-//Events - ECPv6.15.20//NONSGML v1.0//EN
CALSCALE:GREGORIAN
METHOD:PUBLISH
X-WR-CALNAME:Events
X-ORIGINAL-URL:https://www.monmouth.edu/events
X-WR-CALDESC:Events for Events
REFRESH-INTERVAL;VALUE=DURATION:PT1H
X-Robots-Tag:noindex
X-PUBLISHED-TTL:PT1H
BEGIN:VTIMEZONE
TZID:America/New_York
BEGIN:DAYLIGHT
TZOFFSETFROM:-0500
TZOFFSETTO:-0400
TZNAME:EDT
DTSTART:20240310T070000
END:DAYLIGHT
BEGIN:STANDARD
TZOFFSETFROM:-0400
TZOFFSETTO:-0500
TZNAME:EST
DTSTART:20241103T060000
END:STANDARD
BEGIN:DAYLIGHT
TZOFFSETFROM:-0500
TZOFFSETTO:-0400
TZNAME:EDT
DTSTART:20250309T070000
END:DAYLIGHT
BEGIN:STANDARD
TZOFFSETFROM:-0400
TZOFFSETTO:-0500
TZNAME:EST
DTSTART:20251102T060000
END:STANDARD
BEGIN:DAYLIGHT
TZOFFSETFROM:-0500
TZOFFSETTO:-0400
TZNAME:EDT
DTSTART:20260308T070000
END:DAYLIGHT
BEGIN:STANDARD
TZOFFSETFROM:-0400
TZOFFSETTO:-0500
TZNAME:EST
DTSTART:20261101T060000
END:STANDARD
END:VTIMEZONE
BEGIN:VEVENT
DTSTART;TZID=America/New_York:20250327T090000
DTEND;TZID=America/New_York:20250327T170000
DTSTAMP:20260422T174554
CREATED:20250306T215612Z
LAST-MODIFIED:20250306T215612Z
UID:40810118987-1743066000-1743094800@www.monmouth.edu
SUMMARY:FOX Corporation Career Trek
DESCRIPTION:An immersive trip to FOX Corporation designed to help students explore various career paths by connecting with professionals\, and engaging with alumni at FOX. On Career Treks students have the chance to dive into specific companies or learn about similar organizations within the same industry. Throughout the day there are numerous opportunities to engage with recruiters\, alumni\, and employees\, while helping to build student networks and practicing career development skills. \nEvent includes an office tour\, alumni panel\, lunch\, and networking session. \n  \nAny questions? Contact the Career Development office at 732-571-3644 \n\n\n\n\n Add to calendar
URL:https://www.monmouth.edu/events/event/fox-corporation-career-trek/
LOCATION:FOX Corporation\, 1211 6th Ave\, New York
CATEGORIES:Workshops and Professional Development
END:VEVENT
END:VCALENDAR