BEGIN:VCALENDAR
VERSION:2.0
PRODID:-//Events - ECPv6.15.20//NONSGML v1.0//EN
CALSCALE:GREGORIAN
METHOD:PUBLISH
X-ORIGINAL-URL:https://www.monmouth.edu/events
X-WR-CALDESC:Events for Events
REFRESH-INTERVAL;VALUE=DURATION:PT1H
X-Robots-Tag:noindex
X-PUBLISHED-TTL:PT1H
BEGIN:VTIMEZONE
TZID:America/New_York
BEGIN:DAYLIGHT
TZOFFSETFROM:-0500
TZOFFSETTO:-0400
TZNAME:EDT
DTSTART:20240310T070000
END:DAYLIGHT
BEGIN:STANDARD
TZOFFSETFROM:-0400
TZOFFSETTO:-0500
TZNAME:EST
DTSTART:20241103T060000
END:STANDARD
BEGIN:DAYLIGHT
TZOFFSETFROM:-0500
TZOFFSETTO:-0400
TZNAME:EDT
DTSTART:20250309T070000
END:DAYLIGHT
BEGIN:STANDARD
TZOFFSETFROM:-0400
TZOFFSETTO:-0500
TZNAME:EST
DTSTART:20251102T060000
END:STANDARD
BEGIN:DAYLIGHT
TZOFFSETFROM:-0500
TZOFFSETTO:-0400
TZNAME:EDT
DTSTART:20260308T070000
END:DAYLIGHT
BEGIN:STANDARD
TZOFFSETFROM:-0400
TZOFFSETTO:-0500
TZNAME:EST
DTSTART:20261101T060000
END:STANDARD
END:VTIMEZONE
BEGIN:VEVENT
DTSTART;TZID=America/New_York:20250312T130000
DTEND;TZID=America/New_York:20250312T170000
DTSTAMP:20260422T074645
CREATED:20250227T212309Z
LAST-MODIFIED:20250227T212309Z
UID:40810118832-1741784400-1741798800@www.monmouth.edu
SUMMARY:Communication Career Panels and Networking Event
DESCRIPTION:Presented by the Department of Communication and the Wayne D. McMurray School of Humanities and Social Sciences\n\nCareer Panels “Life After Monmouth: Emerging Trends in Communication Fields” \n1:30–3:45 p.m.\, Third Floor \n “All the Place You’ll Go! Diverse Careers in Communication” \n\n2:45–3:45 p.m.\, Third Floor\n\n Networking Session with Panelists and Alumni \n\n3:45–4:15 p.m.\, Second Floor\n\n Internship/Job Fair \n\n3:30–5 p.m.\, Second Floor\n\n \n\nJob Hunt Preparation \n\n 	One-on-One Resume Review\n \n 	LinkedIn Headshots\n \n 	Interview Training
URL:https://www.monmouth.edu/events/event/communication-career-panels-and-networking-event/
CATEGORIES:Communication,Current Student,School of Humanities and Social Sciences,Workshops and Professional Development
END:VEVENT
END:VCALENDAR