BEGIN:VCALENDAR
VERSION:2.0
PRODID:-//Events - ECPv6.15.20//NONSGML v1.0//EN
CALSCALE:GREGORIAN
METHOD:PUBLISH
X-ORIGINAL-URL:https://www.monmouth.edu/events
X-WR-CALDESC:Events for Events
REFRESH-INTERVAL;VALUE=DURATION:PT1H
X-Robots-Tag:noindex
X-PUBLISHED-TTL:PT1H
BEGIN:VTIMEZONE
TZID:America/New_York
BEGIN:DAYLIGHT
TZOFFSETFROM:-0500
TZOFFSETTO:-0400
TZNAME:EDT
DTSTART:20230312T070000
END:DAYLIGHT
BEGIN:STANDARD
TZOFFSETFROM:-0400
TZOFFSETTO:-0500
TZNAME:EST
DTSTART:20231105T060000
END:STANDARD
BEGIN:DAYLIGHT
TZOFFSETFROM:-0500
TZOFFSETTO:-0400
TZNAME:EDT
DTSTART:20240310T070000
END:DAYLIGHT
BEGIN:STANDARD
TZOFFSETFROM:-0400
TZOFFSETTO:-0500
TZNAME:EST
DTSTART:20241103T060000
END:STANDARD
BEGIN:DAYLIGHT
TZOFFSETFROM:-0500
TZOFFSETTO:-0400
TZNAME:EDT
DTSTART:20250309T070000
END:DAYLIGHT
BEGIN:STANDARD
TZOFFSETFROM:-0400
TZOFFSETTO:-0500
TZNAME:EST
DTSTART:20251102T060000
END:STANDARD
END:VTIMEZONE
BEGIN:VEVENT
DTSTART;TZID=America/New_York:20241023T083000
DTEND;TZID=America/New_York:20241023T170000
DTSTAMP:20260423T100254
CREATED:20241021T134139Z
LAST-MODIFIED:20241021T134139Z
UID:40810115097-1729672200-1729702800@www.monmouth.edu
SUMMARY:LinkedIn Headquarters Visit & Info Session
DESCRIPTION:Interested in visiting LinkedIn Headquarters in NYC and learning how to maximize your profile from the experts themselves? Come along with Career Development on a trip to LinkedIn where students will get a tour\, a presentation with profile tips\, and a professional headshot. More details will be sent to those who register as the event gets closer! \nOnly 15 spots available! Secure your registration now by visiting: https://monmouth.joinhandshake.com/events/1619729/share_preview. \nAny questions? Contact the Career Development office at 732-571-3471!
URL:https://www.monmouth.edu/events/event/linkedin-headquarters-visit-info-session/
LOCATION:LinkedIn Headquarters\, 350 5th Avenue\, Suite 25\, New York\, 10118
CATEGORIES:Free,Workshops and Professional Development
END:VEVENT
END:VCALENDAR