BEGIN:VCALENDAR
VERSION:2.0
PRODID:-//Events - ECPv6.15.20//NONSGML v1.0//EN
CALSCALE:GREGORIAN
METHOD:PUBLISH
X-WR-CALNAME:Events
X-ORIGINAL-URL:https://www.monmouth.edu/events
X-WR-CALDESC:Events for Events
REFRESH-INTERVAL;VALUE=DURATION:PT1H
X-Robots-Tag:noindex
X-PUBLISHED-TTL:PT1H
BEGIN:VTIMEZONE
TZID:America/New_York
BEGIN:DAYLIGHT
TZOFFSETFROM:-0500
TZOFFSETTO:-0400
TZNAME:EDT
DTSTART:20230312T070000
END:DAYLIGHT
BEGIN:STANDARD
TZOFFSETFROM:-0400
TZOFFSETTO:-0500
TZNAME:EST
DTSTART:20231105T060000
END:STANDARD
BEGIN:DAYLIGHT
TZOFFSETFROM:-0500
TZOFFSETTO:-0400
TZNAME:EDT
DTSTART:20240310T070000
END:DAYLIGHT
BEGIN:STANDARD
TZOFFSETFROM:-0400
TZOFFSETTO:-0500
TZNAME:EST
DTSTART:20241103T060000
END:STANDARD
BEGIN:DAYLIGHT
TZOFFSETFROM:-0500
TZOFFSETTO:-0400
TZNAME:EDT
DTSTART:20250309T070000
END:DAYLIGHT
BEGIN:STANDARD
TZOFFSETFROM:-0400
TZOFFSETTO:-0500
TZNAME:EST
DTSTART:20251102T060000
END:STANDARD
END:VTIMEZONE
BEGIN:VEVENT
DTSTART;TZID=America/New_York:20241123T200000
DTEND;TZID=America/New_York:20241123T220000
DTSTAMP:20260425T065405
CREATED:20241112T135557Z
LAST-MODIFIED:20241112T191206Z
UID:40810115820-1732392000-1732399200@www.monmouth.edu
SUMMARY:Theatre Fest Fall 2024 - Alpha Psi Omega Presents: To Be or Not to Be: Hamlet\, an Abridged Staging
DESCRIPTION:Presented by Monmouth University’s Department of Music and Theatre Arts.\nDirector: Julianna Chesla. ‘27 \n\n\n\nTo Be or Not To Be: Hamlet\, an Abridged Staging\, performed exclusively by members of Alpha Psi Omega\, Rho Rho Chapter. This organization consists of the elite members of the Monmouth University Music and Theatre Arts Department\, who through their hard work and dedication qualified to join this national theatre honor society. Join us for an intimate\, staged reading of a Shakespearean classic.
URL:https://www.monmouth.edu/events/event/theatre-fest-fall-2024-alpha-psi-omega-presents-to-be-or-not-to-be-hamlet-an-abridged-staging/
LOCATION:Lauren K. Woods Theatre
CATEGORIES:Arts at Monmouth,Free,Music + Theatre Arts,Theatre
ATTACH;FMTTYPE=image/jpeg:https://www.monmouth.edu/events/wp-content/uploads/sites/19/2024/11/TheatreFest_header.jpg
END:VEVENT
END:VCALENDAR