BEGIN:VCALENDAR
VERSION:2.0
PRODID:-//Events - ECPv6.15.20//NONSGML v1.0//EN
CALSCALE:GREGORIAN
METHOD:PUBLISH
X-WR-CALNAME:Events
X-ORIGINAL-URL:https://www.monmouth.edu/events
X-WR-CALDESC:Events for Events
REFRESH-INTERVAL;VALUE=DURATION:PT1H
X-Robots-Tag:noindex
X-PUBLISHED-TTL:PT1H
BEGIN:VTIMEZONE
TZID:America/New_York
BEGIN:DAYLIGHT
TZOFFSETFROM:-0500
TZOFFSETTO:-0400
TZNAME:EDT
DTSTART:20230312T070000
END:DAYLIGHT
BEGIN:STANDARD
TZOFFSETFROM:-0400
TZOFFSETTO:-0500
TZNAME:EST
DTSTART:20231105T060000
END:STANDARD
BEGIN:DAYLIGHT
TZOFFSETFROM:-0500
TZOFFSETTO:-0400
TZNAME:EDT
DTSTART:20240310T070000
END:DAYLIGHT
BEGIN:STANDARD
TZOFFSETFROM:-0400
TZOFFSETTO:-0500
TZNAME:EST
DTSTART:20241103T060000
END:STANDARD
BEGIN:DAYLIGHT
TZOFFSETFROM:-0500
TZOFFSETTO:-0400
TZNAME:EDT
DTSTART:20250309T070000
END:DAYLIGHT
BEGIN:STANDARD
TZOFFSETFROM:-0400
TZOFFSETTO:-0500
TZNAME:EST
DTSTART:20251102T060000
END:STANDARD
END:VTIMEZONE
BEGIN:VEVENT
DTSTART;TZID=America/New_York:20241121T200000
DTEND;TZID=America/New_York:20241121T220000
DTSTAMP:20260425T065234
CREATED:20241112T135353Z
LAST-MODIFIED:20241112T191114Z
UID:40810115814-1732219200-1732226400@www.monmouth.edu
SUMMARY:Theatre Fest Fall 2024 - Spark Sessions:  A Night of Original Works by MU Players
DESCRIPTION:Presented by Monmouth University’s Department of Music and Theatre Arts.\nDirector: Nora O’Rourke\, ‘25\nFeaturing original works by Kailey O’Connell\,’28; Timothy Pakrad\,’25; Chris Rodriquez\,‘25 and Juno Snider\, ’27. \n\n\n\nSpark Sessions: A Night of Original Works by MU Players is an exciting event showcasing a collection of student-written one-act plays and poems. The event highlights the creativity and diverse voices of Monmouth’s emerging playwrights.
URL:https://www.monmouth.edu/events/event/theatre-fest-fall-2024-spark-sessions-a-night-of-original-works-by-mu-players/
LOCATION:Lauren K. Woods Theatre
CATEGORIES:Arts at Monmouth,Free,Music + Theatre Arts,Theatre
ATTACH;FMTTYPE=image/jpeg:https://www.monmouth.edu/events/wp-content/uploads/sites/19/2024/11/TheatreFest_header.jpg
END:VEVENT
END:VCALENDAR