BEGIN:VCALENDAR
VERSION:2.0
PRODID:-//Events - ECPv6.15.20//NONSGML v1.0//EN
CALSCALE:GREGORIAN
METHOD:PUBLISH
X-WR-CALNAME:Events
X-ORIGINAL-URL:https://www.monmouth.edu/events
X-WR-CALDESC:Events for Events
REFRESH-INTERVAL;VALUE=DURATION:PT1H
X-Robots-Tag:noindex
X-PUBLISHED-TTL:PT1H
BEGIN:VTIMEZONE
TZID:America/New_York
BEGIN:DAYLIGHT
TZOFFSETFROM:-0500
TZOFFSETTO:-0400
TZNAME:EDT
DTSTART:20240310T070000
END:DAYLIGHT
BEGIN:STANDARD
TZOFFSETFROM:-0400
TZOFFSETTO:-0500
TZNAME:EST
DTSTART:20241103T060000
END:STANDARD
BEGIN:DAYLIGHT
TZOFFSETFROM:-0500
TZOFFSETTO:-0400
TZNAME:EDT
DTSTART:20250309T070000
END:DAYLIGHT
BEGIN:STANDARD
TZOFFSETFROM:-0400
TZOFFSETTO:-0500
TZNAME:EST
DTSTART:20251102T060000
END:STANDARD
BEGIN:DAYLIGHT
TZOFFSETFROM:-0500
TZOFFSETTO:-0400
TZNAME:EDT
DTSTART:20260308T070000
END:DAYLIGHT
BEGIN:STANDARD
TZOFFSETFROM:-0400
TZOFFSETTO:-0500
TZNAME:EST
DTSTART:20261101T060000
END:STANDARD
END:VTIMEZONE
BEGIN:VEVENT
DTSTART;TZID=America/New_York:20251106T190000
DTEND;TZID=America/New_York:20251106T220000
DTSTAMP:20260422T051704
CREATED:20250620T185015Z
LAST-MODIFIED:20250701T174625Z
UID:40810119200-1762455600-1762466400@www.monmouth.edu
SUMMARY:Hamlet
DESCRIPTION:Academy Award® nominee Benedict Cumberbatch (BBC’s Sherlock\, The Imitation Game) takes on the title role of Shakespeare’s great tragedy. As a country arms itself for war\, a family tears itself apart. Forced to avenge his father’s death but paralysed by the task ahead\, Hamlet rages against the impossibility of his predicament\, threatening both his sanity and the security of the state. \n‘Benedict Cumberbatch is a blazing five-star Hamlet’- Daily Telegraph \n‘One of the most visually and atmospherically stunning productions I’ve ever seen\, of anything\, ever.’ – Time Out \n‘This is a Hamlet for a world on the edge: a warning from history\, and a plea for new ideas from a new generation.’ – Variety \nDirected by Lyndsey Turner (Posh\, Chimerica) and produced by Sonia Friedman Productions.
URL:https://www.monmouth.edu/events/event/hamlet-2/
LOCATION:Pollak Theatre
CATEGORIES:Alumni,Arts at Monmouth,Broadcast in HD,Community Member,Current Student,Faculty,Music + Theatre Arts,Theatre
ATTACH;FMTTYPE=image/jpeg:https://www.monmouth.edu/events/wp-content/uploads/sites/19/2025/06/NTL-2023-Hamlet_Listing-Image_1240x874px.jpg
ORGANIZER;CN="Center for the Arts":MAILTO:kbarratt@monmouth.edu
END:VEVENT
BEGIN:VEVENT
DTSTART;TZID=America/New_York:20251113T190000
DTEND;TZID=America/New_York:20251113T190000
DTSTAMP:20260422T051704
CREATED:20250904T175311Z
LAST-MODIFIED:20251028T193816Z
UID:40810119508-1763060400-1763060400@www.monmouth.edu
SUMMARY:Into the Woods
DESCRIPTION:James Lapine and Stephen Sondheim take everyone’s favorite storybook characters and bring them together for a timeless\, yet relevant\, piece… and a rare modern classic. The Tony Award-winning book and score are both enchanting and touching. (Source: MTI).
URL:https://www.monmouth.edu/events/event/into-the-woods/2025-11-13/
LOCATION:Lauren K Woods Theatre\, 398 Cedar Ave\, Long Branch\, NJ\, United States
CATEGORIES:Alumni,Arts at Monmouth,Community Member,Current Student,Faculty,Music,Music + Theatre Arts,Theatre
ATTACH;FMTTYPE=image/jpeg:https://www.monmouth.edu/events/wp-content/uploads/sites/19/2025/08/ITW-jpg-promo-image.jpg
GEO:40.281658;-74.001637
X-APPLE-STRUCTURED-LOCATION;VALUE=URI;X-ADDRESS=Lauren K Woods Theatre 398 Cedar Ave Long Branch NJ United States;X-APPLE-RADIUS=500;X-TITLE=398 Cedar Ave:geo:-74.001637,40.281658
END:VEVENT
BEGIN:VEVENT
DTSTART;TZID=America/New_York:20251115T140000
DTEND;TZID=America/New_York:20251115T140000
DTSTAMP:20260422T051704
CREATED:20250904T175311Z
LAST-MODIFIED:20251028T193816Z
UID:40810120061-1763215200-1763215200@www.monmouth.edu
SUMMARY:Into the Woods
DESCRIPTION:James Lapine and Stephen Sondheim take everyone’s favorite storybook characters and bring them together for a timeless\, yet relevant\, piece… and a rare modern classic. The Tony Award-winning book and score are both enchanting and touching. (Source: MTI).
URL:https://www.monmouth.edu/events/event/into-the-woods/2025-11-15/3/
LOCATION:Lauren K Woods Theatre\, 398 Cedar Ave\, Long Branch\, NJ\, United States
CATEGORIES:Alumni,Arts at Monmouth,Community Member,Current Student,Faculty,Music,Music + Theatre Arts,Theatre
ATTACH;FMTTYPE=image/jpeg:https://www.monmouth.edu/events/wp-content/uploads/sites/19/2025/08/ITW-jpg-promo-image.jpg
GEO:40.281658;-74.001637
X-APPLE-STRUCTURED-LOCATION;VALUE=URI;X-ADDRESS=Lauren K Woods Theatre 398 Cedar Ave Long Branch NJ United States;X-APPLE-RADIUS=500;X-TITLE=398 Cedar Ave:geo:-74.001637,40.281658
END:VEVENT
BEGIN:VEVENT
DTSTART;TZID=America/New_York:20251115T200000
DTEND;TZID=America/New_York:20251115T200000
DTSTAMP:20260422T051704
CREATED:20250904T175311Z
LAST-MODIFIED:20251028T193816Z
UID:40810120063-1763236800-1763236800@www.monmouth.edu
SUMMARY:Into the Woods
DESCRIPTION:James Lapine and Stephen Sondheim take everyone’s favorite storybook characters and bring them together for a timeless\, yet relevant\, piece… and a rare modern classic. The Tony Award-winning book and score are both enchanting and touching. (Source: MTI).
URL:https://www.monmouth.edu/events/event/into-the-woods/2025-11-15/4/
LOCATION:Lauren K Woods Theatre\, 398 Cedar Ave\, Long Branch\, NJ\, United States
CATEGORIES:Alumni,Arts at Monmouth,Community Member,Current Student,Faculty,Music,Music + Theatre Arts,Theatre
ATTACH;FMTTYPE=image/jpeg:https://www.monmouth.edu/events/wp-content/uploads/sites/19/2025/08/ITW-jpg-promo-image.jpg
GEO:40.281658;-74.001637
X-APPLE-STRUCTURED-LOCATION;VALUE=URI;X-ADDRESS=Lauren K Woods Theatre 398 Cedar Ave Long Branch NJ United States;X-APPLE-RADIUS=500;X-TITLE=398 Cedar Ave:geo:-74.001637,40.281658
END:VEVENT
BEGIN:VEVENT
DTSTART;TZID=America/New_York:20251116T140000
DTEND;TZID=America/New_York:20251116T140000
DTSTAMP:20260422T051704
CREATED:20250904T175311Z
LAST-MODIFIED:20251028T193816Z
UID:40810120065-1763301600-1763301600@www.monmouth.edu
SUMMARY:Into the Woods
DESCRIPTION:James Lapine and Stephen Sondheim take everyone’s favorite storybook characters and bring them together for a timeless\, yet relevant\, piece… and a rare modern classic. The Tony Award-winning book and score are both enchanting and touching. (Source: MTI).
URL:https://www.monmouth.edu/events/event/into-the-woods/2025-11-16/3/
LOCATION:Lauren K Woods Theatre\, 398 Cedar Ave\, Long Branch\, NJ\, United States
CATEGORIES:Alumni,Arts at Monmouth,Community Member,Current Student,Faculty,Music,Music + Theatre Arts,Theatre
ATTACH;FMTTYPE=image/jpeg:https://www.monmouth.edu/events/wp-content/uploads/sites/19/2025/08/ITW-jpg-promo-image.jpg
GEO:40.281658;-74.001637
X-APPLE-STRUCTURED-LOCATION;VALUE=URI;X-ADDRESS=Lauren K Woods Theatre 398 Cedar Ave Long Branch NJ United States;X-APPLE-RADIUS=500;X-TITLE=398 Cedar Ave:geo:-74.001637,40.281658
END:VEVENT
BEGIN:VEVENT
DTSTART;TZID=America/New_York:20251116T200000
DTEND;TZID=America/New_York:20251116T200000
DTSTAMP:20260422T051704
CREATED:20250904T175311Z
LAST-MODIFIED:20251028T193816Z
UID:40810120067-1763323200-1763323200@www.monmouth.edu
SUMMARY:Into the Woods
DESCRIPTION:James Lapine and Stephen Sondheim take everyone’s favorite storybook characters and bring them together for a timeless\, yet relevant\, piece… and a rare modern classic. The Tony Award-winning book and score are both enchanting and touching. (Source: MTI).
URL:https://www.monmouth.edu/events/event/into-the-woods/2025-11-16/4/
LOCATION:Lauren K Woods Theatre\, 398 Cedar Ave\, Long Branch\, NJ\, United States
CATEGORIES:Alumni,Arts at Monmouth,Community Member,Current Student,Faculty,Music,Music + Theatre Arts,Theatre
ATTACH;FMTTYPE=image/jpeg:https://www.monmouth.edu/events/wp-content/uploads/sites/19/2025/08/ITW-jpg-promo-image.jpg
GEO:40.281658;-74.001637
X-APPLE-STRUCTURED-LOCATION;VALUE=URI;X-ADDRESS=Lauren K Woods Theatre 398 Cedar Ave Long Branch NJ United States;X-APPLE-RADIUS=500;X-TITLE=398 Cedar Ave:geo:-74.001637,40.281658
END:VEVENT
END:VCALENDAR