BEGIN:VCALENDAR
VERSION:2.0
PRODID:-//Events - ECPv6.15.20//NONSGML v1.0//EN
CALSCALE:GREGORIAN
METHOD:PUBLISH
X-ORIGINAL-URL:https://www.monmouth.edu/events
X-WR-CALDESC:Events for Events
REFRESH-INTERVAL;VALUE=DURATION:PT1H
X-Robots-Tag:noindex
X-PUBLISHED-TTL:PT1H
BEGIN:VTIMEZONE
TZID:America/New_York
BEGIN:DAYLIGHT
TZOFFSETFROM:-0500
TZOFFSETTO:-0400
TZNAME:EDT
DTSTART:20230312T070000
END:DAYLIGHT
BEGIN:STANDARD
TZOFFSETFROM:-0400
TZOFFSETTO:-0500
TZNAME:EST
DTSTART:20231105T060000
END:STANDARD
BEGIN:DAYLIGHT
TZOFFSETFROM:-0500
TZOFFSETTO:-0400
TZNAME:EDT
DTSTART:20240310T070000
END:DAYLIGHT
BEGIN:STANDARD
TZOFFSETFROM:-0400
TZOFFSETTO:-0500
TZNAME:EST
DTSTART:20241103T060000
END:STANDARD
BEGIN:DAYLIGHT
TZOFFSETFROM:-0500
TZOFFSETTO:-0400
TZNAME:EDT
DTSTART:20250309T070000
END:DAYLIGHT
BEGIN:STANDARD
TZOFFSETFROM:-0400
TZOFFSETTO:-0500
TZNAME:EST
DTSTART:20251102T060000
END:STANDARD
END:VTIMEZONE
BEGIN:VEVENT
DTSTART;TZID=America/New_York:20241204T142000
DTEND;TZID=America/New_York:20241204T160000
DTSTAMP:20260424T235734
CREATED:20241104T141125Z
LAST-MODIFIED:20241104T141125Z
UID:40810115532-1733322000-1733328000@www.monmouth.edu
SUMMARY:Monmouth Gamers United
DESCRIPTION:Join us every Wednesday for a place to hang out and play games. From board games to video games we accept gamers of all types!
URL:https://www.monmouth.edu/events/event/monmouth-gamers-united/2024-12-04/
LOCATION:Edison Hall E240B
CATEGORIES:Student Activities
ATTACH;FMTTYPE=image/jpeg:https://www.monmouth.edu/events/wp-content/uploads/sites/19/2024/10/Image-10-30-24-at-2.37 PM.jpeg
ORGANIZER;CN="Monmouth Gamers United":MAILTO:monmouthgamersunited@monmouth.edu
END:VEVENT
BEGIN:VEVENT
DTSTART;TZID=America/New_York:20241205T120000
DTEND;TZID=America/New_York:20241205T170000
DTSTAMP:20260424T235734
CREATED:20241202T163608Z
LAST-MODIFIED:20241202T163608Z
UID:40810115857-1733400000-1733418000@www.monmouth.edu
SUMMARY:Neurodiversity Brain Collective - Interest Group Meeting
DESCRIPTION:We are attempting to organize a disability-forward club\, in regards to the needs of neurodiverse students. Our goal\, once we become a club\, is to become a place of peer support and to raise general campus awareness of neurodiversity. Please come and show support for your neurodivergent peers – people of all brains welcomed! Physical location in intercultural center lounge\, with zoom link attached!
URL:https://www.monmouth.edu/events/event/neurodiversity-brain-collective-interest-group-meeting-2/
LOCATION:Intercultural Center Lounge
CATEGORIES:Diversity and Inclusion,Student Activities
ATTACH;FMTTYPE=image/png:https://www.monmouth.edu/events/wp-content/uploads/sites/19/2024/11/NBC_Interest_Group_Flyer.png
END:VEVENT
BEGIN:VEVENT
DTSTART;TZID=America/New_York:20241207T120000
DTEND;TZID=America/New_York:20241207T170000
DTSTAMP:20260424T235734
CREATED:20241105T194517Z
LAST-MODIFIED:20241121T142544Z
UID:40810115779-1733572800-1733590800@www.monmouth.edu
SUMMARY:Winter Holiday Shuttle to Convention Hall-Asbury Park Boardwalk
DESCRIPTION:The clock is ticking for you to pick up that special holiday something for friends and family.  Spend the afternoon in shops at Convention Hall and on the Asbury Park Boardwalk.  Shuttle will leave from the commuter parking lot behind the Student Center and will run from 12:00 pm to 5:00 pm.
URL:https://www.monmouth.edu/events/event/winter-holiday-shuttle-to-convention-hall-asbury-park-boardwalk/
CATEGORIES:Student Activities
ATTACH;FMTTYPE=image/png:https://www.monmouth.edu/events/wp-content/uploads/sites/19/2024/11/Holiday-Bazaar-Shuttle.png
END:VEVENT
END:VCALENDAR