BEGIN:VCALENDAR
VERSION:2.0
PRODID:-//Events - ECPv6.15.20//NONSGML v1.0//EN
CALSCALE:GREGORIAN
METHOD:PUBLISH
X-ORIGINAL-URL:https://www.monmouth.edu/events
X-WR-CALDESC:Events for Events
REFRESH-INTERVAL;VALUE=DURATION:PT1H
X-Robots-Tag:noindex
X-PUBLISHED-TTL:PT1H
BEGIN:VTIMEZONE
TZID:America/New_York
BEGIN:DAYLIGHT
TZOFFSETFROM:-0500
TZOFFSETTO:-0400
TZNAME:EDT
DTSTART:20230312T070000
END:DAYLIGHT
BEGIN:STANDARD
TZOFFSETFROM:-0400
TZOFFSETTO:-0500
TZNAME:EST
DTSTART:20231105T060000
END:STANDARD
BEGIN:DAYLIGHT
TZOFFSETFROM:-0500
TZOFFSETTO:-0400
TZNAME:EDT
DTSTART:20240310T070000
END:DAYLIGHT
BEGIN:STANDARD
TZOFFSETFROM:-0400
TZOFFSETTO:-0500
TZNAME:EST
DTSTART:20241103T060000
END:STANDARD
BEGIN:DAYLIGHT
TZOFFSETFROM:-0500
TZOFFSETTO:-0400
TZNAME:EDT
DTSTART:20250309T070000
END:DAYLIGHT
BEGIN:STANDARD
TZOFFSETFROM:-0400
TZOFFSETTO:-0500
TZNAME:EST
DTSTART:20251102T060000
END:STANDARD
END:VTIMEZONE
BEGIN:VEVENT
DTSTART;TZID=America/New_York:20241030T113000
DTEND;TZID=America/New_York:20241030T133000
DTSTAMP:20260425T113727
CREATED:20241023T181103Z
LAST-MODIFIED:20241023T181103Z
UID:40810115120-1730287800-1730295000@www.monmouth.edu
SUMMARY:SAB Boo Bag Tabling
DESCRIPTION:Get in the spooky season spirit! Join SAB to make free goodie bags full of candies\, treats\, prizes and more!
URL:https://www.monmouth.edu/events/event/sab-boo-bag-tabling/
LOCATION:Student Center Patio
CATEGORIES:Current Student,Social Events,Student Activities
ATTACH;FMTTYPE=image/png:https://www.monmouth.edu/events/wp-content/uploads/sites/19/2024/10/Boo-Bag.png
ORGANIZER;CN="Student Activities Board":MAILTO:activities@monmouth.edu
END:VEVENT
BEGIN:VEVENT
DTSTART;TZID=America/New_York:20241030T142000
DTEND;TZID=America/New_York:20241030T160000
DTSTAMP:20260425T113727
CREATED:20241104T141125Z
LAST-MODIFIED:20241104T141125Z
UID:40810115517-1730298000-1730304000@www.monmouth.edu
SUMMARY:Monmouth Gamers United
DESCRIPTION:Join us every Wednesday for a place to hang out and play games. From board games to video games we accept gamers of all types!
URL:https://www.monmouth.edu/events/event/monmouth-gamers-united/2024-10-30/
LOCATION:Edison Hall E240B
CATEGORIES:Student Activities
ATTACH;FMTTYPE=image/jpeg:https://www.monmouth.edu/events/wp-content/uploads/sites/19/2024/10/Image-10-30-24-at-2.37 PM.jpeg
ORGANIZER;CN="Monmouth Gamers United":MAILTO:monmouthgamersunited@monmouth.edu
END:VEVENT
BEGIN:VEVENT
DTSTART;TZID=America/New_York:20241031T113000
DTEND;TZID=America/New_York:20241031T123000
DTSTAMP:20260425T113727
CREATED:20241028T133814Z
LAST-MODIFIED:20241028T173501Z
UID:40810115166-1730374200-1730377800@www.monmouth.edu
SUMMARY:Trick or Treat Prize Hunt
DESCRIPTION:Join us at the University Store on Halloween (Wednesday\, Oct. 31) for a Trick-Or-Treat Prize Hunt! \nLine Up in the OceanFirst Bank Center Lobby starting at 11:45 a.m.\, and enter the University Store at noon. \nFind one of the hidden skulls around the store and get a prize. \nWill you find a trick… or a treat?
URL:https://www.monmouth.edu/events/event/trick-or-treat-prize-hunt/
CATEGORIES:Free,Student Activities
ATTACH;FMTTYPE=image/png:https://www.monmouth.edu/events/wp-content/uploads/sites/19/2024/10/Trick-Or-Treat-Hunt-2-Instagram.png
ORGANIZER;CN="Monmouth University Store":MAILTO:bookstore@monmouth.edu
END:VEVENT
END:VCALENDAR