BEGIN:VCALENDAR
VERSION:2.0
PRODID:-//Events - ECPv6.15.20//NONSGML v1.0//EN
CALSCALE:GREGORIAN
METHOD:PUBLISH
X-WR-CALNAME:Events
X-ORIGINAL-URL:https://www.monmouth.edu/events
X-WR-CALDESC:Events for Events
REFRESH-INTERVAL;VALUE=DURATION:PT1H
X-Robots-Tag:noindex
X-PUBLISHED-TTL:PT1H
BEGIN:VTIMEZONE
TZID:America/New_York
BEGIN:DAYLIGHT
TZOFFSETFROM:-0500
TZOFFSETTO:-0400
TZNAME:EDT
DTSTART:20230312T070000
END:DAYLIGHT
BEGIN:STANDARD
TZOFFSETFROM:-0400
TZOFFSETTO:-0500
TZNAME:EST
DTSTART:20231105T060000
END:STANDARD
BEGIN:DAYLIGHT
TZOFFSETFROM:-0500
TZOFFSETTO:-0400
TZNAME:EDT
DTSTART:20240310T070000
END:DAYLIGHT
BEGIN:STANDARD
TZOFFSETFROM:-0400
TZOFFSETTO:-0500
TZNAME:EST
DTSTART:20241103T060000
END:STANDARD
BEGIN:DAYLIGHT
TZOFFSETFROM:-0500
TZOFFSETTO:-0400
TZNAME:EDT
DTSTART:20250309T070000
END:DAYLIGHT
BEGIN:STANDARD
TZOFFSETFROM:-0400
TZOFFSETTO:-0500
TZNAME:EST
DTSTART:20251102T060000
END:STANDARD
END:VTIMEZONE
BEGIN:VEVENT
DTSTART;TZID=America/New_York:20241015T080000
DTEND;TZID=America/New_York:20241015T170000
DTSTAMP:20260425T101733
CREATED:20241015T172321Z
LAST-MODIFIED:20241015T173052Z
UID:40810115061-1728979200-1729011600@www.monmouth.edu
SUMMARY:Free Bowling Night (Office of Student Engagement)
DESCRIPTION:Come bowling on OSE! The Office of Student Engagement is hosting another free evening of bowling for students at the Ciniello Family Bowling Center\, located inside Boylan Gymnasium.
URL:https://www.monmouth.edu/events/event/ose-free-bowling-night/
LOCATION:Boylan Gymnasium
CATEGORIES:Free,Student Activities
END:VEVENT
BEGIN:VEVENT
DTSTART;TZID=America/New_York:20241017T170000
DTEND;TZID=America/New_York:20241017T180000
DTSTAMP:20260425T101733
CREATED:20241014T153419Z
LAST-MODIFIED:20241017T142159Z
UID:40810115030-1729184400-1729188000@www.monmouth.edu
SUMMARY:Monmouth Golf Interest Group (First Meeting)
DESCRIPTION:This event will be to determine who is interested in joining a possible golf club. We will meet in the Carol Afflito Conference Room\, located on the third floor of the Rebecca Stafford Student Center.
URL:https://www.monmouth.edu/events/event/monmouth-golf-interest-group-first-meeting/
LOCATION:Carol Afflitto Conference Room – Rebecca Stafford Student Center
CATEGORIES:Current Student,Student Activities
ATTACH;FMTTYPE=application/pdf:https://www.monmouth.edu/events/wp-content/uploads/sites/19/2024/10/monmouth-golf-interest-group-flyers-options-dragged-2-2.pdf
END:VEVENT
BEGIN:VEVENT
DTSTART;TZID=America/New_York:20241018T180000
DTEND;TZID=America/New_York:20241018T210000
DTSTAMP:20260425T101733
CREATED:20241015T172523Z
LAST-MODIFIED:20241016T131038Z
UID:40810115053-1729274400-1729285200@www.monmouth.edu
SUMMARY:Free Bowling Night (Office of Student Engagement)
DESCRIPTION:Bring some friends and enjoy an evening of FREE bowling at the Ciniello Family Bowling Center in Boylan Gymansium. Sponsored by the Office of Student Engagement.
URL:https://www.monmouth.edu/events/event/free-bowling-night-office-of-student-engagement/
LOCATION:Ciniello Family Bowling Center
CATEGORIES:Current Student,Free,Graduate Student,Student Activities,Undergraduate Student
END:VEVENT
END:VCALENDAR