BEGIN:VCALENDAR
VERSION:2.0
PRODID:-//Events - ECPv6.15.20//NONSGML v1.0//EN
CALSCALE:GREGORIAN
METHOD:PUBLISH
X-ORIGINAL-URL:https://www.monmouth.edu/events
X-WR-CALDESC:Events for Events
REFRESH-INTERVAL;VALUE=DURATION:PT1H
X-Robots-Tag:noindex
X-PUBLISHED-TTL:PT1H
BEGIN:VTIMEZONE
TZID:America/New_York
BEGIN:DAYLIGHT
TZOFFSETFROM:-0500
TZOFFSETTO:-0400
TZNAME:EDT
DTSTART:20240310T070000
END:DAYLIGHT
BEGIN:STANDARD
TZOFFSETFROM:-0400
TZOFFSETTO:-0500
TZNAME:EST
DTSTART:20241103T060000
END:STANDARD
BEGIN:DAYLIGHT
TZOFFSETFROM:-0500
TZOFFSETTO:-0400
TZNAME:EDT
DTSTART:20250309T070000
END:DAYLIGHT
BEGIN:STANDARD
TZOFFSETFROM:-0400
TZOFFSETTO:-0500
TZNAME:EST
DTSTART:20251102T060000
END:STANDARD
BEGIN:DAYLIGHT
TZOFFSETFROM:-0500
TZOFFSETTO:-0400
TZNAME:EDT
DTSTART:20260308T070000
END:DAYLIGHT
BEGIN:STANDARD
TZOFFSETFROM:-0400
TZOFFSETTO:-0500
TZNAME:EST
DTSTART:20261101T060000
END:STANDARD
END:VTIMEZONE
BEGIN:VEVENT
DTSTART;TZID=America/New_York:20250203T160000
DTEND;TZID=America/New_York:20250203T203000
DTSTAMP:20260424T081148
CREATED:20250204T135529Z
LAST-MODIFIED:20250204T135529Z
UID:40810118539-1738598400-1738614600@www.monmouth.edu
SUMMARY:Study Abroad Italy
DESCRIPTION:Experience a taste of Italy with an authentic menu celebrating classic dishes!
URL:https://www.monmouth.edu/events/event/study-abroad-italy/
LOCATION:Magill Commons Dining Hall
CATEGORIES:Special Events,Student Activities
ATTACH;FMTTYPE=image/jpeg:https://www.monmouth.edu/events/wp-content/uploads/sites/19/2025/02/shutterstock-152854481.jpeg
END:VEVENT
BEGIN:VEVENT
DTSTART;TZID=America/New_York:20250204T080000
DTEND;TZID=America/New_York:20250204T110000
DTSTAMP:20260424T081148
CREATED:20250204T135537Z
LAST-MODIFIED:20250204T135537Z
UID:40810118542-1738656000-1738666800@www.monmouth.edu
SUMMARY:Breakfast Pop-Up at the Student Center
DESCRIPTION:Start your morning with a delicious French Toast Casserole at our special breakfast pop-up!
URL:https://www.monmouth.edu/events/event/breakfast-pop-up-at-the-student-center/
LOCATION:1st floor of the Student Center
CATEGORIES:Special Events,Student Activities
ATTACH;FMTTYPE=image/jpeg:https://www.monmouth.edu/events/wp-content/uploads/sites/19/2025/02/istockphoto-153906126-612x612-1.jpg
END:VEVENT
BEGIN:VEVENT
DTSTART;TZID=America/New_York:20250205T000000
DTEND;TZID=America/New_York:20250205T235959
DTSTAMP:20260424T081148
CREATED:20250204T135556Z
LAST-MODIFIED:20250204T135556Z
UID:40810118544-1738713600-1738799999@www.monmouth.edu
SUMMARY:Wellness Wednesdays
DESCRIPTION:Boost your well-being every Wednesday with our featured “Feel Good Food\,” focusing on Omega-3s to keep you feeling your best!
URL:https://www.monmouth.edu/events/event/wellness-wednesdays/2025-02-05/
LOCATION:Magill Commons Dining Hall
CATEGORIES:Student Activities
END:VEVENT
BEGIN:VEVENT
DTSTART;TZID=America/New_York:20250212T130000
DTEND;TZID=America/New_York:20250212T150000
DTSTAMP:20260424T081148
CREATED:20250204T135634Z
LAST-MODIFIED:20250206T175516Z
UID:40810118554-1739365200-1739372400@www.monmouth.edu
SUMMARY:Speed Friending
DESCRIPTION:Meet new people in a fun\, fast-paced setting\, complete with festive décor\, conversation starters\, and tasty hors d’oeuvres! Join us from 1pm-3pm in the Dining Hall!
URL:https://www.monmouth.edu/events/event/speed-friending-3/
LOCATION:Magill Commons Dining Hall
CATEGORIES:Featured Student Activites,Social Events,Student Activities
ATTACH;FMTTYPE=image/png:https://www.monmouth.edu/events/wp-content/uploads/sites/19/2025/02/speed-friending-2.png
END:VEVENT
BEGIN:VEVENT
DTSTART;TZID=America/New_York:20250217T160000
DTEND;TZID=America/New_York:20250217T203000
DTSTAMP:20260424T081148
CREATED:20250204T135712Z
LAST-MODIFIED:20250204T135712Z
UID:40810118559-1739808000-1739824200@www.monmouth.edu
SUMMARY:Study Abroad Spain Night
DESCRIPTION:Immerse yourself in Spanish culture with a flavorful menu inspired by traditional Spanish cuisine!
URL:https://www.monmouth.edu/events/event/study-abroad-spain-night/
LOCATION:Magill Commons Dining Hall
CATEGORIES:Social Events,Student Activities
ATTACH;FMTTYPE=image/jpeg:https://www.monmouth.edu/events/wp-content/uploads/sites/19/2025/02/spain-379535_1280.jpg
END:VEVENT
BEGIN:VEVENT
DTSTART;TZID=America/New_York:20250219T100000
DTEND;TZID=America/New_York:20250219T170000
DTSTAMP:20260424T081148
CREATED:20250204T135556Z
LAST-MODIFIED:20250204T135556Z
UID:40810118547-1739959200-1739984400@www.monmouth.edu
SUMMARY:Wellness Wednesdays
DESCRIPTION:Boost your well-being every Wednesday with our featured “Feel Good Food\,” focusing on Omega-3s to keep you feeling your best!
URL:https://www.monmouth.edu/events/event/wellness-wednesdays/2025-02-19/
LOCATION:Magill Commons Dining Hall
CATEGORIES:Student Activities
END:VEVENT
BEGIN:VEVENT
DTSTART;TZID=America/New_York:20250227T120000
DTEND;TZID=America/New_York:20250227T160000
DTSTAMP:20260424T081148
CREATED:20250204T135658Z
LAST-MODIFIED:20250221T220656Z
UID:40810118561-1740657600-1740672000@www.monmouth.edu
SUMMARY:Après Ski Thursday
DESCRIPTION:Join us at the Dining Hall to warm up with cozy ski lodge favorites and top it all off with a delicious hot chocolate bar!
URL:https://www.monmouth.edu/events/event/apres-ski-thursday/
LOCATION:Magill Commons Dining Hall
CATEGORIES:Social Events,Student Activities
ATTACH;FMTTYPE=image/jpeg:https://www.monmouth.edu/events/wp-content/uploads/sites/19/2025/02/360_F_987719581_v9z0j8MXhcVeDDplnKLcCrw9uYnQPD5s.jpg
END:VEVENT
END:VCALENDAR