BEGIN:VCALENDAR
VERSION:2.0
PRODID:-//Events - ECPv6.15.20//NONSGML v1.0//EN
CALSCALE:GREGORIAN
METHOD:PUBLISH
X-ORIGINAL-URL:https://www.monmouth.edu/events
X-WR-CALDESC:Events for Events
REFRESH-INTERVAL;VALUE=DURATION:PT1H
X-Robots-Tag:noindex
X-PUBLISHED-TTL:PT1H
BEGIN:VTIMEZONE
TZID:America/New_York
BEGIN:DAYLIGHT
TZOFFSETFROM:-0500
TZOFFSETTO:-0400
TZNAME:EDT
DTSTART:20130310T070000
END:DAYLIGHT
BEGIN:STANDARD
TZOFFSETFROM:-0400
TZOFFSETTO:-0500
TZNAME:EST
DTSTART:20131103T060000
END:STANDARD
BEGIN:DAYLIGHT
TZOFFSETFROM:-0500
TZOFFSETTO:-0400
TZNAME:EDT
DTSTART:20140309T070000
END:DAYLIGHT
BEGIN:STANDARD
TZOFFSETFROM:-0400
TZOFFSETTO:-0500
TZNAME:EST
DTSTART:20141102T060000
END:STANDARD
BEGIN:DAYLIGHT
TZOFFSETFROM:-0500
TZOFFSETTO:-0400
TZNAME:EDT
DTSTART:20150308T070000
END:DAYLIGHT
BEGIN:STANDARD
TZOFFSETFROM:-0400
TZOFFSETTO:-0500
TZNAME:EST
DTSTART:20151101T060000
END:STANDARD
END:VTIMEZONE
BEGIN:VEVENT
DTSTART;TZID=America/New_York:20140920T093000
DTEND;TZID=America/New_York:20140920T153000
DTSTAMP:20260425T065352
CREATED:20180725T204440Z
LAST-MODIFIED:20190329T205434Z
UID:40810102808-1411205400-1411227000@www.monmouth.edu
SUMMARY:Fifty Years of 'Makin’ This Guitar Talk: A Bruce Springsteen Forum
DESCRIPTION:Please Note that tickets including lunch are no longer available. You will still be able to purchase lunch separately at the Student Center during the forum or go off campus on your own. \nAs a young child in the 1950s\, Bruce Springsteen saw Elvis Presley perform on The Ed Sullivan Show\, turned towards his mother and said\, “I wanna be just…like…that.” It wasn’t until he was a teenager in 1964\, however\, during the first summer after the British Invasion began to transform U.S. popular culture\, that Springsteen took his first serious steps towards a life in music. According to Peter Ames Carlin’s biography BRUCE\, that summer he used money earned from painting his aunt’s house to purchase an $18 acoustic guitar\, a copy of 100 Greatest American Folk Songs and then “committed himself to mastering the instrument.” Fifty years have passed since that fateful summer\, and Bruce Springsteen is now one of popular music’s most beloved\, significant and enduring artists. \nThe Friends and Monmouth University will sponsor a unique Springsteen-themed forum entitled in celebration of the fiftieth anniversary of Bruce Springsteen’s first major steps towards becoming a professional musician.\nThe structure of the forum will be centered around a series of moderated panel discussions on various Springsteen-related topics\, allowing the audience to hear from and interact with a variety of authors and scholars. As of this writing\, the confirmed panelists who will be in attendance are: \nJim Beviglia\, Author\, Counting Down Bruce Springsteen: His 100 Finest Songs \nKenneth Campbell\, Monmouth University\, Author\, “Bruce Springsteen\, Songs From The Rising\, Introduction” to published in Western Civilization in a Global Context: The Modern – Sources and Documents. \nJonathan D. Cohen\, University of Virginia\, Managing Editor\, BOSS: The Bi-Annual Online Journal of Springsteen Studies\n\nDonna M. Dolphin\, Monmouth University\, Contributor\, Bruce Springsteen\, Cultural Studies\, and the Runaway American Dream and Associate Producer\, Asbury Park Musical Memories Part 1\n\nStan Goldstein\, Co-Author\, Rock & Roll Tour of the Jersey Shore and Blogger\, NJ.com \nJean Mikle\, Co-Author\, Rock & Roll Tour of the Jersey Shore and Contributor\, Asbury Park Press \nMarianne Murawski\, Stockton College\, Contributor\, Bruce Springsteen and the American Soul\n\nChristopher Phillips\, Editor/Publisher\, Backstreets Magazine & Backstreets.com and Co-Editor\, Talk About A Dream: The Essential Interviews of Bruce Springsteen \nShawn Poole\, Contributor\, Backstreets Magazine & Backstreets.com \nHolly Cara Price\, Contributor\, Huffington Post and BruceSpringsteen.net \nLinda K. Randall\, Author\, Finding Grace in the Concert Hall: Community & Meaning Among Springsteen Fans \nBarry Schneier\, Photographer\, Monmouth University Exhibition – Glory Bound – Photographs by Barry Schneier \nSpecial Group Panel of Authors and Co-Publishers of the forthcoming anthology Trouble In The Heartland: Crime Fiction Inspired by the Songs of Bruce Springsteen – Jamez Chang\, Jen Conley\, Mark Krajnak\, James Petersen and Chuck Regan \nWilliam I. Wolff\, Rowan University\, Contributor\, BOSS: The Bi-Annual Online Journal of Springsteen Studies \nAzzan Yadin-Israel\, Rutgers University\, Course Designer/Instructor\, Bruce Springsteen’s Theology \nPanel topics\, as well as more authors and scholars\, will be announced as they are confirmed. Topics currently under consideration include “Bruce Springsteen’s Evolving Relationship With His Audience(s)\,” “Springsteen’s Best Songs\,” “Springsteen & Live Performance\,” “Springsteen & Media Through the Years\,” etc. \nPanel topics\, as well as more authors and scholars\, will be announced as they are confirmed. Topics currently under consideration include “Bruce Springsteen’s Evolving Relationship With His Audience(s)\,” “Springsteen’s Best Songs\,” “Springsteen & Live Performance\,” “Springsteen & Media Through the Years\,” etc. \nAmong our confirmed panel moderators is broadcaster Tom Cunningham\, creator and host of the long-running weekly Springsteen-themed radio program The Bruce Brunch on 105.7 The Hawk (WCHR-FM.) \nThere will be time and space allotted for authors’ book sales/signings. \nThe day’s agenda also will include several live performances of Springsteen’s music by students from Monmouth University and Asbury Park\, NJ’s Lakehouse Music Academy. \n\nAll ticket-sale proceeds will benefit Monmouth University and Friends of\nThe Bruce Springsteen Special Collection. \n 
URL:https://www.monmouth.edu/events/event/fifty-years-of-makin-this-guitar-talk-a-bruce-springsteen-forum/
LOCATION:The Great Hall
CATEGORIES:Arts at Monmouth,Featured,Lectures,Special Events
ATTACH;FMTTYPE=image/jpeg:https://www.monmouth.edu/events/wp-content/uploads/sites/19/2018/07/black-431351.jpg
END:VEVENT
BEGIN:VEVENT
DTSTART;VALUE=DATE:20140902
DTEND;VALUE=DATE:20150101
DTSTAMP:20260425T065352
CREATED:20180725T204437Z
LAST-MODIFIED:20181221T155430Z
UID:40810102799-1409616000-1420070399@www.monmouth.edu
SUMMARY:Urban Coast Institute $5 Million Challenge
DESCRIPTION:An anonymous donor has committed $3\,000\,000 to Monmouth University to support the Urban Coast Institute’s (UCI)\nMarine Science & Policy Initiative. Monmouth University must secure\ncommitments for an additional $2\,000\,000 by December 31\, 2014.
URL:https://www.monmouth.edu/events/event/urban-coast-institute-5-million-challenge/
CATEGORIES:Community Member,School of Science,Special Events
END:VEVENT
BEGIN:VEVENT
DTSTART;TZID=America/New_York:20140429T163000
DTEND;TZID=America/New_York:20140429T174500
DTSTAMP:20260425T065352
CREATED:20180725T204553Z
LAST-MODIFIED:20180725T204553Z
UID:40810103075-1398789000-1398793500@www.monmouth.edu
SUMMARY:Music & Theatre Department's Chamber Orchestra and Ensembles
DESCRIPTION:Directed by Professor Michael Gillette  \nOpen to all students and faculty \nClassical pieces by Mozart\, Grieg\, Verdi\, Bach\, Vaughn\, Williams\, Schubert\, Rossini\, & Clarke performed by the Chamber Orchestra & Ensembles.
URL:https://www.monmouth.edu/events/event/music-theatre-departments-chamber-orchestra-and-ensembles/
LOCATION:Lauren K. Woods Theatre
CATEGORIES:Arts at Monmouth,Concerts,Current Student,Faculty,Music + Theatre Arts,School of Humanities and Social Sciences,Special Events
ATTACH;FMTTYPE=image/jpeg:https://www.monmouth.edu/events/wp-content/uploads/sites/19/2018/07/04_29_Woods_Concert.jpg
END:VEVENT
BEGIN:VEVENT
DTSTART;TZID=America/New_York:20140417T110000
DTEND;TZID=America/New_York:20140418T170000
DTSTAMP:20260425T065352
CREATED:20180725T204612Z
LAST-MODIFIED:20190301T200802Z
UID:40810103159-1397732400-1397840400@www.monmouth.edu
SUMMARY:Natalie Diaz
DESCRIPTION:Native American poet Natalie Diaz will be in residence at Monmouth University on Thursday\, April 17 and Friday\, April 18th\, 2014. \nOn Thursday\, 17th\, at 11:00 a.m.\, she will speak about the language revitalization program at Fort Mojave\, her home reservation\, where she works with the last Elder speakers of the Mojave language. At 3:00 p.m. she will conduct a poetry workshop with students and community members. At 4:30 p.m. she will read her poems. \nOn Friday\, 18th\, Natalie Diaz will participate in the afternoon launch of The Monmouth Review\, the student-edited literary and arts journal\, outside Wilson Hall. \nNatalie Diaz grew up in the Fort Mojave Indian Village in Needles\, California\, on the banks of the Colorado River. She is Mojave and an enrolled member of the Gila River Indian Community. \nHer poems have appeared in The North American Review\, The Southeast Review\, Prairie Schooner\, Spillway\, Best New Poets 2007\, The Pushcart Prize: Best of the Small Presses\, and other literary journals and anthologies. Her book\, When My Brother Was an Aztec\, was published by Copper Canyon Press in 2012. \nHer book will be available for purchase and signing at the poetry reading. \nThis residency is co-sponsored by the West Branch Arts Council and the Department of English.
URL:https://www.monmouth.edu/events/event/natalie-diaz/
LOCATION:The Great Hall Auditorium
CATEGORIES:English,Special Events
ATTACH;FMTTYPE=image/jpeg:https://www.monmouth.edu/events/wp-content/uploads/sites/19/2018/07/natalie_diaz.jpg
END:VEVENT
BEGIN:VEVENT
DTSTART;TZID=America/New_York:20140409T130000
DTEND;TZID=America/New_York:20140409T141500
DTSTAMP:20260425T065352
CREATED:20180725T204622Z
LAST-MODIFIED:20190430T143255Z
UID:40810103222-1397048400-1397052900@www.monmouth.edu
SUMMARY:Talk Sports and Resistance in the United States
DESCRIPTION:Location: Wilson Auditorium\, Wilson Hall \nDavid Zirin\, The Nation’s sports correspondent\, is the author\, most recently\, of Game Over: How Politics Has Turned the Sports World Upside Down. He was named one of UTNE Reader’s “50 Visionaries Who Are Changing Our World.” \nThis event is co-sponsored by the generous support of:\nInstitute for Global Understanding\, Office for Global Initiatives\, Athletics Department\, School of Humanities and Social Sciences\, School of Social Work\, Department of Communication\, Department of Interdisciplinary Studies and the Sociology Club
URL:https://www.monmouth.edu/events/event/talk-sports-and-resistance-in-the-united-states/
CATEGORIES:Lectures,Special Events
ATTACH;FMTTYPE=image/jpeg:https://www.monmouth.edu/events/wp-content/uploads/sites/19/2018/07/holiday-breaks-placeholder.jpg
END:VEVENT
BEGIN:VEVENT
DTSTART;TZID=America/New_York:20140208T100000
DTEND;TZID=America/New_York:20140208T160000
DTSTAMP:20260425T065352
CREATED:20180725T204635Z
LAST-MODIFIED:20190122T193916Z
UID:40810103303-1391853600-1391875200@www.monmouth.edu
SUMMARY:Ladies and Gentlemen...The Beatles!
DESCRIPTION:ONLINE REGISTRATION IS NOW CLOSED. STANDING ROOM TICKETS WILL STILL BE AVAILABLE AT THE DOOR. Seated tickets for this event are currently sold out\, but standing room tickets are still available. By 10:15 am\, we will begin to seat “standing room” ticket holders in any empty seats. \nThis February will mark 50 years since the Beatles landed at the newly-renamed Kennedy Airport and days later performed live on the Ed Sullivan Show to a record setting 73 million people changing music and popular culture forever. Monmouth University and the Los Angeles-based GRAMMY Museum have partnered to commemorate the tremendous impact that the Fab Four had on American society with this day-long symposium featuring a keynote address\, three panels and musical performances through the day. \nSymposium Schedule \n9:30 am     Registration\nMusical Performance: Salvatore Boyd \n10:00 am     Keynote Address/Opening Remarks\nBob Santelli\, Executive Director of the GRAMMY Museum \n10:30-10:40 am – Student Music Performance: Justin Franco \n10:40 – 12:00 pm     Student Panel\nFeaturing current students who have taken Dr. Kenneth Campbell’s First-Year Seminar course\, “The Beatles.” In addition to sharing their own research on the Beatles\, the student panelists will reflect on their introduction to the Beatles\, the Beatles’ impact on their generation\, and the impact of technology on their experience with the group. \nModerator\, Professor Kenneth Campbell\nAlison Abate\, “The Long and Winding Road: The Beatles Through the Years”\nTimothy Kerner\, “The Effects of Drugs on the Beatles and Their Music”\nSarah Lewis\, “My Music Experience: The Beatles and Abbey Road”\nJessica Mentzel\, “The Beatles: Past\, Present\, and Future” \n12:00 – 12:45 pm     Lunch\nVideo Presentation organized by Professor George Wurzbach \n\nJunior Beatle Band curated by the Lakehouse Music Academy \nBoxed lunches available for purchase \n12:45-12:55 pm – Student Music Performance: Alexa Mazurkiewicz \n12:45 – 2:30 pm     Faculty Panel\nMonmouth University faculty members will discuss their thoughts and research on the Beatles and technology\, the impact of Motown on their early career\, questions of identity surrounding the group\, and the experience of the second generation of Beatles’ fans with the group. \nModerator\, Dean Stan Green\nKenneth Campbell\, “Who were the Beatles?: More than “Just a Band Who Made It Very\, Very Big?”\nChristopher DeRosa\,”The Beatles in the Echo Boom.”\nAaron Furgason\,“Beatles vs. the Record Labels: How Technology Impacted the Beatles and their Record Labels.”\nStuart Rosenberg\, “The Beatles Discography: A Review of their Studio Albums\, 1964-1970”\nHettie Williams\, “The Motown Formula and the Boy Band Craze in the Pivotal Year 1964” \n2:30-2:40 pm – Musical Performance: Joe Rapolla \n2:40-4:00 pm     Professional Panel\nModerator\, Bob Santelli\nDoug Sulpy\, author\, the Complete Beatles Audio Guide\, the 910’s Guide to Beatles Outtakes\nBobby Bandiera\, Guitarist with Bon Jovi\, Southside Johnny and the Asbury Jukes\nVini Lopez\, Drummer with original E Street Band\, Steelmill\nMarc Muller\, Musician who has recorded with Bruce Springsteen\, Branford Marsalis and Kelly Clarkson\, music director/multi-instrumentalist for Dead On Live\, and Monmouth University Professor \nOngoing throughout the day – Brain on Beatles Project\nThe first 40 people who register for the symposium (SOLD OUT) will receive an audio postcard with a push button sound module that plays their brainwaves mapped to your favorite Beatles song – a one of a kind sound art piece. Innovative technology meets beautiful melodies as award winning media artist Andrew Demirjian provides a truly unique perspective on the Beatles music. With a five-minute visit\, Prof. Demirjian will map your brain activity as you listen to your favorite Beatles song and then translate that brain data to musical notes – the piece provides a sonic snapshot\, a self-portrait of your Brain on Beatles.\n\nThe symposium is free and open to the public\, however advance registration is required
URL:https://www.monmouth.edu/events/event/beatles-asp/
LOCATION:The Great Hall
CATEGORIES:Arts at Monmouth,Concerts,Lectures,Special Events
ATTACH;FMTTYPE=image/jpeg:https://www.monmouth.edu/events/wp-content/uploads/sites/19/2018/07/WEBThe_Beatles_in_America.jpg
END:VEVENT
END:VCALENDAR