BEGIN:VCALENDAR
VERSION:2.0
PRODID:-//Events - ECPv6.15.20//NONSGML v1.0//EN
CALSCALE:GREGORIAN
METHOD:PUBLISH
X-ORIGINAL-URL:https://www.monmouth.edu/events
X-WR-CALDESC:Events for Events
REFRESH-INTERVAL;VALUE=DURATION:PT1H
X-Robots-Tag:noindex
X-PUBLISHED-TTL:PT1H
BEGIN:VTIMEZONE
TZID:America/New_York
BEGIN:DAYLIGHT
TZOFFSETFROM:-0500
TZOFFSETTO:-0400
TZNAME:EDT
DTSTART:20240310T070000
END:DAYLIGHT
BEGIN:STANDARD
TZOFFSETFROM:-0400
TZOFFSETTO:-0500
TZNAME:EST
DTSTART:20241103T060000
END:STANDARD
BEGIN:DAYLIGHT
TZOFFSETFROM:-0500
TZOFFSETTO:-0400
TZNAME:EDT
DTSTART:20250309T070000
END:DAYLIGHT
BEGIN:STANDARD
TZOFFSETFROM:-0400
TZOFFSETTO:-0500
TZNAME:EST
DTSTART:20251102T060000
END:STANDARD
BEGIN:DAYLIGHT
TZOFFSETFROM:-0500
TZOFFSETTO:-0400
TZNAME:EDT
DTSTART:20260308T070000
END:DAYLIGHT
BEGIN:STANDARD
TZOFFSETFROM:-0400
TZOFFSETTO:-0500
TZNAME:EST
DTSTART:20261101T060000
END:STANDARD
END:VTIMEZONE
BEGIN:VEVENT
DTSTART;TZID=America/New_York:20250203T160000
DTEND;TZID=America/New_York:20250203T203000
DTSTAMP:20260424T233437
CREATED:20250204T135529Z
LAST-MODIFIED:20250204T135529Z
UID:40810118539-1738598400-1738614600@www.monmouth.edu
SUMMARY:Study Abroad Italy
DESCRIPTION:Experience a taste of Italy with an authentic menu celebrating classic dishes!
URL:https://www.monmouth.edu/events/event/study-abroad-italy/
LOCATION:Magill Commons Dining Hall
CATEGORIES:Special Events,Student Activities
ATTACH;FMTTYPE=image/jpeg:https://www.monmouth.edu/events/wp-content/uploads/sites/19/2025/02/shutterstock-152854481.jpeg
END:VEVENT
BEGIN:VEVENT
DTSTART;TZID=America/New_York:20250204T080000
DTEND;TZID=America/New_York:20250204T110000
DTSTAMP:20260424T233437
CREATED:20250204T135537Z
LAST-MODIFIED:20250204T135537Z
UID:40810118542-1738656000-1738666800@www.monmouth.edu
SUMMARY:Breakfast Pop-Up at the Student Center
DESCRIPTION:Start your morning with a delicious French Toast Casserole at our special breakfast pop-up!
URL:https://www.monmouth.edu/events/event/breakfast-pop-up-at-the-student-center/
LOCATION:1st floor of the Student Center
CATEGORIES:Special Events,Student Activities
ATTACH;FMTTYPE=image/jpeg:https://www.monmouth.edu/events/wp-content/uploads/sites/19/2025/02/istockphoto-153906126-612x612-1.jpg
END:VEVENT
BEGIN:VEVENT
DTSTART;TZID=America/New_York:20250209T160000
DTEND;TZID=America/New_York:20250209T203000
DTSTAMP:20260424T233437
CREATED:20250204T135618Z
LAST-MODIFIED:20250204T135618Z
UID:40810118552-1739116800-1739133000@www.monmouth.edu
SUMMARY:Super Bowl Sunday Dinner
DESCRIPTION:Cheer on your favorite team at dinner with Kansas City BBQ Ribs\, Philly Cheesesteaks\, and other game-day favorites!
URL:https://www.monmouth.edu/events/event/super-bowl-sunday-dinner/
LOCATION:Magill Commons Dining Hall
CATEGORIES:Special Events
ATTACH;FMTTYPE=image/jpeg:https://www.monmouth.edu/events/wp-content/uploads/sites/19/2025/02/superbowl25.jpeg
END:VEVENT
BEGIN:VEVENT
DTSTART;TZID=America/New_York:20250218T000000
DTEND;TZID=America/New_York:20250218T235959
DTSTAMP:20260424T233437
CREATED:20250204T135705Z
LAST-MODIFIED:20250204T135705Z
UID:40810118560-1739836800-1739923199@www.monmouth.edu
SUMMARY:Core Power Sampling
DESCRIPTION:Stop by the Dining Hall to try a taste of protein-packed Core Power products and discover a healthier way to refuel.
URL:https://www.monmouth.edu/events/event/core-power-sampling/
LOCATION:Magill Commons Dining Hall
CATEGORIES:Special Events
END:VEVENT
BEGIN:VEVENT
DTSTART;TZID=America/New_York:20250228T120000
DTEND;TZID=America/New_York:20250228T160000
DTSTAMP:20260424T233437
CREATED:20250204T135650Z
LAST-MODIFIED:20250221T215653Z
UID:40810118562-1740744000-1740758400@www.monmouth.edu
SUMMARY:National Pancake Day
DESCRIPTION:Come celebrate National Pancake Day in the Dining Hall at our all-day pancake bar!
URL:https://www.monmouth.edu/events/event/national-pancake-day/
LOCATION:Magill Commons Dining Hall
CATEGORIES:Special Events
ATTACH;FMTTYPE=image/jpeg:https://www.monmouth.edu/events/wp-content/uploads/sites/19/2025/02/istockphoto-96430985-612x612-1.jpg
END:VEVENT
END:VCALENDAR