BEGIN:VCALENDAR
VERSION:2.0
PRODID:-//Events - ECPv6.15.20//NONSGML v1.0//EN
CALSCALE:GREGORIAN
METHOD:PUBLISH
X-ORIGINAL-URL:https://www.monmouth.edu/events
X-WR-CALDESC:Events for Events
REFRESH-INTERVAL;VALUE=DURATION:PT1H
X-Robots-Tag:noindex
X-PUBLISHED-TTL:PT1H
BEGIN:VTIMEZONE
TZID:America/New_York
BEGIN:DAYLIGHT
TZOFFSETFROM:-0500
TZOFFSETTO:-0400
TZNAME:EDT
DTSTART:20230312T070000
END:DAYLIGHT
BEGIN:STANDARD
TZOFFSETFROM:-0400
TZOFFSETTO:-0500
TZNAME:EST
DTSTART:20231105T060000
END:STANDARD
BEGIN:DAYLIGHT
TZOFFSETFROM:-0500
TZOFFSETTO:-0400
TZNAME:EDT
DTSTART:20240310T070000
END:DAYLIGHT
BEGIN:STANDARD
TZOFFSETFROM:-0400
TZOFFSETTO:-0500
TZNAME:EST
DTSTART:20241103T060000
END:STANDARD
BEGIN:DAYLIGHT
TZOFFSETFROM:-0500
TZOFFSETTO:-0400
TZNAME:EDT
DTSTART:20250309T070000
END:DAYLIGHT
BEGIN:STANDARD
TZOFFSETFROM:-0400
TZOFFSETTO:-0500
TZNAME:EST
DTSTART:20251102T060000
END:STANDARD
END:VTIMEZONE
BEGIN:VEVENT
DTSTART;TZID=America/New_York:20240909T000000
DTEND;TZID=America/New_York:20240930T235959
DTSTAMP:20260425T063302
CREATED:20240904T131603Z
LAST-MODIFIED:20240906T192529Z
UID:40810113416-1725840000-1727740799@www.monmouth.edu
SUMMARY:Intramural Golf
DESCRIPTION:Monmouth Recreation is offering an Intramural Golf league open to all students. The league will run for 3 straight weeks starting September 9 and finishing September 29. Students will play one 9-hole round each week\, for three straight weeks\, and scores will be logged on IMLeagues. All golf rounds will be played at Old Orchard Country Club in Eatontown and the cost is $30 to ride and $20 to walk. \nRegister for the league or email pkovac@monmouth.edu for more information!
URL:https://www.monmouth.edu/events/event/intramural-golf/
LOCATION:Old Orchard Country Club\, 54 Monmouth Rd\, Eatontown\, 07724
CATEGORIES:Social Events,Student Activities
END:VEVENT
BEGIN:VEVENT
DTSTART;TZID=America/New_York:20240930T110000
DTEND;TZID=America/New_York:20240930T140000
DTSTAMP:20260425T063302
CREATED:20240927T152115Z
LAST-MODIFIED:20240927T152115Z
UID:40810114328-1727694000-1727704800@www.monmouth.edu
SUMMARY:Daisy Chain for Alayna Jayne
DESCRIPTION:Colleges Against Cancer is holding a tabling event\, “Daisy Chain for Alayna Jayne” on Monday\, Sept. 30\, outside of the student center from 11 a.m.&ndashl2 p.m. This event is in support of Alayna Jane\, a member of our club and student at this university who is now battling Hodgkin’s lymphoma for the second time.
URL:https://www.monmouth.edu/events/event/daisy-chain-for-alayna-jayne/
LOCATION:Student Center Patio
CATEGORIES:Social Events
END:VEVENT
END:VCALENDAR