BEGIN:VCALENDAR
VERSION:2.0
PRODID:-//Events - ECPv6.15.20//NONSGML v1.0//EN
CALSCALE:GREGORIAN
METHOD:PUBLISH
X-WR-CALNAME:Events
X-ORIGINAL-URL:https://www.monmouth.edu/events
X-WR-CALDESC:Events for Events
REFRESH-INTERVAL;VALUE=DURATION:PT1H
X-Robots-Tag:noindex
X-PUBLISHED-TTL:PT1H
BEGIN:VTIMEZONE
TZID:America/New_York
BEGIN:DAYLIGHT
TZOFFSETFROM:-0500
TZOFFSETTO:-0400
TZNAME:EDT
DTSTART:20230312T070000
END:DAYLIGHT
BEGIN:STANDARD
TZOFFSETFROM:-0400
TZOFFSETTO:-0500
TZNAME:EST
DTSTART:20231105T060000
END:STANDARD
BEGIN:DAYLIGHT
TZOFFSETFROM:-0500
TZOFFSETTO:-0400
TZNAME:EDT
DTSTART:20240310T070000
END:DAYLIGHT
BEGIN:STANDARD
TZOFFSETFROM:-0400
TZOFFSETTO:-0500
TZNAME:EST
DTSTART:20241103T060000
END:STANDARD
BEGIN:DAYLIGHT
TZOFFSETFROM:-0500
TZOFFSETTO:-0400
TZNAME:EDT
DTSTART:20250309T070000
END:DAYLIGHT
BEGIN:STANDARD
TZOFFSETFROM:-0400
TZOFFSETTO:-0500
TZNAME:EST
DTSTART:20251102T060000
END:STANDARD
END:VTIMEZONE
BEGIN:VEVENT
DTSTART;TZID=America/New_York:20240607T180000
DTEND;TZID=America/New_York:20240607T193000
DTSTAMP:20260425T232913
CREATED:20240326T174408Z
LAST-MODIFIED:20240416T171658Z
UID:40810112378-1717783200-1717788600@www.monmouth.edu
SUMMARY:Alumni Awards
DESCRIPTION:Join Fellow Alumni and Friends for Our 2024 Alumni Awards Ceremony!\nHeld every other year\, Alumni Awards recognize professional achievement\, outstanding leadership\, and volunteer commitment to Monmouth University. All alumni are invited to honor recipients at our upcoming award ceremony. The Alumni Association Board of Directors Recognition and Milestones Committee is proud to showcase our 2024 Alumni Award recipients. The awards ceremony will take place from 6 p.m.–6:30 p.m. in the Great Hall\, with a cocktail reception on the patio to follow from 6:30 p.m.–7:30 p.m. \nThis Year’s Award Recipients\n\nRecent Alumni Award: Jenna Gaudio ’09\nOutstanding Alumni Service Award: Tasha Youngblood Brown ’97\, ’03M\nDistinguished Alumni Award: Raymond Klose ’77
URL:https://www.monmouth.edu/events/event/alumni-awards/
LOCATION:Great Hall and Patio
CATEGORIES:Alumni,Alumni Events,Faculty,Media,Social Events
END:VEVENT
BEGIN:VEVENT
DTSTART;TZID=America/New_York:20240608T163000
DTEND;TZID=America/New_York:20240608T190000
DTSTAMP:20260425T232913
CREATED:20240314T155508Z
LAST-MODIFIED:20240605T142829Z
UID:40810112363-1717864200-1717873200@www.monmouth.edu
SUMMARY:Wine and Stein 2024
DESCRIPTION:Our annual wine and beer tasting event will be making its return to the Great Hall. Come raise a glass and reconnect with fellow Hawks. Sample an array of exceptional wines and craft beers\, expertly selected to suit every taste preference. In addition to the tastings\, enjoy delectable appetizers and treats carefully curated to complement the beverages. Don’t miss out on this opportunity to indulge in a memorable evening of fine beverages\, delicious food\, live music\, and great company!
URL:https://www.monmouth.edu/events/event/wine-and-stein-2024/
LOCATION:The Great Hall
CATEGORIES:Alumni,Alumni Calendar Featured,Alumni Events,Featured,Social Events
ATTACH;FMTTYPE=image/png:https://www.monmouth.edu/events/wp-content/uploads/sites/19/2024/03/24-wine-V-stein-final-3.png
END:VEVENT
END:VCALENDAR