BEGIN:VCALENDAR
VERSION:2.0
PRODID:-//Events - ECPv6.15.20//NONSGML v1.0//EN
CALSCALE:GREGORIAN
METHOD:PUBLISH
X-ORIGINAL-URL:https://www.monmouth.edu/events
X-WR-CALDESC:Events for Events
REFRESH-INTERVAL;VALUE=DURATION:PT1H
X-Robots-Tag:noindex
X-PUBLISHED-TTL:PT1H
BEGIN:VTIMEZONE
TZID:America/New_York
BEGIN:DAYLIGHT
TZOFFSETFROM:-0500
TZOFFSETTO:-0400
TZNAME:EDT
DTSTART:20250309T070000
END:DAYLIGHT
BEGIN:STANDARD
TZOFFSETFROM:-0400
TZOFFSETTO:-0500
TZNAME:EST
DTSTART:20251102T060000
END:STANDARD
BEGIN:DAYLIGHT
TZOFFSETFROM:-0500
TZOFFSETTO:-0400
TZNAME:EDT
DTSTART:20260308T070000
END:DAYLIGHT
BEGIN:STANDARD
TZOFFSETFROM:-0400
TZOFFSETTO:-0500
TZNAME:EST
DTSTART:20261101T060000
END:STANDARD
BEGIN:DAYLIGHT
TZOFFSETFROM:-0500
TZOFFSETTO:-0400
TZNAME:EDT
DTSTART:20270314T070000
END:DAYLIGHT
BEGIN:STANDARD
TZOFFSETFROM:-0400
TZOFFSETTO:-0500
TZNAME:EST
DTSTART:20271107T060000
END:STANDARD
END:VTIMEZONE
BEGIN:VEVENT
DTSTART;TZID=America/New_York:20260612T180000
DTEND;TZID=America/New_York:20260612T193000
DTSTAMP:20260422T203730
CREATED:20260318T213324Z
LAST-MODIFIED:20260318T213324Z
UID:40810121889-1781287200-1781292600@www.monmouth.edu
SUMMARY:Alumni Awards 2026
DESCRIPTION:Join Fellow Alumni and Friends for Our 2026 Alumni Awards Ceremony!\nGreat Hall and Erlanger Gardens\nFriday\, June 12 \n6–7:30 p.m. \nCost: $30 \nPresented every other year\, the Alumni Awards celebrate alumni who exemplify professional excellence\, strong leadership\, and meaningful volunteer commitment to Monmouth University. All alumni are invited to join us as we celebrate the 2026 Alumni Award recipients. The Alumni Association Board of Directors Recognition and Milestones Committee is proud to showcase this year’s honorees. The awards ceremony will take place from 6–6:30 p.m. in the Great Hall\, followed by a cocktail reception on the patio from 6:30–7:30 p.m. \nThis Year’s Award Recipients\n\nDistinguished Alumni Award: Deborah “Dee” Baker ’00\nOutstanding Alumni Service Award: Fred Williams ’04\nRecent Alumni Award: Kimberly (Kravitz) Bukowiec ’13
URL:https://www.monmouth.edu/events/event/alumni-awards-2026/
LOCATION:The Great Hall and Erlanger Gardens
CATEGORIES:Alumni,Alumni Events,Social Events
END:VEVENT
END:VCALENDAR