BEGIN:VCALENDAR
VERSION:2.0
PRODID:-//Events - ECPv6.15.20//NONSGML v1.0//EN
CALSCALE:GREGORIAN
METHOD:PUBLISH
X-WR-CALNAME:Events
X-ORIGINAL-URL:https://www.monmouth.edu/events
X-WR-CALDESC:Events for Events
REFRESH-INTERVAL;VALUE=DURATION:PT1H
X-Robots-Tag:noindex
X-PUBLISHED-TTL:PT1H
BEGIN:VTIMEZONE
TZID:America/New_York
BEGIN:DAYLIGHT
TZOFFSETFROM:-0500
TZOFFSETTO:-0400
TZNAME:EDT
DTSTART:20240310T070000
END:DAYLIGHT
BEGIN:STANDARD
TZOFFSETFROM:-0400
TZOFFSETTO:-0500
TZNAME:EST
DTSTART:20241103T060000
END:STANDARD
BEGIN:DAYLIGHT
TZOFFSETFROM:-0500
TZOFFSETTO:-0400
TZNAME:EDT
DTSTART:20250309T070000
END:DAYLIGHT
BEGIN:STANDARD
TZOFFSETFROM:-0400
TZOFFSETTO:-0500
TZNAME:EST
DTSTART:20251102T060000
END:STANDARD
BEGIN:DAYLIGHT
TZOFFSETFROM:-0500
TZOFFSETTO:-0400
TZNAME:EDT
DTSTART:20260308T070000
END:DAYLIGHT
BEGIN:STANDARD
TZOFFSETFROM:-0400
TZOFFSETTO:-0500
TZNAME:EST
DTSTART:20261101T060000
END:STANDARD
END:VTIMEZONE
BEGIN:VEVENT
DTSTART;TZID=America/New_York:20250308T163000
DTEND;TZID=America/New_York:20250308T183000
DTSTAMP:20260423T162040
CREATED:20250227T172440Z
LAST-MODIFIED:20250227T172440Z
UID:40810118826-1741451400-1741458600@www.monmouth.edu
SUMMARY:Orlando\, Florida: Alumni Tailgate and Men’s Baseball Game
DESCRIPTION:First Pitch: 6:30 p.m. \nJoin us in Orlando to cheer on your Monmouth Hawks Baseball Team as they take on the University of Central Florida! Enjoy a pre-game tailgate where Coach Dean Ehehalt will share game insights\, and your go-to Florida Hawk\, Chuck Gerdon\, will update you on the latest University achievements. There will be free tickets\, complimentary refreshments\, prizes\, and Monmouth University giveaways! Find us in the outfield parking lot ($5 parking fee). We can’t wait to see you there!
URL:https://www.monmouth.edu/events/event/orlando-florida-alumni-tailgate-and-mens-baseball-game/
LOCATION:UCF John Euliano Park\, 4422 Knights Victory Way\, Orlando\, FL\, 32816\, United States
CATEGORIES:Alumni,Alumni Events,Athletics,Free,Social Events
ATTACH;FMTTYPE=image/jpeg:https://www.monmouth.edu/events/wp-content/uploads/sites/19/2023/12/Florida-graphic.jpg
END:VEVENT
END:VCALENDAR