BEGIN:VCALENDAR
VERSION:2.0
PRODID:-//Events - ECPv6.15.20//NONSGML v1.0//EN
CALSCALE:GREGORIAN
METHOD:PUBLISH
X-WR-CALNAME:Events
X-ORIGINAL-URL:https://www.monmouth.edu/events
X-WR-CALDESC:Events for Events
REFRESH-INTERVAL;VALUE=DURATION:PT1H
X-Robots-Tag:noindex
X-PUBLISHED-TTL:PT1H
BEGIN:VTIMEZONE
TZID:America/New_York
BEGIN:DAYLIGHT
TZOFFSETFROM:-0500
TZOFFSETTO:-0400
TZNAME:EDT
DTSTART:20240310T070000
END:DAYLIGHT
BEGIN:STANDARD
TZOFFSETFROM:-0400
TZOFFSETTO:-0500
TZNAME:EST
DTSTART:20241103T060000
END:STANDARD
BEGIN:DAYLIGHT
TZOFFSETFROM:-0500
TZOFFSETTO:-0400
TZNAME:EDT
DTSTART:20250309T070000
END:DAYLIGHT
BEGIN:STANDARD
TZOFFSETFROM:-0400
TZOFFSETTO:-0500
TZNAME:EST
DTSTART:20251102T060000
END:STANDARD
BEGIN:DAYLIGHT
TZOFFSETFROM:-0500
TZOFFSETTO:-0400
TZNAME:EDT
DTSTART:20260308T070000
END:DAYLIGHT
BEGIN:STANDARD
TZOFFSETFROM:-0400
TZOFFSETTO:-0500
TZNAME:EST
DTSTART:20261101T060000
END:STANDARD
END:VTIMEZONE
BEGIN:VEVENT
DTSTART;TZID=America/New_York:20250301T190000
DTEND;TZID=America/New_York:20250301T220000
DTSTAMP:20260423T162038
CREATED:20250117T153024Z
LAST-MODIFIED:20250214T173340Z
UID:40810117905-1740855600-1740866400@www.monmouth.edu
SUMMARY:BSU Presents\, Ebony Night: A Night in Harlem
DESCRIPTION:Join us for a night of Celebrating Black Excellence. This formal event will celebrate the accomplishments of the Black Student Union and honor students\, staff\, and alumni for their contributions and support this academic year. Ticket will include admission to the event\, entertainment\, and a buffet-style meal. Dress to Impress!
URL:https://www.monmouth.edu/events/event/bsu-presents-ebony-night-a-night-in-harlem/
LOCATION:Great Hall 1st Floor
CATEGORIES:Alumni,Alumni Events,Black Alumni Network,Current Student,Faculty,Graduate Student,Intercultural Center Events,Social Events,Undergraduate Student
ATTACH;FMTTYPE=image/jpeg:https://www.monmouth.edu/events/wp-content/uploads/sites/19/2025/01/default.jpg
END:VEVENT
END:VCALENDAR