BEGIN:VCALENDAR
VERSION:2.0
PRODID:-//Events - ECPv6.15.20//NONSGML v1.0//EN
CALSCALE:GREGORIAN
METHOD:PUBLISH
X-ORIGINAL-URL:https://www.monmouth.edu/events
X-WR-CALDESC:Events for Events
REFRESH-INTERVAL;VALUE=DURATION:PT1H
X-Robots-Tag:noindex
X-PUBLISHED-TTL:PT1H
BEGIN:VTIMEZONE
TZID:America/New_York
BEGIN:DAYLIGHT
TZOFFSETFROM:-0500
TZOFFSETTO:-0400
TZNAME:EDT
DTSTART:20230312T070000
END:DAYLIGHT
BEGIN:STANDARD
TZOFFSETFROM:-0400
TZOFFSETTO:-0500
TZNAME:EST
DTSTART:20231105T060000
END:STANDARD
BEGIN:DAYLIGHT
TZOFFSETFROM:-0500
TZOFFSETTO:-0400
TZNAME:EDT
DTSTART:20240310T070000
END:DAYLIGHT
BEGIN:STANDARD
TZOFFSETFROM:-0400
TZOFFSETTO:-0500
TZNAME:EST
DTSTART:20241103T060000
END:STANDARD
BEGIN:DAYLIGHT
TZOFFSETFROM:-0500
TZOFFSETTO:-0400
TZNAME:EDT
DTSTART:20250309T070000
END:DAYLIGHT
BEGIN:STANDARD
TZOFFSETFROM:-0400
TZOFFSETTO:-0500
TZNAME:EST
DTSTART:20251102T060000
END:STANDARD
END:VTIMEZONE
BEGIN:VEVENT
DTSTART;TZID=America/New_York:20240518T121500
DTEND;TZID=America/New_York:20240518T121500
DTSTAMP:20260425T102651
CREATED:20240409T133107Z
LAST-MODIFIED:20240507T133119Z
UID:40810112402-1716034500-1716034500@www.monmouth.edu
SUMMARY:Alumni Tandem Cycle Spin Class
DESCRIPTION:Join us for an unforgettable ride at Tandem Cycle in Asbury Park with instructor and fellow alumna Steph Ramos ’10! Steph majored in Communication & Media Studies and Music Management. She was also a proud member of WMCX and DPHIE! Stick around after class for a gathering on the patio with healthy snacks\, hydrating beverages\, and local vendors. Don’t miss out on the chance to pedal\, sweat\, and reconnect with fellow Hawks. Spaces are limited\, reserve your spot today!
URL:https://www.monmouth.edu/events/event/alumni-tandem-cycle-spin-class/
LOCATION:Tandem\, 200 Cookman Ave\, Asbury Park\, NJ 07712
CATEGORIES:Alumni,Alumni Calendar Featured,Alumni Events,Current Student,Faculty,Graduate Student,Honors School,Media,Social Events
ATTACH;FMTTYPE=image/jpeg:https://www.monmouth.edu/events/wp-content/uploads/sites/19/2024/04/Website-graphic.jpg
END:VEVENT
END:VCALENDAR