BEGIN:VCALENDAR
VERSION:2.0
PRODID:-//Events - ECPv6.15.20//NONSGML v1.0//EN
CALSCALE:GREGORIAN
METHOD:PUBLISH
X-ORIGINAL-URL:https://www.monmouth.edu/events
X-WR-CALDESC:Events for Events
REFRESH-INTERVAL;VALUE=DURATION:PT1H
X-Robots-Tag:noindex
X-PUBLISHED-TTL:PT1H
BEGIN:VTIMEZONE
TZID:America/New_York
BEGIN:DAYLIGHT
TZOFFSETFROM:-0500
TZOFFSETTO:-0400
TZNAME:EDT
DTSTART:20230312T070000
END:DAYLIGHT
BEGIN:STANDARD
TZOFFSETFROM:-0400
TZOFFSETTO:-0500
TZNAME:EST
DTSTART:20231105T060000
END:STANDARD
BEGIN:DAYLIGHT
TZOFFSETFROM:-0500
TZOFFSETTO:-0400
TZNAME:EDT
DTSTART:20240310T070000
END:DAYLIGHT
BEGIN:STANDARD
TZOFFSETFROM:-0400
TZOFFSETTO:-0500
TZNAME:EST
DTSTART:20241103T060000
END:STANDARD
BEGIN:DAYLIGHT
TZOFFSETFROM:-0500
TZOFFSETTO:-0400
TZNAME:EDT
DTSTART:20250309T070000
END:DAYLIGHT
BEGIN:STANDARD
TZOFFSETFROM:-0400
TZOFFSETTO:-0500
TZNAME:EST
DTSTART:20251102T060000
END:STANDARD
END:VTIMEZONE
BEGIN:VEVENT
DTSTART;TZID=America/New_York:20241009T151500
DTEND;TZID=America/New_York:20241009T161500
DTSTAMP:20260424T075137
CREATED:20241001T151509Z
LAST-MODIFIED:20241001T151509Z
UID:40810114413-1728486900-1728490500@www.monmouth.edu
SUMMARY:Department of Health and PE Social
DESCRIPTION:Students in the Department of Health and PE are invited to a social of food\, prizes and games. Outside of McAllan if weather is nice or in Boylan Gym if bad weather.
URL:https://www.monmouth.edu/events/event/department-of-health-and-pe-social/
LOCATION:McAllan Hall
CATEGORIES:Free,Social Events,Special Events,Student Activities
ORGANIZER;CN="Health and PE":MAILTO:mwest@monmouth.edu
END:VEVENT
BEGIN:VEVENT
DTSTART;TZID=America/New_York:20241019T090000
DTEND;TZID=America/New_York:20241019T100000
DTSTAMP:20260424T075137
CREATED:20240814T145435Z
LAST-MODIFIED:20240814T150605Z
UID:40810112630-1729328400-1729332000@www.monmouth.edu
SUMMARY:Affinity Networks Breakfast (Homecoming and Reunion Weekend)
DESCRIPTION:In an effort to continue to create meaningful connections for historically underrepresented alumni (including\, but not limited to\, Asian/Asian American\, Black\, Latinx\, LGBTQ+) in both professional and social settings\, a breakfast will be held at the Intercultural Center the morning of Homecoming. Kick off your Homecoming day at the Intercultural Center!
URL:https://www.monmouth.edu/events/event/affinity-networks-breakfast/
CATEGORIES:Alumni,Alumni Calendar Featured,Alumni Events,Diversity and Inclusion,Intercultural Center Events,LatinXConnect,Social Events
ATTACH;FMTTYPE=image/png:https://www.monmouth.edu/events/wp-content/uploads/sites/19/2024/08/24_Homecoming_Reunion_Logo-01.png
END:VEVENT
BEGIN:VEVENT
DTSTART;TZID=America/New_York:20241020T110000
DTEND;TZID=America/New_York:20241020T130000
DTSTAMP:20260424T075137
CREATED:20240812T181103Z
LAST-MODIFIED:20240906T180705Z
UID:40810112624-1729422000-1729429200@www.monmouth.edu
SUMMARY:Class of 1974 Golden Hawks Brunch (Homecoming and Reunion Weekend)
DESCRIPTION:The Class of 1974\, plus any other graduates who have already celebrated a 50th reunion\, are invited to a special brunch to celebrate this milestone.
URL:https://www.monmouth.edu/events/event/class-of-1974-golden-hawks-brunch-homecoming-and-reunion-weekend/
CATEGORIES:Alumni,Alumni Calendar Featured,Alumni Events,Homecoming,Social Events
ATTACH;FMTTYPE=image/png:https://www.monmouth.edu/events/wp-content/uploads/sites/19/2024/08/24_Homecoming_Reunion_Logo-01.png
END:VEVENT
BEGIN:VEVENT
DTSTART;TZID=America/New_York:20241023T190000
DTEND;TZID=America/New_York:20241023T210000
DTSTAMP:20260424T075137
CREATED:20241021T134008Z
LAST-MODIFIED:20241021T134008Z
UID:40810115110-1729710000-1729717200@www.monmouth.edu
SUMMARY:ROCKTOBER Battle Of the Bands
DESCRIPTION:Monmouth’s student-run Blue Hawk Music Group presents ROCKTOBER a Battle of the Bands performance where the audience decides who wins!
URL:https://www.monmouth.edu/events/event/rocktober-battle-of-the-bands/
LOCATION:Pollak Auditorium
CATEGORIES:Music,Social Events,Student Performances
ATTACH;FMTTYPE=image/jpeg:https://www.monmouth.edu/events/wp-content/uploads/sites/19/2024/10/Rocktober.jpeg
END:VEVENT
BEGIN:VEVENT
DTSTART;TZID=America/New_York:20241023T190000
DTEND;TZID=America/New_York:20241023T220000
DTSTAMP:20260424T075137
CREATED:20241017T193859Z
LAST-MODIFIED:20241017T193859Z
UID:40810115088-1729710000-1729720800@www.monmouth.edu
SUMMARY:Just Dance Night with 5678 Dance Club
DESCRIPTION:Join 5678 Dance Club in Anacon A for a fun night playing Just Dance! We will have snacks and prizes as well. All students are welcome.
URL:https://www.monmouth.edu/events/event/just-dance-night-with-5678-dance-club/
LOCATION:Anacon Hall\, 2nd Floor\, Student Center
CATEGORIES:Dance,Social Events
ATTACH;FMTTYPE=image/jpeg:https://www.monmouth.edu/events/wp-content/uploads/sites/19/2024/10/JUST-DANCE-NIGHT-WITH-5678-DANCE-CLUB.png.jpeg
END:VEVENT
BEGIN:VEVENT
DTSTART;TZID=America/New_York:20241025T130000
DTEND;TZID=America/New_York:20241025T150000
DTSTAMP:20260424T075137
CREATED:20241017T194014Z
LAST-MODIFIED:20241017T194014Z
UID:40810115078-1729861200-1729868400@www.monmouth.edu
SUMMARY:Queer Crafternoon
DESCRIPTION:Join the Intercultural Center for an afternoon of crafting and decorating in the spirit of LGBTQ History Month. The theme for this Crafternoon session revolves around\, but not exclusive to\, queer identity so come on by and let your creativity flow.
URL:https://www.monmouth.edu/events/event/queer-crafternoon/
LOCATION:Intercultural Center (Magill Commons)
CATEGORIES:Diversity and Inclusion,Intercultural Center Events,Social Events
ATTACH;FMTTYPE=image/png:https://www.monmouth.edu/events/wp-content/uploads/sites/19/2024/10/Queer-Crafternoon.png
ORGANIZER;CN="Intercultural Center":MAILTO:Intercultural@monmouth.edu
END:VEVENT
BEGIN:VEVENT
DTSTART;TZID=America/New_York:20241025T180000
DTEND;TZID=America/New_York:20241025T200000
DTSTAMP:20260424T075137
CREATED:20241023T181550Z
LAST-MODIFIED:20241023T181550Z
UID:40810115124-1729879200-1729886400@www.monmouth.edu
SUMMARY:The Challenge - Intercultural Coalition Game Night
DESCRIPTION:Get your game on and stop by the Intercultural Center for a night of games and fun co-sponsored by the LASO\, BSU\, the Intercultural Club\, and Hawk TV.
URL:https://www.monmouth.edu/events/event/the-challenge-intercultural-coalition-game-night/
LOCATION:Intercultural Center (Magill Commons)
CATEGORIES:Current Student,Diversity and Inclusion,Free,Social Events
ATTACH;FMTTYPE=image/png:https://www.monmouth.edu/events/wp-content/uploads/sites/19/2024/10/IC-Game-Night.png
END:VEVENT
BEGIN:VEVENT
DTSTART;TZID=America/New_York:20241025T180000
DTEND;TZID=America/New_York:20241025T210000
DTSTAMP:20260424T075137
CREATED:20241023T181647Z
LAST-MODIFIED:20241023T181647Z
UID:40810115130-1729879200-1729890000@www.monmouth.edu
SUMMARY:Free Bowling Night
DESCRIPTION:Monmouth students can enjoy a Free evening of bowling at the Ciniello Family Bowling Center inside Boylan Gymnasium from 6 p.m. to 9 p.m. Bring some friends\, compete with one another for the highest score\, and have a great time!
URL:https://www.monmouth.edu/events/event/free-bowling-night/
LOCATION:Ciniello Family Bowling Center
CATEGORIES:Current Student,Free,Social Events
ATTACH;FMTTYPE=image/png:https://www.monmouth.edu/events/wp-content/uploads/sites/19/2024/10/FREE-Bowling-Night-10-25.png
END:VEVENT
BEGIN:VEVENT
DTSTART;TZID=America/New_York:20241026T110000
DTEND;TZID=America/New_York:20241026T130000
DTSTAMP:20260424T075137
CREATED:20240918T200625Z
LAST-MODIFIED:20240918T200625Z
UID:40810114052-1729940400-1729947600@www.monmouth.edu
SUMMARY:Trunk or Treat
DESCRIPTION:Monmouth University Athletics and The Office of Student Engagement will be hosting Trunk or Treat this year and we are looking for our Monmouth community to participate and bring the energy to this event! \nThis event invites local community members to campus for a fun afternoon of trick or treating and Halloween fun!
URL:https://www.monmouth.edu/events/event/trunk-or-treat-2024/
LOCATION:Kessler Stadium Driveway (Rain Location: Student Center)
CATEGORIES:Alumni,Community Member,Free,Social Events
END:VEVENT
BEGIN:VEVENT
DTSTART;TZID=America/New_York:20241026T183000
DTEND;TZID=America/New_York:20241026T210000
DTSTAMP:20260424T075137
CREATED:20241007T164314Z
LAST-MODIFIED:20241018T183331Z
UID:40810114447-1729967400-1729976400@www.monmouth.edu
SUMMARY:Off-Campus Trip to The Conover Killings Haunted Trail
DESCRIPTION:Join the Office of Student Engagement for a thrilling trip to a Haunted Trail. Tickets are FREE – stop by the Office of Student Engagement by 5pm on Thursday\, 10/24 to reserve your spot. The trip takes place on Saturday\, Oct. 26\, and the bus leaves campus at 6:30 p.m.
URL:https://www.monmouth.edu/events/event/off-campus-trip-to-the-conover-killings-haunted-trail/
CATEGORIES:Current Student,Social Events
ATTACH;FMTTYPE=image/png:https://www.monmouth.edu/events/wp-content/uploads/sites/19/2024/10/10.26_TheConoverKillingsOffCampusTrip_FINAL.png
END:VEVENT
BEGIN:VEVENT
DTSTART;TZID=America/New_York:20241029T113000
DTEND;TZID=America/New_York:20241029T173000
DTSTAMP:20260424T075137
CREATED:20241023T181902Z
LAST-MODIFIED:20241023T181911Z
UID:40810115132-1730201400-1730223000@www.monmouth.edu
SUMMARY:Open House at The Linda Grunin Simulation Lab
DESCRIPTION:Behind the Scene at the Sim Lab\nWe invite you to learn how simulation works. \n  \nWe want to introduce you to our Specialized Patients\, our actors who play the various characters. \n  \nTake part in a delivery. You will be be asked to take a hands on roll in out OB room with the amazing Dr. Massaro directing the action. \n  \nJoin us in the control room to take Sim Man our highest fidelity simulator\, out for a spin. Learn how he works\, play the part of an ICU patient. \n  \nMeet and run Hal\, our 5 year old boy in pediatrics. Learn how we record responses and prepare him for scenarios. \nPlay find the Organ \nSnack and Juice boxes
URL:https://www.monmouth.edu/events/event/open-house-at-the-linda-grunin-simulation-lab/
LOCATION:Linda Grunin Simulation Lab\, 185 Hwy 36\,\, West Long Branch\, NJ\, 07764\, United States
CATEGORIES:Current Student,Free,Lectures/Workshops/Symposiums,Social Events
ORGANIZER;CN="BillieMcNally":MAILTO:bmcnally@monmouth.edu
END:VEVENT
BEGIN:VEVENT
DTSTART;TZID=America/New_York:20241030T113000
DTEND;TZID=America/New_York:20241030T133000
DTSTAMP:20260424T075137
CREATED:20241023T181103Z
LAST-MODIFIED:20241023T181103Z
UID:40810115120-1730287800-1730295000@www.monmouth.edu
SUMMARY:SAB Boo Bag Tabling
DESCRIPTION:Get in the spooky season spirit! Join SAB to make free goodie bags full of candies\, treats\, prizes and more!
URL:https://www.monmouth.edu/events/event/sab-boo-bag-tabling/
LOCATION:Student Center Patio
CATEGORIES:Current Student,Social Events,Student Activities
ATTACH;FMTTYPE=image/png:https://www.monmouth.edu/events/wp-content/uploads/sites/19/2024/10/Boo-Bag.png
ORGANIZER;CN="Student Activities Board":MAILTO:activities@monmouth.edu
END:VEVENT
BEGIN:VEVENT
DTSTART;TZID=America/New_York:20241031T180000
DTEND;TZID=America/New_York:20241031T200000
DTSTAMP:20260424T075137
CREATED:20241025T145743Z
LAST-MODIFIED:20241025T145916Z
UID:40810115150-1730397600-1730404800@www.monmouth.edu
SUMMARY:Hawktober Halloween Special
DESCRIPTION:Hawk TV presents the 2024 Hawktober Halloween Special! Prepare for an episode filled with ghost hunting\, spooky competitions\, cooking shows\, and more! Tune in to this jam-packed haunted feature on the Hawk TV YouTube channel. \nWatch our Channel on YouTube
URL:https://www.monmouth.edu/events/event/hawktober-halloween-special/
LOCATION:Online
CATEGORIES:Current Student,Faculty,Free,Graduate Student,Media,Social Events,Undergraduate Student
ATTACH;FMTTYPE=image/jpeg:https://www.monmouth.edu/events/wp-content/uploads/sites/19/2024/10/HAWKTV_HAWKTOBER2024_FLYER.jpg
ORGANIZER;CN="Hawk TV":MAILTO:hawktv@monmouth.edu
END:VEVENT
END:VCALENDAR