BEGIN:VCALENDAR
VERSION:2.0
PRODID:-//Events - ECPv6.15.20//NONSGML v1.0//EN
CALSCALE:GREGORIAN
METHOD:PUBLISH
X-ORIGINAL-URL:https://www.monmouth.edu/events
X-WR-CALDESC:Events for Events
REFRESH-INTERVAL;VALUE=DURATION:PT1H
X-Robots-Tag:noindex
X-PUBLISHED-TTL:PT1H
BEGIN:VTIMEZONE
TZID:America/New_York
BEGIN:DAYLIGHT
TZOFFSETFROM:-0500
TZOFFSETTO:-0400
TZNAME:EDT
DTSTART:20140309T070000
END:DAYLIGHT
BEGIN:STANDARD
TZOFFSETFROM:-0400
TZOFFSETTO:-0500
TZNAME:EST
DTSTART:20141102T060000
END:STANDARD
BEGIN:DAYLIGHT
TZOFFSETFROM:-0500
TZOFFSETTO:-0400
TZNAME:EDT
DTSTART:20150308T070000
END:DAYLIGHT
BEGIN:STANDARD
TZOFFSETFROM:-0400
TZOFFSETTO:-0500
TZNAME:EST
DTSTART:20151101T060000
END:STANDARD
BEGIN:DAYLIGHT
TZOFFSETFROM:-0500
TZOFFSETTO:-0400
TZNAME:EDT
DTSTART:20160313T070000
END:DAYLIGHT
BEGIN:STANDARD
TZOFFSETFROM:-0400
TZOFFSETTO:-0500
TZNAME:EST
DTSTART:20161106T060000
END:STANDARD
END:VTIMEZONE
BEGIN:VEVENT
DTSTART;TZID=America/New_York:20150917T190000
DTEND;TZID=America/New_York:20150917T210000
DTSTAMP:20260425T100913
CREATED:20180725T204141Z
LAST-MODIFIED:20191115T212715Z
UID:40810102094-1442516400-1442523600@www.monmouth.edu
SUMMARY:School of Science Ice Cream Social and Summer Employment Stories
DESCRIPTION:Ice cream will be provided\, and Peer Mentors will share their summer 2015 employment experiences and answer questions. At this event first-year and transfer students will learn how to advance themselves professionally with summer activities and receive helpful advice on how to obtain these positions.
URL:https://www.monmouth.edu/events/event/school-of-science-ice-cream-social-and-summer-employment-stories/
LOCATION:Magill Commons
CATEGORIES:School of Science
ATTACH;FMTTYPE=image/jpeg:https://www.monmouth.edu/events/wp-content/uploads/sites/19/2018/07/Ice20Cream20Social20photo.jpg
END:VEVENT
END:VCALENDAR