BEGIN:VCALENDAR
VERSION:2.0
PRODID:-//Events - ECPv6.15.20//NONSGML v1.0//EN
CALSCALE:GREGORIAN
METHOD:PUBLISH
X-ORIGINAL-URL:https://www.monmouth.edu/events
X-WR-CALDESC:Events for Events
REFRESH-INTERVAL;VALUE=DURATION:PT1H
X-Robots-Tag:noindex
X-PUBLISHED-TTL:PT1H
BEGIN:VTIMEZONE
TZID:America/New_York
BEGIN:DAYLIGHT
TZOFFSETFROM:-0500
TZOFFSETTO:-0400
TZNAME:EDT
DTSTART:20150308T070000
END:DAYLIGHT
BEGIN:STANDARD
TZOFFSETFROM:-0400
TZOFFSETTO:-0500
TZNAME:EST
DTSTART:20151101T060000
END:STANDARD
BEGIN:DAYLIGHT
TZOFFSETFROM:-0500
TZOFFSETTO:-0400
TZNAME:EDT
DTSTART:20160313T070000
END:DAYLIGHT
BEGIN:STANDARD
TZOFFSETFROM:-0400
TZOFFSETTO:-0500
TZNAME:EST
DTSTART:20161106T060000
END:STANDARD
BEGIN:DAYLIGHT
TZOFFSETFROM:-0500
TZOFFSETTO:-0400
TZNAME:EDT
DTSTART:20170312T070000
END:DAYLIGHT
BEGIN:STANDARD
TZOFFSETFROM:-0400
TZOFFSETTO:-0500
TZNAME:EST
DTSTART:20171105T060000
END:STANDARD
END:VTIMEZONE
BEGIN:VEVENT
DTSTART;TZID=America/New_York:20161007T183000
DTEND;TZID=America/New_York:20161007T200000
DTSTAMP:20260422T185556
CREATED:20180725T203831Z
LAST-MODIFIED:20190301T205536Z
UID:40810101491-1475865000-1475870400@www.monmouth.edu
SUMMARY:7th Annual School of Science Dean's Seminar: Dr. Camille ParmesanProfessor at Plymouth University (UK) and National Aquarium Chair in the Public Understanding of Oceans and Human Health
DESCRIPTION:
URL:https://www.monmouth.edu/events/event/7th-annual-school-of-science-deans-seminar-dr-camille-parmesanprofessor-at-plymouth-university-uk-and-national-aquarium-chair-in-the-public-understanding-of-oceans-and-human-health/
LOCATION:The Great Hall Auditorium
CATEGORIES:Alumni,Community Member,Current Student,Faculty,School of Science
ATTACH;FMTTYPE=image/jpeg:https://www.monmouth.edu/events/wp-content/uploads/sites/19/2018/07/DeansSeminarPromo.jpg
END:VEVENT
END:VCALENDAR