BEGIN:VCALENDAR
VERSION:2.0
PRODID:-//Events - ECPv6.15.20//NONSGML v1.0//EN
CALSCALE:GREGORIAN
METHOD:PUBLISH
X-ORIGINAL-URL:https://www.monmouth.edu/events
X-WR-CALDESC:Events for Events
REFRESH-INTERVAL;VALUE=DURATION:PT1H
X-Robots-Tag:noindex
X-PUBLISHED-TTL:PT1H
BEGIN:VTIMEZONE
TZID:America/New_York
BEGIN:DAYLIGHT
TZOFFSETFROM:-0500
TZOFFSETTO:-0400
TZNAME:EDT
DTSTART:20160313T070000
END:DAYLIGHT
BEGIN:STANDARD
TZOFFSETFROM:-0400
TZOFFSETTO:-0500
TZNAME:EST
DTSTART:20161106T060000
END:STANDARD
BEGIN:DAYLIGHT
TZOFFSETFROM:-0500
TZOFFSETTO:-0400
TZNAME:EDT
DTSTART:20170312T070000
END:DAYLIGHT
BEGIN:STANDARD
TZOFFSETFROM:-0400
TZOFFSETTO:-0500
TZNAME:EST
DTSTART:20171105T060000
END:STANDARD
BEGIN:DAYLIGHT
TZOFFSETFROM:-0500
TZOFFSETTO:-0400
TZNAME:EDT
DTSTART:20180311T070000
END:DAYLIGHT
BEGIN:STANDARD
TZOFFSETFROM:-0400
TZOFFSETTO:-0500
TZNAME:EST
DTSTART:20181104T060000
END:STANDARD
END:VTIMEZONE
BEGIN:VEVENT
DTSTART;TZID=America/New_York:20170606T090000
DTEND;TZID=America/New_York:20170606T150000
DTSTAMP:20260423T125804
CREATED:20180725T203739Z
LAST-MODIFIED:20190304T163600Z
UID:40810101320-1496739600-1496761200@www.monmouth.edu
SUMMARY:Improving Communication Regarding End-of-Life Decisions
DESCRIPTION:This workshop is designed to provide health care professionals with a better understanding of the complex decision making process that is involved in the planning of end-of-life care. The instructors will explore and review end-of life care choices such as hospice\, palliative care and advanced directives. The patients’ perspective will be presented\, highlighting research on “The inner life at the end of life\,” life reviews and attitudes toward death. Participants will engage in a simulated medical decision process and analyze different types of advanced directives. The goal will be to facilitate patient centered care and shared decision making through effective communication and planning. \nCOURSE OBJECTIVES: \n\nExamine the complexities surrounding end-of-life care including different levels of care\, types of proxy and advanced directives.\nDiscuss ethical issues faced by healthcare professionals in providing care during the dying process.\nReview challenges faced by families and caregivers as they honor patient wishes in end of life decisions.\nEvaluate strategies to maximize patient autonomy.\nFacilitating communication about end-of-life decisions.\n\nFee: $98/$20 for current MU Nursing and Health Studies Students (a light lunch is included in the program fee) \nThis program will provide 5 contact hours for Nurses. \nFor more information\, contact Barbara Paskewich\, MSN\,RN\, MA\, CHES\, Director of Professional Development and Special Projects\, at 732-571-3694 or bpaskewi@monmouth.edu.
URL:https://www.monmouth.edu/events/event/improving-communication-regarding-end-of-life-decisions/
LOCATION:Pozycki Hall
CATEGORIES:Alumni,Community Member,Current Student,School of Nursing and Health Studies
ATTACH;FMTTYPE=image/png:https://www.monmouth.edu/events/wp-content/uploads/sites/19/2018/07/EndOfLife.png
END:VEVENT
BEGIN:VEVENT
DTSTART;TZID=America/New_York:20170612T090000
DTEND;TZID=America/New_York:20170615T160000
DTSTAMP:20260423T125804
CREATED:20180725T203739Z
LAST-MODIFIED:20190304T145550Z
UID:40810101323-1497258000-1497542400@www.monmouth.edu
SUMMARY:Sexual Assault Examination Across the Lifespan - Workshop for Nurses
DESCRIPTION:This program is designed for the RN with at least 2 years recent clinical experience desiring to obtain the in-depth knowledge and skills needed to provide effective health care and services to victims of sexual assault. Content will include the biological\, psychological\, social and medico-legal dynamics of sexual assault including care of both male and female survivors across the lifespan. \nTopics will include: assessment and evaluation of the adult\, adolescent\, pediatric survivor of sexual assault through the lifespan\, role of the SANE in caring for sexual assault and abuse victims across the lifespan\, nursing management of the sexually assaulted patient\, evidence collection and analysis\, exam documentation\, clinical skill demonstrations\, interdisciplinary collaboration\, NJ laws and regulations\, and an overview of the criminal justice system including tips on testifying. \nFee: $850 \nFor more information\, contact Barbara Paskewich\, MSN\,RN\, MA\, CHES\, Director of Professional Development and Special Projects\, at 732-571-3694 or bpaskewi@monmouth.edu. \nRegister Online Now
URL:https://www.monmouth.edu/events/event/sexual-assault-examination-across-the-lifespan-workshop-for-nurses/
LOCATION:Monmouth Park Corporate Center
CATEGORIES:Alumni,Community Member,School of Nursing and Health Studies
ATTACH;FMTTYPE=image/jpeg:https://www.monmouth.edu/events/wp-content/uploads/sites/19/2018/07/mu-placeholder.jpg
END:VEVENT
BEGIN:VEVENT
DTSTART;TZID=America/New_York:20170622T090000
DTEND;TZID=America/New_York:20170622T090000
DTSTAMP:20260423T125804
CREATED:20180725T203739Z
LAST-MODIFIED:20190304T162436Z
UID:40810101326-1498122000-1498122000@www.monmouth.edu
SUMMARY:Pediatric Physical Assessment
DESCRIPTION:This course is one of the most popular continuing education programs offered by the School of Nursing. The instructor will focus on basic clinical evaluation of the school age child including both normal and abnormal findings. The material covered will primarily focus on disease and disorders frequently observed in the school age child. \nCOURSE OBJECTIVES: \n\nDescribe the procedure for conducting a physical exam on a school age child\nDiscuss normal and abnormal findings in health screenings\nDemonstrate the procedure for the assessment of the ear\nIdentify common pediatric disorders\nArticulate appropriate guidelines for referral\n\nFee: $95(a light lunch is included in the program fee) \nThis program will provide 5 contact hours for nurses. \nFor more information\, contact Barbara Paskewich\, MSN\,RN\, MA\, CHES\, Director of Professional Development and Special Projects\, at 732-571-3694 or bpaskewi@monmouth.edu. \nRegister Online Now
URL:https://www.monmouth.edu/events/event/pediatric-physical-assessment-2/
LOCATION:McAllan Hall
CATEGORIES:Alumni,Community Member,School of Nursing and Health Studies
ATTACH;FMTTYPE=image/png:https://www.monmouth.edu/events/wp-content/uploads/sites/19/2018/07/PediPhysicalAssessment.png
END:VEVENT
END:VCALENDAR