BEGIN:VCALENDAR
VERSION:2.0
PRODID:-//Events - ECPv6.15.20//NONSGML v1.0//EN
CALSCALE:GREGORIAN
METHOD:PUBLISH
X-WR-CALNAME:Events
X-ORIGINAL-URL:https://www.monmouth.edu/events
X-WR-CALDESC:Events for Events
REFRESH-INTERVAL;VALUE=DURATION:PT1H
X-Robots-Tag:noindex
X-PUBLISHED-TTL:PT1H
BEGIN:VTIMEZONE
TZID:America/New_York
BEGIN:DAYLIGHT
TZOFFSETFROM:-0500
TZOFFSETTO:-0400
TZNAME:EDT
DTSTART:20160313T070000
END:DAYLIGHT
BEGIN:STANDARD
TZOFFSETFROM:-0400
TZOFFSETTO:-0500
TZNAME:EST
DTSTART:20161106T060000
END:STANDARD
BEGIN:DAYLIGHT
TZOFFSETFROM:-0500
TZOFFSETTO:-0400
TZNAME:EDT
DTSTART:20170312T070000
END:DAYLIGHT
BEGIN:STANDARD
TZOFFSETFROM:-0400
TZOFFSETTO:-0500
TZNAME:EST
DTSTART:20171105T060000
END:STANDARD
BEGIN:DAYLIGHT
TZOFFSETFROM:-0500
TZOFFSETTO:-0400
TZNAME:EDT
DTSTART:20180311T070000
END:DAYLIGHT
BEGIN:STANDARD
TZOFFSETFROM:-0400
TZOFFSETTO:-0500
TZNAME:EST
DTSTART:20181104T060000
END:STANDARD
END:VTIMEZONE
BEGIN:VEVENT
DTSTART;TZID=America/New_York:20170517T090000
DTEND;TZID=America/New_York:20170517T153000
DTSTAMP:20260424T083501
CREATED:20180725T203741Z
LAST-MODIFIED:20190301T202345Z
UID:40810101332-1495011600-1495035000@www.monmouth.edu
SUMMARY:Substitute School Nurse Workshop
DESCRIPTION:Substitute Nurses are needed in many school districts! This class is designed to present an overview of the responsibilities of the Substitute School Nurse. The Instructors will introduce key areas specific to the care of the child in the school setting. \nCOURSE OBJECTIVES: \n\nDescribe requirements for School Nursing and employment opportunities\nReview tips and techniques for the management of the school health office\nDiscuss documentation guidelines\nCompare district policies for the management of common school health concerns\nDiscuss diabetes management (nutrition and insulin pumps)\nDescribe emergency protocols (epi-pen\, glucagon\, & nebulizer)\n\nFee: $90 (a light lunch is included in the program fee) \nThis program will provide 5.5 contact hours \nFor more information\, contact Barbara Paskewich\, MSN\,RN\, MA\, CHES\, Director of Professional Development and Special Projects\, at 732-571-3694 or bpaskewi@monmouth.edu. \nRegister Online Now
URL:https://www.monmouth.edu/events/event/substitute-school-nurse-workshop/
LOCATION:Magill Commons
CATEGORIES:Alumni,Community Member,Faculty,School of Nursing and Health Studies
ATTACH;FMTTYPE=image/png:https://www.monmouth.edu/events/wp-content/uploads/sites/19/2018/07/SubstituteSchoolNurse.png
END:VEVENT
BEGIN:VEVENT
DTSTART;TZID=America/New_York:20170523T083000
DTEND;TZID=America/New_York:20170524T173000
DTSTAMP:20260424T083501
CREATED:20180725T203740Z
LAST-MODIFIED:20180725T203740Z
UID:40810101329-1495528200-1495647000@www.monmouth.edu
SUMMARY:Adult/Adolescent Sexual Assault Forensic Examiner (SAFE) Clinical Skills Training (IAFN)
DESCRIPTION:The purpose of this program is to prepare the registered nurse for the clinical aspects of the adult/adolescent sexual assault medical-forensic examination. Participation is limited to nurses who have completed a didactic course of SANE/SAFE training. \nThis 2-day live training experience provides the attendee with an opportunity to observe and demonstrate clinical skills used during the assessment and treatment of adolescent and adult victims of sexual assault. \nParticipants will observe and demonstrate the following techniques: \n\nSpecimen collection and packaging\nPhoto-documentation of findings\nGenital inspection and pelvic examination\nThe use of supplies and equipment specific to completion of a forensic medical sexual assault evaluation.\n\nFee: $450 \n16.0 nursing continuing education contact hours will be provided by the International Association of Forensic Nurses (IAFN). Participants must provide verification of active registered nursing license. \nFor more information\, please contact Barbara Paskewich\, MSN\,RN\, MA\, CHES\, Director of Professional Development and Special Projects\, at 732-571-3694 or bpaskewi@monmouth.edu. \nRegister Online
URL:https://www.monmouth.edu/events/event/adult-adolescent-sexual-assault-forensic-examiner-safe-clinical-skills-training-iafn/
CATEGORIES:Alumni,Community Member,School of Nursing and Health Studies
ATTACH;FMTTYPE=image/png:https://www.monmouth.edu/events/wp-content/uploads/sites/19/2018/07/SAFEworkshop.png
END:VEVENT
END:VCALENDAR