BEGIN:VCALENDAR
VERSION:2.0
PRODID:-//Events - ECPv6.15.20//NONSGML v1.0//EN
CALSCALE:GREGORIAN
METHOD:PUBLISH
X-WR-CALNAME:Events
X-ORIGINAL-URL:https://www.monmouth.edu/events
X-WR-CALDESC:Events for Events
REFRESH-INTERVAL;VALUE=DURATION:PT1H
X-Robots-Tag:noindex
X-PUBLISHED-TTL:PT1H
BEGIN:VTIMEZONE
TZID:America/New_York
BEGIN:DAYLIGHT
TZOFFSETFROM:-0500
TZOFFSETTO:-0400
TZNAME:EDT
DTSTART:20160313T070000
END:DAYLIGHT
BEGIN:STANDARD
TZOFFSETFROM:-0400
TZOFFSETTO:-0500
TZNAME:EST
DTSTART:20161106T060000
END:STANDARD
BEGIN:DAYLIGHT
TZOFFSETFROM:-0500
TZOFFSETTO:-0400
TZNAME:EDT
DTSTART:20170312T070000
END:DAYLIGHT
BEGIN:STANDARD
TZOFFSETFROM:-0400
TZOFFSETTO:-0500
TZNAME:EST
DTSTART:20171105T060000
END:STANDARD
BEGIN:DAYLIGHT
TZOFFSETFROM:-0500
TZOFFSETTO:-0400
TZNAME:EDT
DTSTART:20180311T070000
END:DAYLIGHT
BEGIN:STANDARD
TZOFFSETFROM:-0400
TZOFFSETTO:-0500
TZNAME:EST
DTSTART:20181104T060000
END:STANDARD
END:VTIMEZONE
BEGIN:VEVENT
DTSTART;TZID=America/New_York:20170418T180000
DTEND;TZID=America/New_York:20170418T193000
DTSTAMP:20260425T083606
CREATED:20180725T203800Z
LAST-MODIFIED:20190909T203449Z
UID:40810101371-1492538400-1492543800@www.monmouth.edu
SUMMARY:Monmouth Lecture Series: Yvonne Thornton M.D. '69
DESCRIPTION:Presented by The Marjorie K. Unterberg School of Nursing and Health Studies \n\nTuesday\, April 18\, 2017 \nTurning Stumbling Blocks into Stepping Stones\nYvonne Thornton M.D. ‘69\nDouble Board-Certified Specialist in Obstetrics\, Gynecology and Maternal-Fetal Medicine \nScience Building Multipurpose Room \n6:00 p.m. – 7:30 p.m. \nAbout This Lecture \nFrom the footlights of the Apollo Theatre where she performed with her family band known as “The Thornton Sisters” to the operating theater of an Ivy League medical school\, Dr. Yvonne Thornton relied on her father’s life lessons\, which taught her to be strong and rise above adversity. She has managed more than 12\,000 deliveries and has personally delivered more than 5\,000 babies in her career. As a Monmouth University alumna and former University Trustee\, Dr. Thornton will serve as a kindling force that will ignite a fire within the audience to go forward and achieve their dreams. We will discuss her journey of how she rose from poverty to prosperity and made that quantum leap up the social mobility ladder in one generation. \nInformation and Registration
URL:https://www.monmouth.edu/events/event/monmouth-lecture-series-yvonne-thornton-m-d-69/
LOCATION:Edison Science Hall Multipurpose Room 201
CATEGORIES:Alumni,Community Member,Current Student,Faculty,School of Nursing and Health Studies
ATTACH;FMTTYPE=image/png:https://www.monmouth.edu/events/wp-content/uploads/sites/19/2018/07/YvonneThorntonMD.png
END:VEVENT
BEGIN:VEVENT
DTSTART;TZID=America/New_York:20170426T173000
DTEND;TZID=America/New_York:20170426T203000
DTSTAMP:20260425T083606
CREATED:20180725T203742Z
LAST-MODIFIED:20190301T202422Z
UID:40810101335-1493227800-1493238600@www.monmouth.edu
SUMMARY:Diabetes Management in the School Age Child
DESCRIPTION:From gym class to glucose monitoring\, this continuing education program is designed to provide guidelines for the management and support of the school age child with diabetes. A focus will be on the techniques used to balance insulin and nutritional needs with school activities. Acute and chronic complications will be discussed as well as prevention and health promotion strategies. Current references and resources will be provided. \nTopics will include: \n\nThe diabetes disease process\nBrief overview of Insulin and Insulin pumps\nGlucose monitoring\nGlycemic control\nPhysical activity\nGuidelines for referral\n\nFee: $65/$50 for MU Students (A light dinner is included in the program fee) \nThis program will provide 3 contact hours for nurses. \nFor more information\, contact Barbara Paskewich\, MSN\,RN\, MA\, CHES\, Director of Professional Development and Special Projects\, at 732-571-3694 or bpaskewi@monmouth.edu. \nRegister Online Now
URL:https://www.monmouth.edu/events/event/diabetes-management-in-the-school-age-child/
LOCATION:Magill Commons
CATEGORIES:Alumni,Community Member,Current Student,School of Nursing and Health Studies
ATTACH;FMTTYPE=image/png:https://www.monmouth.edu/events/wp-content/uploads/sites/19/2018/07/DiabetesManagementinSchoolAgeChild.png
END:VEVENT
END:VCALENDAR